BEGIN:VCALENDAR
VERSION:2.0
PRODID:-//Ballet Tech - ECPv6.15.18//NONSGML v1.0//EN
CALSCALE:GREGORIAN
METHOD:PUBLISH
X-WR-CALNAME:Ballet Tech
X-ORIGINAL-URL:https://ballettech.org/ar/
X-WR-CALDESC:Events for Ballet Tech
REFRESH-INTERVAL;VALUE=DURATION:PT1H
X-Robots-Tag:noindex
X-PUBLISHED-TTL:PT1H
BEGIN:VTIMEZONE
TZID:America/New_York
BEGIN:DAYLIGHT
TZOFFSETFROM:-0500
TZOFFSETTO:-0400
TZNAME:EDT
DTSTART:20230312T070000
END:DAYLIGHT
BEGIN:STANDARD
TZOFFSETFROM:-0400
TZOFFSETTO:-0500
TZNAME:EST
DTSTART:20231105T060000
END:STANDARD
BEGIN:DAYLIGHT
TZOFFSETFROM:-0500
TZOFFSETTO:-0400
TZNAME:EDT
DTSTART:20240310T070000
END:DAYLIGHT
BEGIN:STANDARD
TZOFFSETFROM:-0400
TZOFFSETTO:-0500
TZNAME:EST
DTSTART:20241103T060000
END:STANDARD
BEGIN:DAYLIGHT
TZOFFSETFROM:-0500
TZOFFSETTO:-0400
TZNAME:EDT
DTSTART:20250309T070000
END:DAYLIGHT
BEGIN:STANDARD
TZOFFSETFROM:-0400
TZOFFSETTO:-0500
TZNAME:EST
DTSTART:20251102T060000
END:STANDARD
END:VTIMEZONE
BEGIN:VEVENT
DTSTART;TZID=America/New_York:20241116T070000
DTEND;TZID=America/New_York:20241116T083000
DTSTAMP:20260423T001514
CREATED:20241112T200544Z
LAST-MODIFIED:20241126T083349Z
UID:10002139-1731740400-1731745800@ballettech.org
SUMMARY:فئة الخريجين - معاصر مع ماري لين جريفز
DESCRIPTION:
URL:https://ballettech.org/ar/event/%d9%81%d8%a6%d8%a9-%d8%a7%d9%84%d8%ae%d8%b1%d9%8a%d8%ac%d9%8a%d9%86-%d9%85%d8%b9%d8%a7%d8%b5%d8%b1-%d9%85%d8%b9-%d9%85%d8%a7%d8%b1%d9%8a-%d9%84%d9%8a%d9%86-%d8%ac%d8%b1%d9%8a%d9%81%d8%b2/
CATEGORIES:برنامج رقص الخريجين
END:VEVENT
BEGIN:VEVENT
DTSTART;TZID=America/New_York:20241111T000000
DTEND;TZID=America/New_York:20241111T235959
DTSTAMP:20260423T001514
CREATED:20240815T221001Z
LAST-MODIFIED:20241126T083644Z
UID:10002662-1731283200-1731369599@ballettech.org
SUMMARY:يوم المحاربين القدامى - المدرسة مغلقة
DESCRIPTION:
URL:https://ballettech.org/ar/event/%d9%8a%d9%88%d9%85-%d8%a7%d9%84%d9%85%d8%ad%d8%a7%d8%b1%d8%a8%d9%8a%d9%86-%d8%a7%d9%84%d9%82%d8%af%d8%a7%d9%85%d9%89-%d8%a7%d9%84%d9%85%d8%af%d8%b1%d8%b3%d8%a9-%d9%85%d8%ba%d9%84%d9%82%d8%a9/
END:VEVENT
BEGIN:VEVENT
DTSTART;TZID=America/New_York:20241109T070000
DTEND;TZID=America/New_York:20241109T083000
DTSTAMP:20260423T001514
CREATED:20241112T200426Z
LAST-MODIFIED:20241126T083347Z
UID:10002134-1731135600-1731141000@ballettech.org
SUMMARY:K-Pop مع آسيا ييو
DESCRIPTION:
URL:https://ballettech.org/ar/event/k-pop-%d9%85%d8%b9-%d8%a2%d8%b3%d9%8a%d8%a7-%d9%8a%d9%8a%d9%88/
CATEGORIES:برنامج رقص الخريجين
END:VEVENT
BEGIN:VEVENT
DTSTART;TZID=America/New_York:20241107T130000
DTEND;TZID=America/New_York:20241107T160000
DTSTAMP:20260423T001514
CREATED:20240815T220804Z
LAST-MODIFIED:20241126T083513Z
UID:10002383-1730984400-1730995200@ballettech.org
SUMMARY:مؤتمرات الآباء والمعلمين (بعد الظهر)
DESCRIPTION:
URL:https://ballettech.org/ar/event/%d9%85%d8%a4%d8%aa%d9%85%d8%b1%d8%a7%d8%aa-%d8%a7%d9%84%d8%a2%d8%a8%d8%a7%d8%a1-%d9%88%d8%a7%d9%84%d9%85%d8%b9%d9%84%d9%85%d9%8a%d9%86-%d8%a8%d8%b9%d8%af-%d8%a7%d9%84%d8%b8%d9%87%d8%b1/
END:VEVENT
BEGIN:VEVENT
DTSTART;TZID=America/New_York:20241107T000000
DTEND;TZID=America/New_York:20241107T235959
DTSTAMP:20260423T001514
CREATED:20240815T220849Z
LAST-MODIFIED:20241126T083515Z
UID:10002387-1730937600-1731023999@ballettech.org
SUMMARY:الفصل المبكر
DESCRIPTION:الفصل من المدرسة الابتدائية: 11:35 صباحا \nالفصل من المدرسة المتوسطة: 11:40 صباحا
URL:https://ballettech.org/ar/event/%d8%a7%d9%84%d9%81%d8%b5%d9%84-%d8%a7%d9%84%d9%85%d8%a8%d9%83%d8%b1/
END:VEVENT
BEGIN:VEVENT
DTSTART;TZID=America/New_York:20241106T160000
DTEND;TZID=America/New_York:20241106T190000
DTSTAMP:20260423T001514
CREATED:20240815T220713Z
LAST-MODIFIED:20241126T083619Z
UID:10002602-1730908800-1730919600@ballettech.org
SUMMARY:مؤتمرات الآباء والمعلمين (مسائي)
DESCRIPTION:
URL:https://ballettech.org/ar/event/%d9%85%d8%a4%d8%aa%d9%85%d8%b1%d8%a7%d8%aa-%d8%a7%d9%84%d8%a2%d8%a8%d8%a7%d8%a1-%d9%88%d8%a7%d9%84%d9%85%d8%b9%d9%84%d9%85%d9%8a%d9%86-%d9%85%d8%b3%d8%a7%d8%a6%d9%8a/
END:VEVENT
BEGIN:VEVENT
DTSTART;TZID=America/New_York:20241105T000000
DTEND;TZID=America/New_York:20241105T235959
DTSTAMP:20260423T001514
CREATED:20240815T220543Z
LAST-MODIFIED:20241126T083617Z
UID:10002589-1730764800-1730851199@ballettech.org
SUMMARY:يوم الانتخابات - لا توجد فصول دراسية
DESCRIPTION:
URL:https://ballettech.org/ar/event/%d9%8a%d9%88%d9%85-%d8%a7%d9%84%d8%a7%d9%86%d8%aa%d8%ae%d8%a7%d8%a8%d8%a7%d8%aa-%d9%84%d8%a7-%d8%aa%d9%88%d8%ac%d8%af-%d9%81%d8%b5%d9%88%d9%84-%d8%af%d8%b1%d8%a7%d8%b3%d9%8a%d8%a9/
END:VEVENT
BEGIN:VEVENT
DTSTART;TZID=America/New_York:20241102T070000
DTEND;TZID=America/New_York:20241102T083000
DTSTAMP:20260423T001514
CREATED:20241112T200144Z
LAST-MODIFIED:20241126T083324Z
UID:10002056-1730530800-1730536200@ballettech.org
SUMMARY:باليه مع أليكس برادي
DESCRIPTION:
URL:https://ballettech.org/ar/event/%d8%a8%d8%a7%d9%84%d9%8a%d9%87-%d9%85%d8%b9-%d8%a3%d9%84%d9%8a%d9%83%d8%b3-%d8%a8%d8%b1%d8%a7%d8%af%d9%8a/
CATEGORIES:برنامج رقص الخريجين
END:VEVENT
BEGIN:VEVENT
DTSTART;TZID=America/New_York:20241031T230000
DTEND;TZID=America/New_York:20241101T225959
DTSTAMP:20260423T001514
CREATED:20240815T220112Z
LAST-MODIFIED:20241126T083640Z
UID:10002643-1730415600-1730501999@ballettech.org
SUMMARY:ديوالي - المدرسة مغلقة
DESCRIPTION:
URL:https://ballettech.org/ar/event/%d8%af%d9%8a%d9%88%d8%a7%d9%84%d9%8a-%d8%a7%d9%84%d9%85%d8%af%d8%b1%d8%b3%d8%a9-%d9%85%d8%ba%d9%84%d9%82%d8%a9/
END:VEVENT
BEGIN:VEVENT
DTSTART;TZID=America/New_York:20241030T230000
DTEND;TZID=America/New_York:20241031T225959
DTSTAMP:20260423T001514
CREATED:20240829T172928Z
LAST-MODIFIED:20241126T083619Z
UID:10002598-1730329200-1730415599@ballettech.org
SUMMARY:هالوين
DESCRIPTION:
URL:https://ballettech.org/ar/event/%d9%87%d8%a7%d9%84%d9%88%d9%8a%d9%86/
END:VEVENT
BEGIN:VEVENT
DTSTART;TZID=America/New_York:20241029T230000
DTEND;TZID=America/New_York:20241030T225959
DTSTAMP:20260423T001514
CREATED:20240909T230816Z
LAST-MODIFIED:20241126T083725Z
UID:10002791-1730242800-1730329199@ballettech.org
SUMMARY:إدارة SHSAT (الصف 8)
DESCRIPTION:
URL:https://ballettech.org/ar/event/%d8%a5%d8%af%d8%a7%d8%b1%d8%a9-shsat-%d8%a7%d9%84%d8%b5%d9%81-8/
END:VEVENT
BEGIN:VEVENT
DTSTART;TZID=America/New_York:20241028T230000
DTEND;TZID=America/New_York:20241029T225959
DTSTAMP:20260423T001514
CREATED:20240904T202353Z
LAST-MODIFIED:20241126T083453Z
UID:10002322-1730156400-1730242799@ballettech.org
SUMMARY:يوم التصوير
DESCRIPTION:
URL:https://ballettech.org/ar/event/%d9%8a%d9%88%d9%85-%d8%a7%d9%84%d8%aa%d8%b5%d9%88%d9%8a%d8%b1/
END:VEVENT
BEGIN:VEVENT
DTSTART;TZID=America/New_York:20241015T230000
DTEND;TZID=America/New_York:20241016T225959
DTSTAMP:20260423T001514
CREATED:20240829T172857Z
LAST-MODIFIED:20241126T083703Z
UID:10002728-1729033200-1729119599@ballettech.org
SUMMARY:اليوم الأول من الخريف مقدمة لبرنامج الباليه (مؤسسة BT)
DESCRIPTION:
URL:https://ballettech.org/ar/event/%d8%a7%d9%84%d9%8a%d9%88%d9%85-%d8%a7%d9%84%d8%a3%d9%88%d9%84-%d9%85%d9%86-%d8%a7%d9%84%d8%ae%d8%b1%d9%8a%d9%81-%d9%85%d9%82%d8%af%d9%85%d8%a9-%d9%84%d8%a8%d8%b1%d9%86%d8%a7%d9%85%d8%ac-%d8%a7%d9%84/
END:VEVENT
BEGIN:VEVENT
DTSTART;TZID=America/New_York:20241015T170000
DTEND;TZID=America/New_York:20241015T183000
DTSTAMP:20260423T001514
CREATED:20240829T173007Z
LAST-MODIFIED:20241126T083334Z
UID:10002089-1729011600-1729017000@ballettech.org
SUMMARY:اجتماع PTA
DESCRIPTION:
URL:https://ballettech.org/ar/event/%d8%a7%d8%ac%d8%aa%d9%85%d8%a7%d8%b9-pta/
END:VEVENT
BEGIN:VEVENT
DTSTART;TZID=America/New_York:20241015T150000
DTEND;TZID=America/New_York:20241015T160000
DTSTAMP:20260423T001514
CREATED:20240910T214409Z
LAST-MODIFIED:20241126T083304Z
UID:10001986-1729004400-1729008000@ballettech.org
SUMMARY:اجتماع SLT
DESCRIPTION:
URL:https://ballettech.org/ar/event/%d8%a7%d8%ac%d8%aa%d9%85%d8%a7%d8%b9-slt/
END:VEVENT
BEGIN:VEVENT
DTSTART;TZID=America/New_York:20241013T230000
DTEND;TZID=America/New_York:20241014T225959
DTSTAMP:20260423T001514
CREATED:20240815T220024Z
LAST-MODIFIED:20241126T083358Z
UID:10002171-1728860400-1728946799@ballettech.org
SUMMARY:التراث الإيطالي / يوم الشعوب الأصلية - المدرسة مغلقة
DESCRIPTION:
URL:https://ballettech.org/ar/event/%d8%a7%d9%84%d8%aa%d8%b1%d8%a7%d8%ab-%d8%a7%d9%84%d8%a5%d9%8a%d8%b7%d8%a7%d9%84%d9%8a-%d9%8a%d9%88%d9%85-%d8%a7%d9%84%d8%b4%d8%b9%d9%88%d8%a8-%d8%a7%d9%84%d8%a3%d8%b5%d9%84%d9%8a%d8%a9-%d8%a7/
CATEGORIES:العطل
END:VEVENT
BEGIN:VEVENT
DTSTART;TZID=America/New_York:20241002T230000
DTEND;TZID=America/New_York:20241004T225959
DTSTAMP:20260423T001514
CREATED:20240815T215930Z
LAST-MODIFIED:20241126T083331Z
UID:10002078-1727910000-1728082799@ballettech.org
SUMMARY:روش هاشاناه -- المدرسة مغلقة
DESCRIPTION:
URL:https://ballettech.org/ar/event/%d8%b1%d9%88%d8%b4-%d9%87%d8%a7%d8%b4%d8%a7%d9%86%d8%a7%d9%87-%d8%a7%d9%84%d9%85%d8%af%d8%b1%d8%b3%d8%a9-%d9%85%d8%ba%d9%84%d9%82%d8%a9/
END:VEVENT
BEGIN:VEVENT
DTSTART;TZID=America/New_York:20240925T163000
DTEND;TZID=America/New_York:20240925T173000
DTSTAMP:20260423T001514
CREATED:20240829T172122Z
LAST-MODIFIED:20241126T083610Z
UID:10002575-1727281800-1727285400@ballettech.org
SUMMARY:ورشة عمل هاركنيس الافتراضية للتغذية للعائلات
DESCRIPTION:
URL:https://ballettech.org/ar/event/%d9%88%d8%b1%d8%b4%d8%a9-%d8%b9%d9%85%d9%84-%d9%87%d8%a7%d8%b1%d9%83%d9%86%d9%8a%d8%b3-%d8%a7%d9%84%d8%a7%d9%81%d8%aa%d8%b1%d8%a7%d8%b6%d9%8a%d8%a9-%d9%84%d9%84%d8%aa%d8%ba%d8%b0%d9%8a%d8%a9-%d9%84/
END:VEVENT
BEGIN:VEVENT
DTSTART;TZID=America/New_York:20240917T170000
DTEND;TZID=America/New_York:20240917T180000
DTSTAMP:20260423T001514
CREATED:20240829T172049Z
LAST-MODIFIED:20241126T083607Z
UID:10002558-1726592400-1726596000@ballettech.org
SUMMARY:اجتماع PTA
DESCRIPTION:
URL:https://ballettech.org/ar/event/%d8%a7%d8%ac%d8%aa%d9%85%d8%a7%d8%b9-pta-8/
END:VEVENT
BEGIN:VEVENT
DTSTART;TZID=America/New_York:20240917T150000
DTEND;TZID=America/New_York:20240917T160000
DTSTAMP:20260423T001514
CREATED:20240829T172027Z
LAST-MODIFIED:20241126T083604Z
UID:10002551-1726585200-1726588800@ballettech.org
SUMMARY:اجتماع SLT
DESCRIPTION:
URL:https://ballettech.org/ar/event/%d8%a7%d8%ac%d8%aa%d9%85%d8%a7%d8%b9-slt-10/
END:VEVENT
BEGIN:VEVENT
DTSTART;TZID=America/New_York:20240912T163000
DTEND;TZID=America/New_York:20240912T180000
DTSTAMP:20260423T001514
CREATED:20240815T215840Z
LAST-MODIFIED:20241126T083329Z
UID:10002072-1726158600-1726164000@ballettech.org
SUMMARY:تعرف على ليلة المعلمين
DESCRIPTION:
URL:https://ballettech.org/ar/event/%d8%aa%d8%b9%d8%b1%d9%81-%d8%b9%d9%84%d9%89-%d9%84%d9%8a%d9%84%d8%a9-%d8%a7%d9%84%d9%85%d8%b9%d9%84%d9%85%d9%8a%d9%86/
END:VEVENT
END:VCALENDAR