BEGIN:VCALENDAR
VERSION:2.0
PRODID:-//Ballet Tech - ECPv6.15.18//NONSGML v1.0//EN
CALSCALE:GREGORIAN
METHOD:PUBLISH
X-WR-CALNAME:Ballet Tech
X-ORIGINAL-URL:https://ballettech.org/ar/
X-WR-CALDESC:Events for Ballet Tech
REFRESH-INTERVAL;VALUE=DURATION:PT1H
X-Robots-Tag:noindex
X-PUBLISHED-TTL:PT1H
BEGIN:VTIMEZONE
TZID:America/New_York
BEGIN:DAYLIGHT
TZOFFSETFROM:-0500
TZOFFSETTO:-0400
TZNAME:EDT
DTSTART:20240310T070000
END:DAYLIGHT
BEGIN:STANDARD
TZOFFSETFROM:-0400
TZOFFSETTO:-0500
TZNAME:EST
DTSTART:20241103T060000
END:STANDARD
BEGIN:DAYLIGHT
TZOFFSETFROM:-0500
TZOFFSETTO:-0400
TZNAME:EDT
DTSTART:20250309T070000
END:DAYLIGHT
BEGIN:STANDARD
TZOFFSETFROM:-0400
TZOFFSETTO:-0500
TZNAME:EST
DTSTART:20251102T060000
END:STANDARD
BEGIN:DAYLIGHT
TZOFFSETFROM:-0500
TZOFFSETTO:-0400
TZNAME:EDT
DTSTART:20260308T070000
END:DAYLIGHT
BEGIN:STANDARD
TZOFFSETFROM:-0400
TZOFFSETTO:-0500
TZNAME:EST
DTSTART:20261101T060000
END:STANDARD
END:VTIMEZONE
BEGIN:VEVENT
DTSTART;TZID=America/New_York:20250529T173000
DTEND;TZID=America/New_York:20250529T180000
DTSTAMP:20260422T071317
CREATED:20240829T184708Z
LAST-MODIFIED:20241126T083433Z
UID:10002252-1748539800-1748541600@ballettech.org
SUMMARY:اجتماع PTA
DESCRIPTION:
URL:https://ballettech.org/ar/event/%d8%a7%d8%ac%d8%aa%d9%85%d8%a7%d8%b9-pta-6/
END:VEVENT
BEGIN:VEVENT
DTSTART;TZID=America/New_York:20250525T230000
DTEND;TZID=America/New_York:20250526T225959
DTSTAMP:20260422T071317
CREATED:20240815T222515Z
LAST-MODIFIED:20241126T083555Z
UID:10002519-1748214000-1748300399@ballettech.org
SUMMARY:يوم الذكرى - المدرسة مغلقة
DESCRIPTION:
URL:https://ballettech.org/ar/event/%d9%8a%d9%88%d9%85-%d8%a7%d9%84%d8%b0%d9%83%d8%b1%d9%89-%d8%a7%d9%84%d9%85%d8%af%d8%b1%d8%b3%d8%a9-%d9%85%d8%ba%d9%84%d9%82%d8%a9/
END:VEVENT
BEGIN:VEVENT
DTSTART;TZID=America/New_York:20250522T163000
DTEND;TZID=America/New_York:20250522T183000
DTSTAMP:20260422T071317
CREATED:20240910T215157Z
LAST-MODIFIED:20241126T083322Z
UID:10002052-1747931400-1747938600@ballettech.org
SUMMARY:ليلة الفنون
DESCRIPTION:
URL:https://ballettech.org/ar/event/%d9%84%d9%8a%d9%84%d8%a9-%d8%a7%d9%84%d9%81%d9%86%d9%88%d9%86/
END:VEVENT
BEGIN:VEVENT
DTSTART;TZID=America/New_York:20250522T150000
DTEND;TZID=America/New_York:20250522T160000
DTSTAMP:20260422T071317
CREATED:20240910T215041Z
LAST-MODIFIED:20241126T083317Z
UID:10002034-1747926000-1747929600@ballettech.org
SUMMARY:اجتماع SLT
DESCRIPTION:
URL:https://ballettech.org/ar/event/%d8%a7%d8%ac%d8%aa%d9%85%d8%a7%d8%b9-slt-6/
END:VEVENT
BEGIN:VEVENT
DTSTART;TZID=America/New_York:20250514T230000
DTEND;TZID=America/New_York:20250515T225959
DTSTAMP:20260422T071317
CREATED:20240909T231446Z
LAST-MODIFIED:20241126T083533Z
UID:10002450-1747263600-1747349999@ballettech.org
SUMMARY:امتحان العلوم NYS (الصف 5)
DESCRIPTION:
URL:https://ballettech.org/ar/event/%d8%a7%d9%85%d8%aa%d8%ad%d8%a7%d9%86-%d8%a7%d9%84%d8%b9%d9%84%d9%88%d9%85-nys-%d8%a7%d9%84%d8%b5%d9%81-5/
END:VEVENT
BEGIN:VEVENT
DTSTART;TZID=America/New_York:20250512T230000
DTEND;TZID=America/New_York:20250514T225959
DTSTAMP:20260422T071317
CREATED:20240909T231420Z
LAST-MODIFIED:20241126T083731Z
UID:10002808-1747090800-1747263599@ballettech.org
SUMMARY:امتحانات الرياضيات في ولاية نيويورك (الصفوف 6 و 7)
DESCRIPTION:
URL:https://ballettech.org/ar/event/%d8%a7%d9%85%d8%aa%d8%ad%d8%a7%d9%86%d8%a7%d8%aa-%d8%a7%d9%84%d8%b1%d9%8a%d8%a7%d8%b6%d9%8a%d8%a7%d8%aa-%d9%81%d9%8a-%d9%88%d9%84%d8%a7%d9%8a%d8%a9-%d9%86%d9%8a%d9%88%d9%8a%d9%88%d8%b1%d9%83-%d8%a7-2/
END:VEVENT
BEGIN:VEVENT
DTSTART;TZID=America/New_York:20250510T140000
DTEND;TZID=America/New_York:20250510T141500
DTSTAMP:20260422T071317
CREATED:20240909T231349Z
LAST-MODIFIED:20241126T083531Z
UID:10002443-1746885600-1746886500@ballettech.org
SUMMARY:بلاي سكيب يؤدي
DESCRIPTION:
URL:https://ballettech.org/ar/event/%d8%a8%d9%84%d8%a7%d9%8a-%d8%b3%d9%83%d9%8a%d8%a8-%d9%8a%d8%a4%d8%af%d9%8a-4/
END:VEVENT
BEGIN:VEVENT
DTSTART;TZID=America/New_York:20250510T130000
DTEND;TZID=America/New_York:20250510T131500
DTSTAMP:20260422T071317
CREATED:20240909T231316Z
LAST-MODIFIED:20241126T083508Z
UID:10002375-1746882000-1746882900@ballettech.org
SUMMARY:بلاي سكيب يؤدي
DESCRIPTION:
URL:https://ballettech.org/ar/event/%d8%a8%d9%84%d8%a7%d9%8a-%d8%b3%d9%83%d9%8a%d8%a8-%d9%8a%d8%a4%d8%af%d9%8a-3/
END:VEVENT
BEGIN:VEVENT
DTSTART;TZID=America/New_York:20250509T140000
DTEND;TZID=America/New_York:20250509T141500
DTSTAMP:20260422T071317
CREATED:20240909T231248Z
LAST-MODIFIED:20241126T083504Z
UID:10002358-1746799200-1746800100@ballettech.org
SUMMARY:بلاي سكيب يؤدي
DESCRIPTION:
URL:https://ballettech.org/ar/event/%d8%a8%d9%84%d8%a7%d9%8a-%d8%b3%d9%83%d9%8a%d8%a8-%d9%8a%d8%a4%d8%af%d9%8a-2/
END:VEVENT
BEGIN:VEVENT
DTSTART;TZID=America/New_York:20250509T130000
DTEND;TZID=America/New_York:20250509T131500
DTSTAMP:20260422T071317
CREATED:20240909T231221Z
LAST-MODIFIED:20241126T083301Z
UID:10001975-1746795600-1746796500@ballettech.org
SUMMARY:بلاي سكيب يؤدي
DESCRIPTION:
URL:https://ballettech.org/ar/event/%d8%a8%d9%84%d8%a7%d9%8a-%d8%b3%d9%83%d9%8a%d8%a8-%d9%8a%d8%a4%d8%af%d9%8a/
END:VEVENT
BEGIN:VEVENT
DTSTART;TZID=America/New_York:20250507T230000
DTEND;TZID=America/New_York:20250508T225959
DTSTAMP:20260422T071317
CREATED:20240909T231130Z
LAST-MODIFIED:20241126T083502Z
UID:10002353-1746658800-1746745199@ballettech.org
SUMMARY:عروض بلاي سكيب: بروفة تقنية
DESCRIPTION:
URL:https://ballettech.org/ar/event/%d8%b9%d8%b1%d9%88%d8%b6-%d8%a8%d9%84%d8%a7%d9%8a-%d8%b3%d9%83%d9%8a%d8%a8-%d8%a8%d8%b1%d9%88%d9%81%d8%a9-%d8%aa%d9%82%d9%86%d9%8a%d8%a9/
END:VEVENT
BEGIN:VEVENT
DTSTART;TZID=America/New_York:20250505T230000
DTEND;TZID=America/New_York:20250507T225959
DTSTAMP:20260422T071317
CREATED:20240909T231059Z
LAST-MODIFIED:20241126T083729Z
UID:10002802-1746486000-1746658799@ballettech.org
SUMMARY:امتحانات الرياضيات في ولاية نيويورك (الصفوف 4 و 5)
DESCRIPTION:
URL:https://ballettech.org/ar/event/%d8%a7%d9%85%d8%aa%d8%ad%d8%a7%d9%86%d8%a7%d8%aa-%d8%a7%d9%84%d8%b1%d9%8a%d8%a7%d8%b6%d9%8a%d8%a7%d8%aa-%d9%81%d9%8a-%d9%88%d9%84%d8%a7%d9%8a%d8%a9-%d9%86%d9%8a%d9%88%d9%8a%d9%88%d8%b1%d9%83-%d8%a7/
END:VEVENT
BEGIN:VEVENT
DTSTART;TZID=America/New_York:20250430T230000
DTEND;TZID=America/New_York:20250502T225959
DTSTAMP:20260422T071317
CREATED:20240909T231032Z
LAST-MODIFIED:20241126T083301Z
UID:10001979-1746054000-1746226799@ballettech.org
SUMMARY:امتحانات NYS ELA (المدرسة المتوسطة)
DESCRIPTION:
URL:https://ballettech.org/ar/event/%d8%a7%d9%85%d8%aa%d8%ad%d8%a7%d9%86%d8%a7%d8%aa-nys-ela-%d8%a7%d9%84%d9%85%d8%af%d8%b1%d8%b3%d8%a9-%d8%a7%d9%84%d9%85%d8%aa%d9%88%d8%b3%d8%b7%d8%a9/
END:VEVENT
BEGIN:VEVENT
DTSTART;TZID=America/New_York:20250428T230000
DTEND;TZID=America/New_York:20250430T225959
DTSTAMP:20260422T071317
CREATED:20240909T230957Z
LAST-MODIFIED:20241126T083455Z
UID:10002327-1745881200-1746053999@ballettech.org
SUMMARY:امتحانات NYS ELA (الصفوف 4 و 5th)
DESCRIPTION:
URL:https://ballettech.org/ar/event/%d8%a7%d9%85%d8%aa%d8%ad%d8%a7%d9%86%d8%a7%d8%aa-nys-ela-%d8%a7%d9%84%d8%b5%d9%81%d9%88%d9%81-4-%d9%88-5th/
END:VEVENT
BEGIN:VEVENT
DTSTART;TZID=America/New_York:20250424T170000
DTEND;TZID=America/New_York:20250424T183000
DTSTAMP:20260422T071317
CREATED:20240829T183849Z
LAST-MODIFIED:20241126T083339Z
UID:10002112-1745514000-1745519400@ballettech.org
SUMMARY:اجتماع PTA
DESCRIPTION:
URL:https://ballettech.org/ar/event/%d8%a7%d8%ac%d8%aa%d9%85%d8%a7%d8%b9-pta-2/
END:VEVENT
BEGIN:VEVENT
DTSTART;TZID=America/New_York:20250424T150000
DTEND;TZID=America/New_York:20250424T160000
DTSTAMP:20260422T071317
CREATED:20240910T214942Z
LAST-MODIFIED:20241126T083316Z
UID:10002025-1745506800-1745510400@ballettech.org
SUMMARY:اجتماع SLT
DESCRIPTION:
URL:https://ballettech.org/ar/event/%d8%a7%d8%ac%d8%aa%d9%85%d8%a7%d8%b9-slt-5/
END:VEVENT
BEGIN:VEVENT
DTSTART;TZID=America/New_York:20250420T230000
DTEND;TZID=America/New_York:20250421T225959
DTSTAMP:20260422T071317
CREATED:20240815T222432Z
LAST-MODIFIED:20241126T083552Z
UID:10002515-1745190000-1745276399@ballettech.org
SUMMARY:استئناف الدراسة
DESCRIPTION:
URL:https://ballettech.org/ar/event/%d8%a7%d8%b3%d8%aa%d8%a6%d9%86%d8%a7%d9%81-%d8%a7%d9%84%d8%af%d8%b1%d8%a7%d8%b3%d8%a9-2/
END:VEVENT
BEGIN:VEVENT
DTSTART;TZID=America/New_York:20250413T230000
DTEND;TZID=America/New_York:20250418T225959
DTSTAMP:20260422T071317
CREATED:20240815T222413Z
LAST-MODIFIED:20241126T083654Z
UID:10002694-1744585200-1745017199@ballettech.org
SUMMARY:عطلة الربيع - المدرسة مغلقة
DESCRIPTION:
URL:https://ballettech.org/ar/event/%d8%b9%d8%b7%d9%84%d8%a9-%d8%a7%d9%84%d8%b1%d8%a8%d9%8a%d8%b9-%d8%a7%d9%84%d9%85%d8%af%d8%b1%d8%b3%d8%a9-%d9%85%d8%ba%d9%84%d9%82%d8%a9/
END:VEVENT
BEGIN:VEVENT
DTSTART;TZID=America/New_York:20250410T130000
DTEND;TZID=America/New_York:20250410T170000
DTSTAMP:20260422T071317
CREATED:20240829T183825Z
LAST-MODIFIED:20241126T083430Z
UID:10002241-1744290000-1744304400@ballettech.org
SUMMARY:رقصة الربيع
DESCRIPTION:
URL:https://ballettech.org/ar/event/%d8%b1%d9%82%d8%b5%d8%a9-%d8%a7%d9%84%d8%b1%d8%a8%d9%8a%d8%b9/
END:VEVENT
BEGIN:VEVENT
DTSTART;TZID=America/New_York:20250330T230000
DTEND;TZID=America/New_York:20250331T225959
DTSTAMP:20260422T071317
CREATED:20240815T221706Z
LAST-MODIFIED:20241126T083544Z
UID:10002484-1743375600-1743461999@ballettech.org
SUMMARY:عيد الفطر -- المدرسة مغلقة
DESCRIPTION:
URL:https://ballettech.org/ar/event/%d8%b9%d9%8a%d8%af-%d8%a7%d9%84%d9%81%d8%b7%d8%b1-%d8%a7%d9%84%d9%85%d8%af%d8%b1%d8%b3%d8%a9-%d9%85%d8%ba%d9%84%d9%82%d8%a9/
END:VEVENT
BEGIN:VEVENT
DTSTART;TZID=America/New_York:20250325T110000
DTEND;TZID=America/New_York:20250325T120000
DTSTAMP:20260422T071317
CREATED:20241114T231749Z
LAST-MODIFIED:20241126T083355Z
UID:10002163-1742900400-1742904000@ballettech.org
SUMMARY:الاختبارات المفتوحة 2024-25
DESCRIPTION:الاختبارات المفتوحة 2024-25 للطلاب المسجلين حاليا في الصف الثالث.
URL:https://ballettech.org/ar/event/%d8%a7%d9%84%d8%a7%d8%ae%d8%aa%d8%a8%d8%a7%d8%b1%d8%a7%d8%aa-%d8%a7%d9%84%d9%85%d9%81%d8%aa%d9%88%d8%ad%d8%a9-2024-25-2/
CATEGORIES:اختبار المدرسة الابتدائية
END:VEVENT
BEGIN:VEVENT
DTSTART;TZID=America/New_York:20250320T230000
DTEND;TZID=America/New_York:20250321T225959
DTSTAMP:20260422T071317
CREATED:20240815T221632Z
LAST-MODIFIED:20241126T083531Z
UID:10002444-1742511600-1742597999@ballettech.org
SUMMARY:نهاية فصل الشتاء / فترة الوسم 2
DESCRIPTION:
URL:https://ballettech.org/ar/event/%d9%86%d9%87%d8%a7%d9%8a%d8%a9-%d9%81%d8%b5%d9%84-%d8%a7%d9%84%d8%b4%d8%aa%d8%a7%d8%a1-%d9%81%d8%aa%d8%b1%d8%a9-%d8%a7%d9%84%d9%88%d8%b3%d9%85-2/
END:VEVENT
BEGIN:VEVENT
DTSTART;TZID=America/New_York:20250320T170000
DTEND;TZID=America/New_York:20250320T183000
DTSTAMP:20260422T071317
CREATED:20240829T182529Z
LAST-MODIFIED:20241126T083423Z
UID:10002223-1742490000-1742495400@ballettech.org
SUMMARY:اجتماع PTA
DESCRIPTION:
URL:https://ballettech.org/ar/event/%d8%a7%d8%ac%d8%aa%d9%85%d8%a7%d8%b9-pta-5/
END:VEVENT
BEGIN:VEVENT
DTSTART;TZID=America/New_York:20250320T150000
DTEND;TZID=America/New_York:20250320T160000
DTSTAMP:20260422T071317
CREATED:20240910T214823Z
LAST-MODIFIED:20241126T083312Z
UID:10002018-1742482800-1742486400@ballettech.org
SUMMARY:اجتماع SLT
DESCRIPTION:
URL:https://ballettech.org/ar/event/%d8%a7%d8%ac%d8%aa%d9%85%d8%a7%d8%b9-slt-4/
END:VEVENT
BEGIN:VEVENT
DTSTART;TZID=America/New_York:20250318T230000
DTEND;TZID=America/New_York:20250319T225959
DTSTAMP:20260422T071317
CREATED:20240829T182616Z
LAST-MODIFIED:20241126T083425Z
UID:10002227-1742338800-1742425199@ballettech.org
SUMMARY:اليوم الأخير من الشتاء مقدمة لبرنامج الباليه (مؤسسة BT)
DESCRIPTION:
URL:https://ballettech.org/ar/event/%d8%a7%d9%84%d9%8a%d9%88%d9%85-%d8%a7%d9%84%d8%a3%d8%ae%d9%8a%d8%b1-%d9%85%d9%86-%d8%a7%d9%84%d8%b4%d8%aa%d8%a7%d8%a1-%d9%85%d9%82%d8%af%d9%85%d8%a9-%d9%84%d8%a8%d8%b1%d9%86%d8%a7%d9%85%d8%ac-%d8%a7/
END:VEVENT
BEGIN:VEVENT
DTSTART;TZID=America/New_York:20250309T230000
DTEND;TZID=America/New_York:20250314T225959
DTSTAMP:20260422T071317
CREATED:20240829T182451Z
LAST-MODIFIED:20241126T083339Z
UID:10002106-1741561200-1741993199@ballettech.org
SUMMARY:أسبوع الفصل المفتوح (دروس الرقص فقط)
DESCRIPTION:
URL:https://ballettech.org/ar/event/%d8%a3%d8%b3%d8%a8%d9%88%d8%b9-%d8%a7%d9%84%d9%81%d8%b5%d9%84-%d8%a7%d9%84%d9%85%d9%81%d8%aa%d9%88%d8%ad-%d8%af%d8%b1%d9%88%d8%b3-%d8%a7%d9%84%d8%b1%d9%82%d8%b5-%d9%81%d9%82%d8%b7/
END:VEVENT
BEGIN:VEVENT
DTSTART;TZID=America/New_York:20250306T130000
DTEND;TZID=America/New_York:20250306T160000
DTSTAMP:20260422T071317
CREATED:20240815T221938Z
LAST-MODIFIED:20241126T083546Z
UID:10002491-1741266000-1741276800@ballettech.org
SUMMARY:مؤتمرات الآباء والمعلمين (بعد الظهر)
DESCRIPTION:
URL:https://ballettech.org/ar/event/%d9%85%d8%a4%d8%aa%d9%85%d8%b1%d8%a7%d8%aa-%d8%a7%d9%84%d8%a2%d8%a8%d8%a7%d8%a1-%d9%88%d8%a7%d9%84%d9%85%d8%b9%d9%84%d9%85%d9%8a%d9%86-%d8%a8%d8%b9%d8%af-%d8%a7%d9%84%d8%b8%d9%87%d8%b1-2/
END:VEVENT
BEGIN:VEVENT
DTSTART;TZID=America/New_York:20250306T000000
DTEND;TZID=America/New_York:20250306T235959
DTSTAMP:20260422T071318
CREATED:20240815T222012Z
LAST-MODIFIED:20241126T083548Z
UID:10002497-1741219200-1741305599@ballettech.org
SUMMARY:الفصل المبكر
DESCRIPTION:الفصل من المدرسة الابتدائية: 11:35 صباحا\nالفصل من المدرسة المتوسطة: 11:40 صباحا
URL:https://ballettech.org/ar/event/%d8%a7%d9%84%d9%81%d8%b5%d9%84-%d8%a7%d9%84%d9%85%d8%a8%d9%83%d8%b1-2/
END:VEVENT
BEGIN:VEVENT
DTSTART;TZID=America/New_York:20250305T160000
DTEND;TZID=America/New_York:20250305T190000
DTSTAMP:20260422T071318
CREATED:20240815T221756Z
LAST-MODIFIED:20241126T083654Z
UID:10002700-1741190400-1741201200@ballettech.org
SUMMARY:مؤتمرات الآباء والمعلمين (مسائي)
DESCRIPTION:
URL:https://ballettech.org/ar/event/%d9%85%d8%a4%d8%aa%d9%85%d8%b1%d8%a7%d8%aa-%d8%a7%d9%84%d8%a2%d8%a8%d8%a7%d8%a1-%d9%88%d8%a7%d9%84%d9%85%d8%b9%d9%84%d9%85%d9%8a%d9%86-%d9%85%d8%b3%d8%a7%d8%a6%d9%8a-2/
END:VEVENT
BEGIN:VEVENT
DTSTART;TZID=America/New_York:20250225T110000
DTEND;TZID=America/New_York:20250225T120000
DTSTAMP:20260422T071318
CREATED:20241114T231658Z
LAST-MODIFIED:20241126T083354Z
UID:10002158-1740481200-1740484800@ballettech.org
SUMMARY:الاختبارات المفتوحة 2024-25
DESCRIPTION:الاختبارات المفتوحة 2024-25 للطلاب المسجلين حاليا في الصف الثالث.
URL:https://ballettech.org/ar/event/%d8%a7%d9%84%d8%a7%d8%ae%d8%aa%d8%a8%d8%a7%d8%b1%d8%a7%d8%aa-%d8%a7%d9%84%d9%85%d9%81%d8%aa%d9%88%d8%ad%d8%a9-2024-25/
CATEGORIES:اختبار المدرسة الابتدائية
END:VEVENT
END:VCALENDAR