BEGIN:VCALENDAR
VERSION:2.0
PRODID:-//Ballet Tech - ECPv6.15.18//NONSGML v1.0//EN
CALSCALE:GREGORIAN
METHOD:PUBLISH
X-ORIGINAL-URL:https://ballettech.org/ar/
X-WR-CALDESC:Events for Ballet Tech
REFRESH-INTERVAL;VALUE=DURATION:PT1H
X-Robots-Tag:noindex
X-PUBLISHED-TTL:PT1H
BEGIN:VTIMEZONE
TZID:America/New_York
BEGIN:DAYLIGHT
TZOFFSETFROM:-0500
TZOFFSETTO:-0400
TZNAME:EDT
DTSTART:20240310T070000
END:DAYLIGHT
BEGIN:STANDARD
TZOFFSETFROM:-0400
TZOFFSETTO:-0500
TZNAME:EST
DTSTART:20241103T060000
END:STANDARD
BEGIN:DAYLIGHT
TZOFFSETFROM:-0500
TZOFFSETTO:-0400
TZNAME:EDT
DTSTART:20250309T070000
END:DAYLIGHT
BEGIN:STANDARD
TZOFFSETFROM:-0400
TZOFFSETTO:-0500
TZNAME:EST
DTSTART:20251102T060000
END:STANDARD
BEGIN:DAYLIGHT
TZOFFSETFROM:-0500
TZOFFSETTO:-0400
TZNAME:EDT
DTSTART:20260308T070000
END:DAYLIGHT
BEGIN:STANDARD
TZOFFSETFROM:-0400
TZOFFSETTO:-0500
TZNAME:EST
DTSTART:20261101T060000
END:STANDARD
END:VTIMEZONE
BEGIN:VEVENT
DTSTART;TZID=America/New_York:20250609T230000
DTEND;TZID=America/New_York:20250611T225959
DTSTAMP:20260422T043147
CREATED:20240829T185816Z
LAST-MODIFIED:20241126T083342Z
UID:10002116-1749510000-1749682799@ballettech.org
SUMMARY:رقص الأطفال: بروفات تقنية
DESCRIPTION:
URL:https://ballettech.org/ar/event/%d8%b1%d9%82%d8%b5-%d8%a7%d9%84%d8%a3%d8%b7%d9%81%d8%a7%d9%84-%d8%a8%d8%b1%d9%88%d9%81%d8%a7%d8%aa-%d8%aa%d9%82%d9%86%d9%8a%d8%a9/
END:VEVENT
BEGIN:VEVENT
DTSTART;TZID=America/New_York:20250610T081500
DTEND;TZID=America/New_York:20250610T094500
DTSTAMP:20260422T043147
CREATED:20240829T185739Z
LAST-MODIFIED:20241126T083434Z
UID:10002258-1749543300-1749548700@ballettech.org
SUMMARY:امتحان الحكام الأحياء (الصف 8)
DESCRIPTION:
URL:https://ballettech.org/ar/event/%d8%a7%d9%85%d8%aa%d8%ad%d8%a7%d9%86-%d8%a7%d9%84%d8%ad%d9%83%d8%a7%d9%85-%d8%a7%d9%84%d8%a3%d8%ad%d9%8a%d8%a7%d8%a1-%d8%a7%d9%84%d8%b5%d9%81-8/
END:VEVENT
BEGIN:VEVENT
DTSTART;TZID=America/New_York:20250612T180000
DTEND;TZID=America/New_York:20250612T200000
DTSTAMP:20260422T043147
CREATED:20240829T185943Z
LAST-MODIFIED:20241126T083438Z
UID:10002271-1749751200-1749758400@ballettech.org
SUMMARY:رقص الأطفال
DESCRIPTION:
URL:https://ballettech.org/ar/event/%d8%b1%d9%82%d8%b5-%d8%a7%d9%84%d8%a3%d8%b7%d9%81%d8%a7%d9%84-2/
END:VEVENT
BEGIN:VEVENT
DTSTART;TZID=America/New_York:20250613T180000
DTEND;TZID=America/New_York:20250613T200000
DTSTAMP:20260422T043147
CREATED:20240829T190051Z
LAST-MODIFIED:20241126T083442Z
UID:10002284-1749837600-1749844800@ballettech.org
SUMMARY:رقص الأطفال
DESCRIPTION:
URL:https://ballettech.org/ar/event/%d8%b1%d9%82%d8%b5-%d8%a7%d9%84%d8%a3%d8%b7%d9%81%d8%a7%d9%84-4/
END:VEVENT
BEGIN:VEVENT
DTSTART;TZID=America/New_York:20250614T130000
DTEND;TZID=America/New_York:20250614T150000
DTSTAMP:20260422T043147
CREATED:20240829T190118Z
LAST-MODIFIED:20241126T083441Z
UID:10002277-1749906000-1749913200@ballettech.org
SUMMARY:رقص الأطفال
DESCRIPTION:
URL:https://ballettech.org/ar/event/%d8%b1%d9%82%d8%b5-%d8%a7%d9%84%d8%a3%d8%b7%d9%81%d8%a7%d9%84-3/
END:VEVENT
BEGIN:VEVENT
DTSTART;TZID=America/New_York:20250614T180000
DTEND;TZID=America/New_York:20250614T200000
DTSTAMP:20260422T043147
CREATED:20240829T190144Z
LAST-MODIFIED:20241126T083445Z
UID:10002295-1749924000-1749931200@ballettech.org
SUMMARY:رقص الأطفال
DESCRIPTION:
URL:https://ballettech.org/ar/event/%d8%b1%d9%82%d8%b5-%d8%a7%d9%84%d8%a3%d8%b7%d9%81%d8%a7%d9%84-5/
END:VEVENT
BEGIN:VEVENT
DTSTART;TZID=America/New_York:20250615T130000
DTEND;TZID=America/New_York:20250615T150000
DTSTAMP:20260422T043147
CREATED:20240829T190234Z
LAST-MODIFIED:20241126T083259Z
UID:10001967-1749992400-1749999600@ballettech.org
SUMMARY:رقص الأطفال
DESCRIPTION:
URL:https://ballettech.org/ar/event/%d8%b1%d9%82%d8%b5-%d8%a7%d9%84%d8%a3%d8%b7%d9%81%d8%a7%d9%84/
END:VEVENT
BEGIN:VEVENT
DTSTART;TZID=America/New_York:20250615T230000
DTEND;TZID=America/New_York:20250618T225959
DTSTAMP:20260422T043147
CREATED:20240829T190323Z
LAST-MODIFIED:20241126T083723Z
UID:10002776-1750028400-1750287599@ballettech.org
SUMMARY:معرض الكتاب المدرسي
DESCRIPTION:
URL:https://ballettech.org/ar/event/%d9%85%d8%b9%d8%b1%d8%b6-%d8%a7%d9%84%d9%83%d8%aa%d8%a7%d8%a8-%d8%a7%d9%84%d9%85%d8%af%d8%b1%d8%b3%d9%8a-2/
END:VEVENT
BEGIN:VEVENT
DTSTART;TZID=America/New_York:20250617T150000
DTEND;TZID=America/New_York:20250617T160000
DTSTAMP:20260422T043147
CREATED:20240910T215133Z
LAST-MODIFIED:20241126T083319Z
UID:10002038-1750172400-1750176000@ballettech.org
SUMMARY:اجتماع SLT
DESCRIPTION:
URL:https://ballettech.org/ar/event/%d8%a7%d8%ac%d8%aa%d9%85%d8%a7%d8%b9-slt-7/
END:VEVENT
BEGIN:VEVENT
DTSTART;TZID=America/New_York:20250617T170000
DTEND;TZID=America/New_York:20250617T183000
DTSTAMP:20260422T043147
CREATED:20240829T190402Z
LAST-MODIFIED:20241126T083450Z
UID:10002315-1750179600-1750185000@ballettech.org
SUMMARY:اجتماع PTA
DESCRIPTION:
URL:https://ballettech.org/ar/event/%d8%a7%d8%ac%d8%aa%d9%85%d8%a7%d8%b9-pta-7/
END:VEVENT
BEGIN:VEVENT
DTSTART;TZID=America/New_York:20250618T121500
DTEND;TZID=America/New_York:20250618T144500
DTSTAMP:20260422T043147
CREATED:20240829T190446Z
LAST-MODIFIED:20241126T083258Z
UID:10001971-1750248900-1750257900@ballettech.org
SUMMARY:امتحان الجبر الأول الحكام (الصف 8)
DESCRIPTION:
URL:https://ballettech.org/ar/event/%d8%a7%d9%85%d8%aa%d8%ad%d8%a7%d9%86-%d8%a7%d9%84%d8%ac%d8%a8%d8%b1-%d8%a7%d9%84%d8%a3%d9%88%d9%84-%d8%a7%d9%84%d8%ad%d9%83%d8%a7%d9%85-%d8%a7%d9%84%d8%b5%d9%81-8/
END:VEVENT
BEGIN:VEVENT
DTSTART;TZID=America/New_York:20250618T230000
DTEND;TZID=America/New_York:20250619T225959
DTSTAMP:20260422T043147
CREATED:20240815T222649Z
LAST-MODIFIED:20241126T083601Z
UID:10002542-1750287600-1750373999@ballettech.org
SUMMARY:Juneteenth - المدرسة مغلقة
DESCRIPTION:
URL:https://ballettech.org/ar/event/juneteenth-%d8%a7%d9%84%d9%85%d8%af%d8%b1%d8%b3%d8%a9-%d9%85%d8%ba%d9%84%d9%82%d8%a9/
END:VEVENT
BEGIN:VEVENT
DTSTART;TZID=America/New_York:20250624T160000
DTEND;TZID=America/New_York:20250624T173000
DTSTAMP:20260422T043147
CREATED:20240815T222738Z
LAST-MODIFIED:20241126T083601Z
UID:10002543-1750780800-1750786200@ballettech.org
SUMMARY:8 تخرج الصف
DESCRIPTION:
URL:https://ballettech.org/ar/event/8-%d8%aa%d8%ae%d8%b1%d8%ac-%d8%a7%d9%84%d8%b5%d9%81/
END:VEVENT
BEGIN:VEVENT
DTSTART;TZID=America/New_York:20250624T230000
DTEND;TZID=America/New_York:20250625T225959
DTSTAMP:20260422T043147
CREATED:20240829T190511Z
LAST-MODIFIED:20241126T083725Z
UID:10002784-1750806000-1750892399@ballettech.org
SUMMARY:اليوم الميداني للمدرسة الإعدادية
DESCRIPTION:
URL:https://ballettech.org/ar/event/%d8%a7%d9%84%d9%8a%d9%88%d9%85-%d8%a7%d9%84%d9%85%d9%8a%d8%af%d8%a7%d9%86%d9%8a-%d9%84%d9%84%d9%85%d8%af%d8%b1%d8%b3%d8%a9-%d8%a7%d9%84%d8%a5%d8%b9%d8%af%d8%a7%d8%af%d9%8a%d8%a9/
END:VEVENT
BEGIN:VEVENT
DTSTART;TZID=America/New_York:20250625T230000
DTEND;TZID=America/New_York:20250626T225959
DTSTAMP:20260422T043147
CREATED:20240815T222809Z
LAST-MODIFIED:20241126T083604Z
UID:10002547-1750892400-1750978799@ballettech.org
SUMMARY:نهاية فصل الربيع / آخر يوم دراسي ، 2024-25
DESCRIPTION:
URL:https://ballettech.org/ar/event/%d9%86%d9%87%d8%a7%d9%8a%d8%a9-%d9%81%d8%b5%d9%84-%d8%a7%d9%84%d8%b1%d8%a8%d9%8a%d8%b9-%d8%a2%d8%ae%d8%b1-%d9%8a%d9%88%d9%85-%d8%af%d8%b1%d8%a7%d8%b3%d9%8a-%d8%8c-2024-25/
END:VEVENT
END:VCALENDAR