BEGIN:VCALENDAR
VERSION:2.0
PRODID:-//Ballet Tech - ECPv6.15.18//NONSGML v1.0//EN
CALSCALE:GREGORIAN
METHOD:PUBLISH
X-WR-CALNAME:Ballet Tech
X-ORIGINAL-URL:https://ballettech.org/ar/
X-WR-CALDESC:Events for Ballet Tech
REFRESH-INTERVAL;VALUE=DURATION:PT1H
X-Robots-Tag:noindex
X-PUBLISHED-TTL:PT1H
BEGIN:VTIMEZONE
TZID:America/New_York
BEGIN:DAYLIGHT
TZOFFSETFROM:-0500
TZOFFSETTO:-0400
TZNAME:EDT
DTSTART:20240310T070000
END:DAYLIGHT
BEGIN:STANDARD
TZOFFSETFROM:-0400
TZOFFSETTO:-0500
TZNAME:EST
DTSTART:20241103T060000
END:STANDARD
BEGIN:DAYLIGHT
TZOFFSETFROM:-0500
TZOFFSETTO:-0400
TZNAME:EDT
DTSTART:20250309T070000
END:DAYLIGHT
BEGIN:STANDARD
TZOFFSETFROM:-0400
TZOFFSETTO:-0500
TZNAME:EST
DTSTART:20251102T060000
END:STANDARD
BEGIN:DAYLIGHT
TZOFFSETFROM:-0500
TZOFFSETTO:-0400
TZNAME:EDT
DTSTART:20260308T070000
END:DAYLIGHT
BEGIN:STANDARD
TZOFFSETFROM:-0400
TZOFFSETTO:-0500
TZNAME:EST
DTSTART:20261101T060000
END:STANDARD
END:VTIMEZONE
BEGIN:VEVENT
DTSTART;TZID=America/New_York:20250430T230000
DTEND;TZID=America/New_York:20250502T225959
DTSTAMP:20260422T042610
CREATED:20240909T231032Z
LAST-MODIFIED:20241126T083301Z
UID:10001979-1746054000-1746226799@ballettech.org
SUMMARY:امتحانات NYS ELA (المدرسة المتوسطة)
DESCRIPTION:
URL:https://ballettech.org/ar/event/%d8%a7%d9%85%d8%aa%d8%ad%d8%a7%d9%86%d8%a7%d8%aa-nys-ela-%d8%a7%d9%84%d9%85%d8%af%d8%b1%d8%b3%d8%a9-%d8%a7%d9%84%d9%85%d8%aa%d9%88%d8%b3%d8%b7%d8%a9/
END:VEVENT
BEGIN:VEVENT
DTSTART;TZID=America/New_York:20250505T230000
DTEND;TZID=America/New_York:20250507T225959
DTSTAMP:20260422T042610
CREATED:20240909T231059Z
LAST-MODIFIED:20241126T083729Z
UID:10002802-1746486000-1746658799@ballettech.org
SUMMARY:امتحانات الرياضيات في ولاية نيويورك (الصفوف 4 و 5)
DESCRIPTION:
URL:https://ballettech.org/ar/event/%d8%a7%d9%85%d8%aa%d8%ad%d8%a7%d9%86%d8%a7%d8%aa-%d8%a7%d9%84%d8%b1%d9%8a%d8%a7%d8%b6%d9%8a%d8%a7%d8%aa-%d9%81%d9%8a-%d9%88%d9%84%d8%a7%d9%8a%d8%a9-%d9%86%d9%8a%d9%88%d9%8a%d9%88%d8%b1%d9%83-%d8%a7/
END:VEVENT
BEGIN:VEVENT
DTSTART;TZID=America/New_York:20250507T230000
DTEND;TZID=America/New_York:20250508T225959
DTSTAMP:20260422T042610
CREATED:20240909T231130Z
LAST-MODIFIED:20241126T083502Z
UID:10002353-1746658800-1746745199@ballettech.org
SUMMARY:عروض بلاي سكيب: بروفة تقنية
DESCRIPTION:
URL:https://ballettech.org/ar/event/%d8%b9%d8%b1%d9%88%d8%b6-%d8%a8%d9%84%d8%a7%d9%8a-%d8%b3%d9%83%d9%8a%d8%a8-%d8%a8%d8%b1%d9%88%d9%81%d8%a9-%d8%aa%d9%82%d9%86%d9%8a%d8%a9/
END:VEVENT
BEGIN:VEVENT
DTSTART;TZID=America/New_York:20250509T130000
DTEND;TZID=America/New_York:20250509T131500
DTSTAMP:20260422T042610
CREATED:20240909T231221Z
LAST-MODIFIED:20241126T083301Z
UID:10001975-1746795600-1746796500@ballettech.org
SUMMARY:بلاي سكيب يؤدي
DESCRIPTION:
URL:https://ballettech.org/ar/event/%d8%a8%d9%84%d8%a7%d9%8a-%d8%b3%d9%83%d9%8a%d8%a8-%d9%8a%d8%a4%d8%af%d9%8a/
END:VEVENT
BEGIN:VEVENT
DTSTART;TZID=America/New_York:20250509T140000
DTEND;TZID=America/New_York:20250509T141500
DTSTAMP:20260422T042610
CREATED:20240909T231248Z
LAST-MODIFIED:20241126T083504Z
UID:10002358-1746799200-1746800100@ballettech.org
SUMMARY:بلاي سكيب يؤدي
DESCRIPTION:
URL:https://ballettech.org/ar/event/%d8%a8%d9%84%d8%a7%d9%8a-%d8%b3%d9%83%d9%8a%d8%a8-%d9%8a%d8%a4%d8%af%d9%8a-2/
END:VEVENT
BEGIN:VEVENT
DTSTART;TZID=America/New_York:20250510T130000
DTEND;TZID=America/New_York:20250510T131500
DTSTAMP:20260422T042610
CREATED:20240909T231316Z
LAST-MODIFIED:20241126T083508Z
UID:10002375-1746882000-1746882900@ballettech.org
SUMMARY:بلاي سكيب يؤدي
DESCRIPTION:
URL:https://ballettech.org/ar/event/%d8%a8%d9%84%d8%a7%d9%8a-%d8%b3%d9%83%d9%8a%d8%a8-%d9%8a%d8%a4%d8%af%d9%8a-3/
END:VEVENT
BEGIN:VEVENT
DTSTART;TZID=America/New_York:20250510T140000
DTEND;TZID=America/New_York:20250510T141500
DTSTAMP:20260422T042610
CREATED:20240909T231349Z
LAST-MODIFIED:20241126T083531Z
UID:10002443-1746885600-1746886500@ballettech.org
SUMMARY:بلاي سكيب يؤدي
DESCRIPTION:
URL:https://ballettech.org/ar/event/%d8%a8%d9%84%d8%a7%d9%8a-%d8%b3%d9%83%d9%8a%d8%a8-%d9%8a%d8%a4%d8%af%d9%8a-4/
END:VEVENT
BEGIN:VEVENT
DTSTART;TZID=America/New_York:20250512T230000
DTEND;TZID=America/New_York:20250514T225959
DTSTAMP:20260422T042610
CREATED:20240909T231420Z
LAST-MODIFIED:20241126T083731Z
UID:10002808-1747090800-1747263599@ballettech.org
SUMMARY:امتحانات الرياضيات في ولاية نيويورك (الصفوف 6 و 7)
DESCRIPTION:
URL:https://ballettech.org/ar/event/%d8%a7%d9%85%d8%aa%d8%ad%d8%a7%d9%86%d8%a7%d8%aa-%d8%a7%d9%84%d8%b1%d9%8a%d8%a7%d8%b6%d9%8a%d8%a7%d8%aa-%d9%81%d9%8a-%d9%88%d9%84%d8%a7%d9%8a%d8%a9-%d9%86%d9%8a%d9%88%d9%8a%d9%88%d8%b1%d9%83-%d8%a7-2/
END:VEVENT
BEGIN:VEVENT
DTSTART;TZID=America/New_York:20250514T230000
DTEND;TZID=America/New_York:20250515T225959
DTSTAMP:20260422T042610
CREATED:20240909T231446Z
LAST-MODIFIED:20241126T083533Z
UID:10002450-1747263600-1747349999@ballettech.org
SUMMARY:امتحان العلوم NYS (الصف 5)
DESCRIPTION:
URL:https://ballettech.org/ar/event/%d8%a7%d9%85%d8%aa%d8%ad%d8%a7%d9%86-%d8%a7%d9%84%d8%b9%d9%84%d9%88%d9%85-nys-%d8%a7%d9%84%d8%b5%d9%81-5/
END:VEVENT
BEGIN:VEVENT
DTSTART;TZID=America/New_York:20250522T150000
DTEND;TZID=America/New_York:20250522T160000
DTSTAMP:20260422T042610
CREATED:20240910T215041Z
LAST-MODIFIED:20241126T083317Z
UID:10002034-1747926000-1747929600@ballettech.org
SUMMARY:اجتماع SLT
DESCRIPTION:
URL:https://ballettech.org/ar/event/%d8%a7%d8%ac%d8%aa%d9%85%d8%a7%d8%b9-slt-6/
END:VEVENT
BEGIN:VEVENT
DTSTART;TZID=America/New_York:20250522T163000
DTEND;TZID=America/New_York:20250522T183000
DTSTAMP:20260422T042610
CREATED:20240910T215157Z
LAST-MODIFIED:20241126T083322Z
UID:10002052-1747931400-1747938600@ballettech.org
SUMMARY:ليلة الفنون
DESCRIPTION:
URL:https://ballettech.org/ar/event/%d9%84%d9%8a%d9%84%d8%a9-%d8%a7%d9%84%d9%81%d9%86%d9%88%d9%86/
END:VEVENT
BEGIN:VEVENT
DTSTART;TZID=America/New_York:20250525T230000
DTEND;TZID=America/New_York:20250526T225959
DTSTAMP:20260422T042610
CREATED:20240815T222515Z
LAST-MODIFIED:20241126T083555Z
UID:10002519-1748214000-1748300399@ballettech.org
SUMMARY:يوم الذكرى - المدرسة مغلقة
DESCRIPTION:
URL:https://ballettech.org/ar/event/%d9%8a%d9%88%d9%85-%d8%a7%d9%84%d8%b0%d9%83%d8%b1%d9%89-%d8%a7%d9%84%d9%85%d8%af%d8%b1%d8%b3%d8%a9-%d9%85%d8%ba%d9%84%d9%82%d8%a9/
END:VEVENT
BEGIN:VEVENT
DTSTART;TZID=America/New_York:20250529T173000
DTEND;TZID=America/New_York:20250529T180000
DTSTAMP:20260422T042610
CREATED:20240829T184708Z
LAST-MODIFIED:20241126T083433Z
UID:10002252-1748539800-1748541600@ballettech.org
SUMMARY:اجتماع PTA
DESCRIPTION:
URL:https://ballettech.org/ar/event/%d8%a7%d8%ac%d8%aa%d9%85%d8%a7%d8%b9-pta-6/
END:VEVENT
END:VCALENDAR