BEGIN:VCALENDAR
VERSION:2.0
PRODID:-//Ballet Tech - ECPv6.15.18//NONSGML v1.0//EN
CALSCALE:GREGORIAN
METHOD:PUBLISH
X-WR-CALNAME:Ballet Tech
X-ORIGINAL-URL:https://ballettech.org/bn/
X-WR-CALDESC:Events for Ballet Tech
REFRESH-INTERVAL;VALUE=DURATION:PT1H
X-Robots-Tag:noindex
X-PUBLISHED-TTL:PT1H
BEGIN:VTIMEZONE
TZID:America/New_York
BEGIN:DAYLIGHT
TZOFFSETFROM:-0500
TZOFFSETTO:-0400
TZNAME:EDT
DTSTART:20230312T070000
END:DAYLIGHT
BEGIN:STANDARD
TZOFFSETFROM:-0400
TZOFFSETTO:-0500
TZNAME:EST
DTSTART:20231105T060000
END:STANDARD
BEGIN:DAYLIGHT
TZOFFSETFROM:-0500
TZOFFSETTO:-0400
TZNAME:EDT
DTSTART:20240310T070000
END:DAYLIGHT
BEGIN:STANDARD
TZOFFSETFROM:-0400
TZOFFSETTO:-0500
TZNAME:EST
DTSTART:20241103T060000
END:STANDARD
BEGIN:DAYLIGHT
TZOFFSETFROM:-0500
TZOFFSETTO:-0400
TZNAME:EDT
DTSTART:20250309T070000
END:DAYLIGHT
BEGIN:STANDARD
TZOFFSETFROM:-0400
TZOFFSETTO:-0500
TZNAME:EST
DTSTART:20251102T060000
END:STANDARD
END:VTIMEZONE
BEGIN:VEVENT
DTSTART;TZID=America/New_York:20241102T070000
DTEND;TZID=America/New_York:20241102T083000
DTSTAMP:20260423T101644
CREATED:20241112T200144Z
LAST-MODIFIED:20241126T083324Z
UID:10002055-1730530800-1730536200@ballettech.org
SUMMARY:অ্যালেক্স ব্র্যাডির সাথে ব্যালে
DESCRIPTION:
URL:https://ballettech.org/bn/event/%e0%a6%85%e0%a7%8d%e0%a6%af%e0%a6%be%e0%a6%b2%e0%a7%87%e0%a6%95%e0%a7%8d%e0%a6%b8-%e0%a6%ac%e0%a7%8d%e0%a6%b0%e0%a7%8d%e0%a6%af%e0%a6%be%e0%a6%a1%e0%a6%bf%e0%a6%b0-%e0%a6%b8%e0%a6%be%e0%a6%a5%e0%a7%87/
CATEGORIES:প্রাক্তনীদের নৃত্যানুষ্ঠান অনুষ্ঠান
END:VEVENT
BEGIN:VEVENT
DTSTART;TZID=America/New_York:20241109T070000
DTEND;TZID=America/New_York:20241109T083000
DTSTAMP:20260423T101644
CREATED:20241112T200426Z
LAST-MODIFIED:20241126T083346Z
UID:10002133-1731135600-1731141000@ballettech.org
SUMMARY:এশিয়া ইয়ুর সাথে কে-পপ
DESCRIPTION:
URL:https://ballettech.org/bn/event/%e0%a6%8f%e0%a6%b6%e0%a6%bf%e0%a6%af%e0%a6%bc%e0%a6%be-%e0%a6%87%e0%a6%af%e0%a6%bc%e0%a7%81%e0%a6%b0-%e0%a6%b8%e0%a6%be%e0%a6%a5%e0%a7%87-%e0%a6%95%e0%a7%87-%e0%a6%aa%e0%a6%aa/
CATEGORIES:প্রাক্তনীদের নৃত্যানুষ্ঠান অনুষ্ঠান
END:VEVENT
BEGIN:VEVENT
DTSTART;TZID=America/New_York:20241116T070000
DTEND;TZID=America/New_York:20241116T083000
DTSTAMP:20260423T101644
CREATED:20241112T200544Z
LAST-MODIFIED:20241126T083349Z
UID:10002137-1731740400-1731745800@ballettech.org
SUMMARY:প্রাক্তন ছাত্র শ্রেণী - মেরি লিন গ্রাভসের সাথে সমসাময়িক
DESCRIPTION:
URL:https://ballettech.org/bn/event/%e0%a6%aa%e0%a7%8d%e0%a6%b0%e0%a6%be%e0%a6%95%e0%a7%8d%e0%a6%a4%e0%a6%a8-%e0%a6%9b%e0%a6%be%e0%a6%a4%e0%a7%8d%e0%a6%b0-%e0%a6%b6%e0%a7%8d%e0%a6%b0%e0%a7%87%e0%a6%a3%e0%a7%80-%e0%a6%ae%e0%a7%87/
CATEGORIES:প্রাক্তনীদের নৃত্যানুষ্ঠান অনুষ্ঠান
END:VEVENT
BEGIN:VEVENT
DTSTART;TZID=America/New_York:20241123T070000
DTEND;TZID=America/New_York:20241123T083000
DTSTAMP:20260423T101644
CREATED:20241112T200702Z
LAST-MODIFIED:20241126T083351Z
UID:10002146-1732345200-1732350600@ballettech.org
SUMMARY:প্রাক্তন ছাত্র শ্রেণি - এডগার পিটারসনের সাথে সমসাময়িক ব্যালে
DESCRIPTION:
URL:https://ballettech.org/bn/event/%e0%a6%aa%e0%a7%8d%e0%a6%b0%e0%a6%be%e0%a6%95%e0%a7%8d%e0%a6%a4%e0%a6%a8-%e0%a6%9b%e0%a6%be%e0%a6%a4%e0%a7%8d%e0%a6%b0-%e0%a6%b6%e0%a7%8d%e0%a6%b0%e0%a7%87%e0%a6%a3%e0%a6%bf-%e0%a6%8f%e0%a6%a1/
CATEGORIES:প্রাক্তনীদের নৃত্যানুষ্ঠান অনুষ্ঠান
END:VEVENT
END:VCALENDAR