BEGIN:VCALENDAR
VERSION:2.0
PRODID:-//Ballet Tech - ECPv6.15.18//NONSGML v1.0//EN
CALSCALE:GREGORIAN
METHOD:PUBLISH
X-ORIGINAL-URL:https://ballettech.org
X-WR-CALDESC:Events for Ballet Tech
REFRESH-INTERVAL;VALUE=DURATION:PT1H
X-Robots-Tag:noindex
X-PUBLISHED-TTL:PT1H
BEGIN:VTIMEZONE
TZID:America/New_York
BEGIN:DAYLIGHT
TZOFFSETFROM:-0500
TZOFFSETTO:-0400
TZNAME:EDT
DTSTART:20240310T070000
END:DAYLIGHT
BEGIN:STANDARD
TZOFFSETFROM:-0400
TZOFFSETTO:-0500
TZNAME:EST
DTSTART:20241103T060000
END:STANDARD
BEGIN:DAYLIGHT
TZOFFSETFROM:-0500
TZOFFSETTO:-0400
TZNAME:EDT
DTSTART:20250309T070000
END:DAYLIGHT
BEGIN:STANDARD
TZOFFSETFROM:-0400
TZOFFSETTO:-0500
TZNAME:EST
DTSTART:20251102T060000
END:STANDARD
BEGIN:DAYLIGHT
TZOFFSETFROM:-0500
TZOFFSETTO:-0400
TZNAME:EDT
DTSTART:20260308T070000
END:DAYLIGHT
BEGIN:STANDARD
TZOFFSETFROM:-0400
TZOFFSETTO:-0500
TZNAME:EST
DTSTART:20261101T060000
END:STANDARD
END:VTIMEZONE
BEGIN:VEVENT
DTSTART;TZID=America/New_York:20250514T230000
DTEND;TZID=America/New_York:20250515T225959
DTSTAMP:20260423T075008
CREATED:20240909T231446Z
LAST-MODIFIED:20240909T231446Z
UID:10000629-1747263600-1747349999@ballettech.org
SUMMARY:NYS Science Exam (5th Grade)
DESCRIPTION:
URL:https://ballettech.org/event/nys-science-exam-5th-grade/
END:VEVENT
BEGIN:VEVENT
DTSTART;TZID=America/New_York:20250515T123000
DTEND;TZID=America/New_York:20250515T133000
DTSTAMP:20260423T075008
CREATED:20250514T002524Z
LAST-MODIFIED:20250514T002524Z
UID:10002819-1747312200-1747315800@ballettech.org
SUMMARY:High School Admissions Workshop (Current 7th Grade Families)
DESCRIPTION:
URL:https://ballettech.org/event/high-school-admissions-workshop-current-7th-grade-families/
END:VEVENT
END:VCALENDAR