BEGIN:VCALENDAR
VERSION:2.0
PRODID:-//Ballet Tech - ECPv6.15.18//NONSGML v1.0//EN
CALSCALE:GREGORIAN
METHOD:PUBLISH
X-WR-CALNAME:Ballet Tech
X-ORIGINAL-URL:https://ballettech.org
X-WR-CALDESC:Events for Ballet Tech
REFRESH-INTERVAL;VALUE=DURATION:PT1H
X-Robots-Tag:noindex
X-PUBLISHED-TTL:PT1H
BEGIN:VTIMEZONE
TZID:America/New_York
BEGIN:DAYLIGHT
TZOFFSETFROM:-0500
TZOFFSETTO:-0400
TZNAME:EDT
DTSTART:20230312T070000
END:DAYLIGHT
BEGIN:STANDARD
TZOFFSETFROM:-0400
TZOFFSETTO:-0500
TZNAME:EST
DTSTART:20231105T060000
END:STANDARD
BEGIN:DAYLIGHT
TZOFFSETFROM:-0500
TZOFFSETTO:-0400
TZNAME:EDT
DTSTART:20240310T070000
END:DAYLIGHT
BEGIN:STANDARD
TZOFFSETFROM:-0400
TZOFFSETTO:-0500
TZNAME:EST
DTSTART:20241103T060000
END:STANDARD
BEGIN:DAYLIGHT
TZOFFSETFROM:-0500
TZOFFSETTO:-0400
TZNAME:EDT
DTSTART:20250309T070000
END:DAYLIGHT
BEGIN:STANDARD
TZOFFSETFROM:-0400
TZOFFSETTO:-0500
TZNAME:EST
DTSTART:20251102T060000
END:STANDARD
END:VTIMEZONE
BEGIN:VEVENT
DTSTART;TZID=America/New_York:20241111T000000
DTEND;TZID=America/New_York:20241111T235959
DTSTAMP:20260424T054331
CREATED:20240815T221001Z
LAST-MODIFIED:20240815T221001Z
UID:10000561-1731283200-1731369599@ballettech.org
SUMMARY:Veterans Day -- School Closed
DESCRIPTION:
URL:https://ballettech.org/event/veterans-day-school-closed-2/
END:VEVENT
BEGIN:VEVENT
DTSTART;TZID=America/New_York:20241109T070000
DTEND;TZID=America/New_York:20241109T083000
DTSTAMP:20260424T054331
CREATED:20241112T200426Z
LAST-MODIFIED:20241112T202952Z
UID:10001960-1731135600-1731141000@ballettech.org
SUMMARY:K-Pop with Asia Yiu
DESCRIPTION:
URL:https://ballettech.org/event/k-pop-with-asia-yiu/
CATEGORIES:Alumni Dance Program
END:VEVENT
BEGIN:VEVENT
DTSTART;TZID=America/New_York:20241107T130000
DTEND;TZID=America/New_York:20241107T160000
DTSTAMP:20260424T054331
CREATED:20240815T220804Z
LAST-MODIFIED:20240815T220804Z
UID:10000559-1730984400-1730995200@ballettech.org
SUMMARY:Parent-Teacher Conferences (Afternoon)
DESCRIPTION:
URL:https://ballettech.org/event/parent-teacher-conferences-afternoon-2/
END:VEVENT
BEGIN:VEVENT
DTSTART;TZID=America/New_York:20241107T000000
DTEND;TZID=America/New_York:20241107T235959
DTSTAMP:20260424T054331
CREATED:20240815T220849Z
LAST-MODIFIED:20240815T220849Z
UID:10000560-1730937600-1731023999@ballettech.org
SUMMARY:Early Dismissal
DESCRIPTION:Elementary School Dismissal: 11:35am \nMiddle School Dismissal: 11:40am
URL:https://ballettech.org/event/early-dismissal-9/
END:VEVENT
BEGIN:VEVENT
DTSTART;TZID=America/New_York:20241106T160000
DTEND;TZID=America/New_York:20241106T190000
DTSTAMP:20260424T054331
CREATED:20240815T220713Z
LAST-MODIFIED:20240815T220713Z
UID:10000558-1730908800-1730919600@ballettech.org
SUMMARY:Parent-Teacher Conferences (Evening)
DESCRIPTION:
URL:https://ballettech.org/event/parent-teacher-conferences-evening-2/
END:VEVENT
BEGIN:VEVENT
DTSTART;TZID=America/New_York:20241105T000000
DTEND;TZID=America/New_York:20241105T235959
DTSTAMP:20260424T054331
CREATED:20240815T220543Z
LAST-MODIFIED:20240815T220543Z
UID:10000557-1730764800-1730851199@ballettech.org
SUMMARY:Election Day -- No Classes
DESCRIPTION:
URL:https://ballettech.org/event/election-day-no-classes-6/
END:VEVENT
BEGIN:VEVENT
DTSTART;TZID=America/New_York:20241102T070000
DTEND;TZID=America/New_York:20241102T083000
DTSTAMP:20260424T054331
CREATED:20241112T200144Z
LAST-MODIFIED:20241112T202935Z
UID:10001959-1730530800-1730536200@ballettech.org
SUMMARY:Ballet with Alex Brady
DESCRIPTION:
URL:https://ballettech.org/event/ballet-with-alex-brady-2/
CATEGORIES:Alumni Dance Program
END:VEVENT
BEGIN:VEVENT
DTSTART;TZID=America/New_York:20241031T230000
DTEND;TZID=America/New_York:20241101T225959
DTSTAMP:20260424T054331
CREATED:20240815T220112Z
LAST-MODIFIED:20240815T220112Z
UID:10000556-1730415600-1730501999@ballettech.org
SUMMARY:Diwali -- School Closed
DESCRIPTION:
URL:https://ballettech.org/event/diwali-school-closed/
END:VEVENT
BEGIN:VEVENT
DTSTART;TZID=America/New_York:20241030T230000
DTEND;TZID=America/New_York:20241031T225959
DTSTAMP:20260424T054331
CREATED:20240829T172928Z
LAST-MODIFIED:20240829T172928Z
UID:10000587-1730329200-1730415599@ballettech.org
SUMMARY:Halloween
DESCRIPTION:
URL:https://ballettech.org/event/halloween/
END:VEVENT
BEGIN:VEVENT
DTSTART;TZID=America/New_York:20241029T230000
DTEND;TZID=America/New_York:20241030T225959
DTSTAMP:20260424T054331
CREATED:20240909T230816Z
LAST-MODIFIED:20240909T230816Z
UID:10000620-1730242800-1730329199@ballettech.org
SUMMARY:SHSAT Administration (8th Grade)
DESCRIPTION:
URL:https://ballettech.org/event/shsat-administration-8th-grade-2/
END:VEVENT
BEGIN:VEVENT
DTSTART;TZID=America/New_York:20241028T230000
DTEND;TZID=America/New_York:20241029T225959
DTSTAMP:20260424T054331
CREATED:20240904T202353Z
LAST-MODIFIED:20240904T202353Z
UID:10000939-1730156400-1730242799@ballettech.org
SUMMARY:Photo Day
DESCRIPTION:
URL:https://ballettech.org/event/photo-day-8/
END:VEVENT
BEGIN:VEVENT
DTSTART;TZID=America/New_York:20241015T230000
DTEND;TZID=America/New_York:20241016T225959
DTSTAMP:20260424T054331
CREATED:20240829T172857Z
LAST-MODIFIED:20240829T172857Z
UID:10000586-1729033200-1729119599@ballettech.org
SUMMARY:First Day of Fall Introduction to Ballet Program (BT Foundation)
DESCRIPTION:
URL:https://ballettech.org/event/first-day-of-fall-introduction-to-ballet-program-bt-foundation/
END:VEVENT
BEGIN:VEVENT
DTSTART;TZID=America/New_York:20241015T170000
DTEND;TZID=America/New_York:20241015T183000
DTSTAMP:20260424T054331
CREATED:20240829T173007Z
LAST-MODIFIED:20241126T182419Z
UID:10000588-1729011600-1729017000@ballettech.org
SUMMARY:PTA Meeting
DESCRIPTION:
URL:https://ballettech.org/event/pta-meeting-56/
CATEGORIES:PTA Meeting
END:VEVENT
BEGIN:VEVENT
DTSTART;TZID=America/New_York:20241015T150000
DTEND;TZID=America/New_York:20241015T160000
DTSTAMP:20260424T054331
CREATED:20240910T214409Z
LAST-MODIFIED:20240910T214409Z
UID:10000630-1729004400-1729008000@ballettech.org
SUMMARY:SLT Meeting
DESCRIPTION:
URL:https://ballettech.org/event/slt-meeting-69/
END:VEVENT
BEGIN:VEVENT
DTSTART;TZID=America/New_York:20241013T230000
DTEND;TZID=America/New_York:20241014T225959
DTSTAMP:20260424T054331
CREATED:20240815T220024Z
LAST-MODIFIED:20241008T040032Z
UID:10000555-1728860400-1728946799@ballettech.org
SUMMARY:Italian Heritage / Indigenous Peoples' Day -- School Closed
DESCRIPTION:
URL:https://ballettech.org/event/italian-heritage-indigenous-peoples-day-school-closed-3/
CATEGORIES:Holidays
END:VEVENT
BEGIN:VEVENT
DTSTART;TZID=America/New_York:20241002T230000
DTEND;TZID=America/New_York:20241004T225959
DTSTAMP:20260424T054331
CREATED:20240815T215930Z
LAST-MODIFIED:20240815T215930Z
UID:10000554-1727910000-1728082799@ballettech.org
SUMMARY:Rosh Hashanah -- School Closed
DESCRIPTION:
URL:https://ballettech.org/event/rosh-hashanah-school-closed-2/
END:VEVENT
BEGIN:VEVENT
DTSTART;TZID=America/New_York:20240925T163000
DTEND;TZID=America/New_York:20240925T173000
DTSTAMP:20260424T054331
CREATED:20240829T172122Z
LAST-MODIFIED:20240829T172122Z
UID:10000585-1727281800-1727285400@ballettech.org
SUMMARY:Harkness Virtual Nutrition Workshop for Families
DESCRIPTION:
URL:https://ballettech.org/event/harkness-virtual-nutrition-workshop-for-families/
END:VEVENT
BEGIN:VEVENT
DTSTART;TZID=America/New_York:20240917T170000
DTEND;TZID=America/New_York:20240917T180000
DTSTAMP:20260424T054331
CREATED:20240829T172049Z
LAST-MODIFIED:20241126T182425Z
UID:10000584-1726592400-1726596000@ballettech.org
SUMMARY:PTA Meeting
DESCRIPTION:
URL:https://ballettech.org/event/pta-meeting-55/
CATEGORIES:PTA Meeting
END:VEVENT
BEGIN:VEVENT
DTSTART;TZID=America/New_York:20240917T150000
DTEND;TZID=America/New_York:20240917T160000
DTSTAMP:20260424T054331
CREATED:20240829T172027Z
LAST-MODIFIED:20240829T172027Z
UID:10000583-1726585200-1726588800@ballettech.org
SUMMARY:SLT Meeting
DESCRIPTION:
URL:https://ballettech.org/event/slt-meeting-68/
END:VEVENT
BEGIN:VEVENT
DTSTART;TZID=America/New_York:20240912T163000
DTEND;TZID=America/New_York:20240912T180000
DTSTAMP:20260424T054331
CREATED:20240815T215840Z
LAST-MODIFIED:20240815T215840Z
UID:10000553-1726158600-1726164000@ballettech.org
SUMMARY:Meet the Teachers Night
DESCRIPTION:
URL:https://ballettech.org/event/meet-the-teachers-night-4/
END:VEVENT
END:VCALENDAR