BEGIN:VCALENDAR
VERSION:2.0
PRODID:-//Ballet Tech - ECPv6.15.18//NONSGML v1.0//EN
CALSCALE:GREGORIAN
METHOD:PUBLISH
X-WR-CALNAME:Ballet Tech
X-ORIGINAL-URL:https://ballettech.org
X-WR-CALDESC:Events for Ballet Tech
REFRESH-INTERVAL;VALUE=DURATION:PT1H
X-Robots-Tag:noindex
X-PUBLISHED-TTL:PT1H
BEGIN:VTIMEZONE
TZID:America/New_York
BEGIN:DAYLIGHT
TZOFFSETFROM:-0500
TZOFFSETTO:-0400
TZNAME:EDT
DTSTART:20240310T070000
END:DAYLIGHT
BEGIN:STANDARD
TZOFFSETFROM:-0400
TZOFFSETTO:-0500
TZNAME:EST
DTSTART:20241103T060000
END:STANDARD
BEGIN:DAYLIGHT
TZOFFSETFROM:-0500
TZOFFSETTO:-0400
TZNAME:EDT
DTSTART:20250309T070000
END:DAYLIGHT
BEGIN:STANDARD
TZOFFSETFROM:-0400
TZOFFSETTO:-0500
TZNAME:EST
DTSTART:20251102T060000
END:STANDARD
BEGIN:DAYLIGHT
TZOFFSETFROM:-0500
TZOFFSETTO:-0400
TZNAME:EDT
DTSTART:20260308T070000
END:DAYLIGHT
BEGIN:STANDARD
TZOFFSETFROM:-0400
TZOFFSETTO:-0500
TZNAME:EST
DTSTART:20261101T060000
END:STANDARD
END:VTIMEZONE
BEGIN:VEVENT
DTSTART;TZID=America/New_York:20250731T190000
DTEND;TZID=America/New_York:20250801T185959
DTSTAMP:20260421T141030
CREATED:20250708T014749Z
LAST-MODIFIED:20250708T014749Z
UID:10002831-1753988400-1754074799@ballettech.org
SUMMARY:Last Day of Summer Session
DESCRIPTION:
URL:https://ballettech.org/event/last-day-of-summer-session/
END:VEVENT
BEGIN:VEVENT
DTSTART;TZID=America/New_York:20250731T093000
DTEND;TZID=America/New_York:20250731T110000
DTSTAMP:20260421T141030
CREATED:20250708T014514Z
LAST-MODIFIED:20250710T005939Z
UID:10002829-1753954200-1753959600@ballettech.org
SUMMARY:Alumni Class: Choreo workshop with Dionne Figgins
DESCRIPTION:
URL:https://ballettech.org/event/alumni-class-8/
LOCATION:Ballet Tech\, 890 Broadway\, New York\, NY\, 11218\, United States
CATEGORIES:Alumni Dance Program
END:VEVENT
BEGIN:VEVENT
DTSTART;TZID=America/New_York:20250729T093000
DTEND;TZID=America/New_York:20250729T110000
DTSTAMP:20260421T141030
CREATED:20250708T014434Z
LAST-MODIFIED:20250710T005842Z
UID:10002828-1753781400-1753786800@ballettech.org
SUMMARY:Alumni Class: Ballet with Max Azaro
DESCRIPTION:
URL:https://ballettech.org/event/alumni-class-7/
LOCATION:Ballet Tech\, 890 Broadway\, New York\, NY\, 11218\, United States
CATEGORIES:Alumni Dance Program
END:VEVENT
BEGIN:VEVENT
DTSTART;TZID=America/New_York:20250724T093000
DTEND;TZID=America/New_York:20250724T110000
DTSTAMP:20260421T141030
CREATED:20250708T014233Z
LAST-MODIFIED:20250710T005755Z
UID:10002827-1753349400-1753354800@ballettech.org
SUMMARY:Alumni Class: Contemporary with Julie Buenaventura
DESCRIPTION:
URL:https://ballettech.org/event/alumni-class-6/
LOCATION:Ballet Tech\, 890 Broadway\, New York\, NY\, 11218\, United States
CATEGORIES:Alumni Dance Program
END:VEVENT
BEGIN:VEVENT
DTSTART;TZID=America/New_York:20250722T093000
DTEND;TZID=America/New_York:20250722T110000
DTSTAMP:20260421T141030
CREATED:20250708T014150Z
LAST-MODIFIED:20250710T005708Z
UID:10002826-1753176600-1753182000@ballettech.org
SUMMARY:Alumni Class: Ballet with Dionne Figgins
DESCRIPTION:
URL:https://ballettech.org/event/alumni-class-5/
LOCATION:Ballet Tech\, 890 Broadway\, New York\, NY\, 11218\, United States
CATEGORIES:Alumni Dance Program
END:VEVENT
BEGIN:VEVENT
DTSTART;TZID=America/New_York:20250717T093000
DTEND;TZID=America/New_York:20250717T110000
DTSTAMP:20260421T141030
CREATED:20250708T014016Z
LAST-MODIFIED:20250710T005629Z
UID:10002825-1752744600-1752750000@ballettech.org
SUMMARY:Alumni Class: Pilates with Megan Eng
DESCRIPTION:
URL:https://ballettech.org/event/alumni-class-4/
LOCATION:Ballet Tech\, 890 Broadway\, New York\, NY\, 11218\, United States
CATEGORIES:Alumni Dance Program
END:VEVENT
BEGIN:VEVENT
DTSTART;TZID=America/New_York:20250715T093000
DTEND;TZID=America/New_York:20250715T110000
DTSTAMP:20260421T141030
CREATED:20250708T012011Z
LAST-MODIFIED:20250710T005528Z
UID:10002824-1752571800-1752577200@ballettech.org
SUMMARY:Alumni Class: Ballet with Ashley Tuttle
DESCRIPTION:
URL:https://ballettech.org/event/alumni-class-3/
LOCATION:Ballet Tech\, 890 Broadway\, New York\, NY\, 11218\, United States
CATEGORIES:Alumni Dance Program
END:VEVENT
BEGIN:VEVENT
DTSTART;TZID=America/New_York:20250710T093000
DTEND;TZID=America/New_York:20250710T110000
DTSTAMP:20260421T141030
CREATED:20250708T010414Z
LAST-MODIFIED:20250710T010103Z
UID:10002823-1752139800-1752145200@ballettech.org
SUMMARY:Alumni Class: Ballet with Cathy Rhodes
DESCRIPTION:
URL:https://ballettech.org/event/alumni-class-2/
LOCATION:Ballet Tech\, 890 Broadway\, New York\, NY\, 11218\, United States
CATEGORIES:Alumni Dance Program
END:VEVENT
BEGIN:VEVENT
DTSTART;TZID=America/New_York:20250708T093000
DTEND;TZID=America/New_York:20250708T110000
DTSTAMP:20260421T141030
CREATED:20250708T010241Z
LAST-MODIFIED:20250710T010018Z
UID:10002822-1751967000-1751972400@ballettech.org
SUMMARY:Alumni Class: Jazz with Zuzu Park-Stettner
DESCRIPTION:
URL:https://ballettech.org/event/alumni-class/
LOCATION:Ballet Tech\, 890 Broadway\, New York\, NY\, 11218\, United States
CATEGORIES:Alumni Dance Program
END:VEVENT
BEGIN:VEVENT
DTSTART;TZID=America/New_York:20250706T190000
DTEND;TZID=America/New_York:20250707T185959
DTSTAMP:20260421T141030
CREATED:20250708T014721Z
LAST-MODIFIED:20250708T014721Z
UID:10002830-1751828400-1751914799@ballettech.org
SUMMARY:First Day of Summer Session
DESCRIPTION:
URL:https://ballettech.org/event/first-day-of-summer-session/
END:VEVENT
BEGIN:VEVENT
DTSTART;TZID=America/New_York:20250625T230000
DTEND;TZID=America/New_York:20250626T225959
DTSTAMP:20260421T141030
CREATED:20240815T222809Z
LAST-MODIFIED:20240815T222809Z
UID:10000582-1750892400-1750978799@ballettech.org
SUMMARY:End of Spring Term / Last Day of School\, 2024-25
DESCRIPTION:
URL:https://ballettech.org/event/end-of-spring-term-last-day-of-school-2024-25/
END:VEVENT
BEGIN:VEVENT
DTSTART;TZID=America/New_York:20250624T230000
DTEND;TZID=America/New_York:20250625T225959
DTSTAMP:20260421T141030
CREATED:20240829T190511Z
LAST-MODIFIED:20240829T190511Z
UID:10000938-1750806000-1750892399@ballettech.org
SUMMARY:Middle School Field Day
DESCRIPTION:
URL:https://ballettech.org/event/middle-school-field-day-2/
END:VEVENT
BEGIN:VEVENT
DTSTART;TZID=America/New_York:20250624T160000
DTEND;TZID=America/New_York:20250624T173000
DTSTAMP:20260421T141030
CREATED:20240815T222738Z
LAST-MODIFIED:20240815T222738Z
UID:10000581-1750780800-1750786200@ballettech.org
SUMMARY:8th Grade Graduation
DESCRIPTION:
URL:https://ballettech.org/event/8th-grade-graduation-3/
END:VEVENT
BEGIN:VEVENT
DTSTART;TZID=America/New_York:20250618T230000
DTEND;TZID=America/New_York:20250619T225959
DTSTAMP:20260421T141030
CREATED:20240815T222649Z
LAST-MODIFIED:20240815T222649Z
UID:10000580-1750287600-1750373999@ballettech.org
SUMMARY:Juneteenth -- School Closed
DESCRIPTION:
URL:https://ballettech.org/event/juneteenth-school-closed-3/
END:VEVENT
BEGIN:VEVENT
DTSTART;TZID=America/New_York:20250618T121500
DTEND;TZID=America/New_York:20250618T144500
DTSTAMP:20260421T141030
CREATED:20240829T190446Z
LAST-MODIFIED:20240829T190446Z
UID:10000937-1750248900-1750257900@ballettech.org
SUMMARY:Algebra I Regents Exam (8th Grade)
DESCRIPTION:
URL:https://ballettech.org/event/algebra-i-regents-exam-8th-grade-2/
END:VEVENT
BEGIN:VEVENT
DTSTART;TZID=America/New_York:20250617T170000
DTEND;TZID=America/New_York:20250617T183000
DTSTAMP:20260421T141030
CREATED:20240829T190402Z
LAST-MODIFIED:20241126T221346Z
UID:10000936-1750179600-1750185000@ballettech.org
SUMMARY:PTA Meeting
DESCRIPTION:
URL:https://ballettech.org/event/pta-meeting-64/
CATEGORIES:PTA Meeting
END:VEVENT
BEGIN:VEVENT
DTSTART;TZID=America/New_York:20250617T150000
DTEND;TZID=America/New_York:20250617T160000
DTSTAMP:20260421T141030
CREATED:20240910T215133Z
LAST-MODIFIED:20240910T215133Z
UID:10000961-1750172400-1750176000@ballettech.org
SUMMARY:SLT Meeting
DESCRIPTION:
URL:https://ballettech.org/event/slt-meeting-77/
END:VEVENT
BEGIN:VEVENT
DTSTART;TZID=America/New_York:20250615T230000
DTEND;TZID=America/New_York:20250618T225959
DTSTAMP:20260421T141030
CREATED:20240829T190323Z
LAST-MODIFIED:20240829T190323Z
UID:10000935-1750028400-1750287599@ballettech.org
SUMMARY:Scholastic Book Fair
DESCRIPTION:
URL:https://ballettech.org/event/scholastic-book-fair-3/
END:VEVENT
BEGIN:VEVENT
DTSTART;TZID=America/New_York:20250615T130000
DTEND;TZID=America/New_York:20250615T150000
DTSTAMP:20260421T141030
CREATED:20240829T190234Z
LAST-MODIFIED:20240829T190234Z
UID:10000934-1749992400-1749999600@ballettech.org
SUMMARY:Kids Dance
DESCRIPTION:
URL:https://ballettech.org/event/kids-dance-26/
END:VEVENT
BEGIN:VEVENT
DTSTART;TZID=America/New_York:20250614T180000
DTEND;TZID=America/New_York:20250614T200000
DTSTAMP:20260421T141030
CREATED:20240829T190144Z
LAST-MODIFIED:20240829T190144Z
UID:10000933-1749924000-1749931200@ballettech.org
SUMMARY:Kids Dance
DESCRIPTION:
URL:https://ballettech.org/event/kids-dance-25/
END:VEVENT
BEGIN:VEVENT
DTSTART;TZID=America/New_York:20250614T130000
DTEND;TZID=America/New_York:20250614T150000
DTSTAMP:20260421T141030
CREATED:20240829T190118Z
LAST-MODIFIED:20240829T190118Z
UID:10000932-1749906000-1749913200@ballettech.org
SUMMARY:Kids Dance
DESCRIPTION:
URL:https://ballettech.org/event/kids-dance-24/
END:VEVENT
BEGIN:VEVENT
DTSTART;TZID=America/New_York:20250613T180000
DTEND;TZID=America/New_York:20250613T200000
DTSTAMP:20260421T141030
CREATED:20240829T190051Z
LAST-MODIFIED:20240829T190051Z
UID:10000931-1749837600-1749844800@ballettech.org
SUMMARY:Kids Dance
DESCRIPTION:
URL:https://ballettech.org/event/kids-dance-23/
END:VEVENT
BEGIN:VEVENT
DTSTART;TZID=America/New_York:20250612T180000
DTEND;TZID=America/New_York:20250612T200000
DTSTAMP:20260421T141030
CREATED:20240829T185943Z
LAST-MODIFIED:20240829T185943Z
UID:10000610-1749751200-1749758400@ballettech.org
SUMMARY:Kids Dance
DESCRIPTION:
URL:https://ballettech.org/event/kids-dance-22/
END:VEVENT
BEGIN:VEVENT
DTSTART;TZID=America/New_York:20250612T153000
DTEND;TZID=America/New_York:20250612T173000
DTSTAMP:20260421T141030
CREATED:20250422T202037Z
LAST-MODIFIED:20250422T202037Z
UID:10002816-1749742200-1749749400@ballettech.org
SUMMARY:Opening Night Gala
DESCRIPTION:
URL:https://ballettech.org/event/opening-night-gala/
END:VEVENT
BEGIN:VEVENT
DTSTART;TZID=America/New_York:20250610T041500
DTEND;TZID=America/New_York:20250610T064500
DTSTAMP:20260421T141030
CREATED:20241224T041553Z
LAST-MODIFIED:20241224T041553Z
UID:10002814-1749528900-1749537900@ballettech.org
SUMMARY:Biology Regents Exam (8th Grade)
DESCRIPTION:
URL:https://ballettech.org/event/biology-regents-exam-8th-grade-2/
END:VEVENT
BEGIN:VEVENT
DTSTART;TZID=America/New_York:20250609T230000
DTEND;TZID=America/New_York:20250611T225959
DTSTAMP:20260421T141031
CREATED:20240829T185816Z
LAST-MODIFIED:20240829T185816Z
UID:10000609-1749510000-1749682799@ballettech.org
SUMMARY:Kids Dance: Tech Rehearsals
DESCRIPTION:
URL:https://ballettech.org/event/kids-dance-tech-rehearsals/
END:VEVENT
BEGIN:VEVENT
DTSTART;TZID=America/New_York:20250605T230000
DTEND;TZID=America/New_York:20250606T225959
DTSTAMP:20260421T141031
CREATED:20240815T222618Z
LAST-MODIFIED:20240815T222618Z
UID:10000579-1749164400-1749250799@ballettech.org
SUMMARY:Clerical Day -- No Classes
DESCRIPTION:
URL:https://ballettech.org/event/clerical-day-no-classes-8/
END:VEVENT
BEGIN:VEVENT
DTSTART;TZID=America/New_York:20250604T230000
DTEND;TZID=America/New_York:20250605T225959
DTSTAMP:20260421T141031
CREATED:20240815T222556Z
LAST-MODIFIED:20240815T222556Z
UID:10000578-1749078000-1749164399@ballettech.org
SUMMARY:Eid al-Adha / Anniversary Day -- School Closed
DESCRIPTION:
URL:https://ballettech.org/event/eid-al-adha-anniversary-day-school-closed/
END:VEVENT
BEGIN:VEVENT
DTSTART;TZID=America/New_York:20250529T173000
DTEND;TZID=America/New_York:20250529T180000
DTSTAMP:20260421T141031
CREATED:20240829T184708Z
LAST-MODIFIED:20250514T004605Z
UID:10000607-1748539800-1748541600@ballettech.org
SUMMARY:PTA Meeting: Elections for 2025-26
DESCRIPTION:5:30pm – 6:30pm: Workshop for Elementary School Families\n6:30pm – 7:00pm: PTA Meeting for all grade levels\n7:00pm – 8:00pm: Workshop for Middle School Families
URL:https://ballettech.org/event/pta-meeting-63/
CATEGORIES:PTA Meeting
END:VEVENT
BEGIN:VEVENT
DTSTART;TZID=America/New_York:20250529T140000
DTEND;TZID=America/New_York:20250529T150000
DTSTAMP:20260421T141031
CREATED:20250514T004514Z
LAST-MODIFIED:20250514T004514Z
UID:10002821-1748527200-1748530800@ballettech.org
SUMMARY:"Tech Strong Parenting" Workshop - Middle School Families
DESCRIPTION:
URL:https://ballettech.org/event/tech-strong-parenting-workshop-middle-school-families/
END:VEVENT
END:VCALENDAR