BEGIN:VCALENDAR
VERSION:2.0
PRODID:-//Ballet Tech - ECPv6.15.18//NONSGML v1.0//EN
CALSCALE:GREGORIAN
METHOD:PUBLISH
X-WR-CALNAME:Ballet Tech
X-ORIGINAL-URL:https://ballettech.org
X-WR-CALDESC:Events for Ballet Tech
REFRESH-INTERVAL;VALUE=DURATION:PT1H
X-Robots-Tag:noindex
X-PUBLISHED-TTL:PT1H
BEGIN:VTIMEZONE
TZID:America/New_York
BEGIN:DAYLIGHT
TZOFFSETFROM:-0500
TZOFFSETTO:-0400
TZNAME:EDT
DTSTART:20250309T070000
END:DAYLIGHT
BEGIN:STANDARD
TZOFFSETFROM:-0400
TZOFFSETTO:-0500
TZNAME:EST
DTSTART:20251102T060000
END:STANDARD
BEGIN:DAYLIGHT
TZOFFSETFROM:-0500
TZOFFSETTO:-0400
TZNAME:EDT
DTSTART:20260308T070000
END:DAYLIGHT
BEGIN:STANDARD
TZOFFSETFROM:-0400
TZOFFSETTO:-0500
TZNAME:EST
DTSTART:20261101T060000
END:STANDARD
BEGIN:DAYLIGHT
TZOFFSETFROM:-0500
TZOFFSETTO:-0400
TZNAME:EDT
DTSTART:20270314T070000
END:DAYLIGHT
BEGIN:STANDARD
TZOFFSETFROM:-0400
TZOFFSETTO:-0500
TZNAME:EST
DTSTART:20271107T060000
END:STANDARD
END:VTIMEZONE
BEGIN:VEVENT
DTSTART;TZID=America/New_York:20260607T140000
DTEND;TZID=America/New_York:20260607T160000
DTSTAMP:20260421T090120
CREATED:20250820T015003Z
LAST-MODIFIED:20260307T050428Z
UID:10002896-1780840800-1780848000@ballettech.org
SUMMARY:Kids Dance
DESCRIPTION:
URL:https://ballettech.org/event/kids-dance-4/
END:VEVENT
BEGIN:VEVENT
DTSTART;TZID=America/New_York:20260606T190000
DTEND;TZID=America/New_York:20260606T210000
DTSTAMP:20260421T090120
CREATED:20250820T014930Z
LAST-MODIFIED:20260307T050420Z
UID:10002895-1780772400-1780779600@ballettech.org
SUMMARY:Kids Dance
DESCRIPTION:
URL:https://ballettech.org/event/kids-dance-3/
END:VEVENT
BEGIN:VEVENT
DTSTART;TZID=America/New_York:20260606T140000
DTEND;TZID=America/New_York:20260606T160000
DTSTAMP:20260421T090120
CREATED:20250820T014858Z
LAST-MODIFIED:20260307T050402Z
UID:10002894-1780754400-1780761600@ballettech.org
SUMMARY:Kids Dance
DESCRIPTION:
URL:https://ballettech.org/event/kids-dance-2/
END:VEVENT
BEGIN:VEVENT
DTSTART;TZID=America/New_York:20260605T190000
DTEND;TZID=America/New_York:20260605T210000
DTSTAMP:20260421T090121
CREATED:20250820T014825Z
LAST-MODIFIED:20260307T050345Z
UID:10002893-1780686000-1780693200@ballettech.org
SUMMARY:Kids Dance
DESCRIPTION:
URL:https://ballettech.org/event/kids-dance/
END:VEVENT
BEGIN:VEVENT
DTSTART;VALUE=DATE:20260605
DTEND;VALUE=DATE:20260606
DTSTAMP:20260421T090121
CREATED:20250721T212702Z
LAST-MODIFIED:20260307T050908Z
UID:10002854-1780617600-1780703999@ballettech.org
SUMMARY:Clerical Day - No Academic Classes
DESCRIPTION:
URL:https://ballettech.org/event/clerical-day-no-academic-classes/
END:VEVENT
BEGIN:VEVENT
DTSTART;TZID=America/New_York:20260604T190000
DTEND;TZID=America/New_York:20260604T210000
DTSTAMP:20260421T090121
CREATED:20250721T212607Z
LAST-MODIFIED:20260307T050329Z
UID:10002852-1780599600-1780606800@ballettech.org
SUMMARY:Kids Dance
DESCRIPTION:
URL:https://ballettech.org/event/kids-dance-performances/
END:VEVENT
BEGIN:VEVENT
DTSTART;VALUE=DATE:20260604
DTEND;VALUE=DATE:20260605
DTSTAMP:20260421T090121
CREATED:20250721T212635Z
LAST-MODIFIED:20260307T050923Z
UID:10002853-1780531200-1780617599@ballettech.org
SUMMARY:Anniversary Day - No Academic Classes
DESCRIPTION:
URL:https://ballettech.org/event/anniversary-day-no-academic-classes/
END:VEVENT
BEGIN:VEVENT
DTSTART;VALUE=DATE:20260601
DTEND;VALUE=DATE:20260604
DTSTAMP:20260421T090121
CREATED:20250801T042006Z
LAST-MODIFIED:20260307T050935Z
UID:10002888-1780272000-1780531199@ballettech.org
SUMMARY:Kids Dance Tech Rehearsals
DESCRIPTION:Middle School Dancers
URL:https://ballettech.org/event/kids-dance-tech-rehearsals-2/
END:VEVENT
BEGIN:VEVENT
DTSTART;TZID=America/New_York:20260528T190000
DTEND;TZID=America/New_York:20260528T200000
DTSTAMP:20260421T090121
CREATED:20250801T041834Z
LAST-MODIFIED:20260307T050946Z
UID:10002886-1779994800-1779998400@ballettech.org
SUMMARY:PTA Meeting (Virtual)
DESCRIPTION:
URL:https://ballettech.org/event/pta-meeting-virtual-4/
END:VEVENT
BEGIN:VEVENT
DTSTART;TZID=America/New_York:20260528T160000
DTEND;TZID=America/New_York:20260528T173000
DTSTAMP:20260421T090121
CREATED:20250918T212556Z
LAST-MODIFIED:20260307T050302Z
UID:10002920-1779984000-1779989400@ballettech.org
SUMMARY:SLT Meeting
DESCRIPTION:
URL:https://ballettech.org/event/slt-meeting-9/
END:VEVENT
BEGIN:VEVENT
DTSTART;TZID=America/New_York:20260526T190000
DTEND;TZID=America/New_York:20260527T185959
DTSTAMP:20260421T090121
CREATED:20250721T212421Z
LAST-MODIFIED:20250721T212421Z
UID:10002851-1779822000-1779908399@ballettech.org
SUMMARY:Eid al-Adha - School Closed
DESCRIPTION:
URL:https://ballettech.org/event/eid-al-adha-school-closed/
END:VEVENT
BEGIN:VEVENT
DTSTART;TZID=America/New_York:20260524T190000
DTEND;TZID=America/New_York:20260525T185959
DTSTAMP:20260421T090121
CREATED:20250721T212353Z
LAST-MODIFIED:20250721T212353Z
UID:10002850-1779649200-1779735599@ballettech.org
SUMMARY:Memorial Day - School Closed
DESCRIPTION:
URL:https://ballettech.org/event/memorial-day-school-closed/
END:VEVENT
BEGIN:VEVENT
DTSTART;TZID=America/New_York:20260521T173000
DTEND;TZID=America/New_York:20260521T193000
DTSTAMP:20260421T090121
CREATED:20250903T030355Z
LAST-MODIFIED:20260307T050250Z
UID:10002908-1779384600-1779391800@ballettech.org
SUMMARY:Night of the Arts
DESCRIPTION:
URL:https://ballettech.org/event/night-of-the-arts/
END:VEVENT
BEGIN:VEVENT
DTSTART;TZID=America/New_York:20260516T150000
DTEND;TZID=America/New_York:20260516T151500
DTSTAMP:20260421T090121
CREATED:20250820T012508Z
LAST-MODIFIED:20260307T050233Z
UID:10002890-1778943600-1778944500@ballettech.org
SUMMARY:Playscape Performs - "About Sprouts"
DESCRIPTION:
URL:https://ballettech.org/event/playscape-performs-about-sprouts-4/
END:VEVENT
BEGIN:VEVENT
DTSTART;TZID=America/New_York:20260516T140000
DTEND;TZID=America/New_York:20260516T141500
DTSTAMP:20260421T090121
CREATED:20250801T041619Z
LAST-MODIFIED:20260307T050544Z
UID:10002885-1778940000-1778940900@ballettech.org
SUMMARY:Playscape Performs - "About Sprouts"
DESCRIPTION:
URL:https://ballettech.org/event/playscape-performs-about-sprouts-2/
END:VEVENT
BEGIN:VEVENT
DTSTART;TZID=America/New_York:20260515T150000
DTEND;TZID=America/New_York:20260515T151500
DTSTAMP:20260421T090121
CREATED:20250820T012322Z
LAST-MODIFIED:20260307T050558Z
UID:10002889-1778857200-1778858100@ballettech.org
SUMMARY:Playscape Performs - "About Sprouts"
DESCRIPTION:
URL:https://ballettech.org/event/playscape-performs-about-sprouts-3/
END:VEVENT
BEGIN:VEVENT
DTSTART;TZID=America/New_York:20260515T140000
DTEND;TZID=America/New_York:20260515T141500
DTSTAMP:20260421T090121
CREATED:20250801T041543Z
LAST-MODIFIED:20260307T050612Z
UID:10002884-1778853600-1778854500@ballettech.org
SUMMARY:Playscape Performs - "About Sprouts"
DESCRIPTION:
URL:https://ballettech.org/event/playscape-performs-about-sprouts/
END:VEVENT
BEGIN:VEVENT
DTSTART;TZID=America/New_York:20260513T190000
DTEND;TZID=America/New_York:20260514T185959
DTSTAMP:20260421T090121
CREATED:20250820T012550Z
LAST-MODIFIED:20250820T012550Z
UID:10002891-1778698800-1778785199@ballettech.org
SUMMARY:Playscape Performs Tech Rehearsal
DESCRIPTION:
URL:https://ballettech.org/event/playscape-performs-tech-rehearsal-2/
END:VEVENT
BEGIN:VEVENT
DTSTART;TZID=America/New_York:20260511T190000
DTEND;TZID=America/New_York:20260512T185959
DTSTAMP:20260421T090121
CREATED:20250903T030028Z
LAST-MODIFIED:20250903T030028Z
UID:10002907-1778526000-1778612399@ballettech.org
SUMMARY:NYS Science Exam (5th Grade)
DESCRIPTION:
URL:https://ballettech.org/event/nys-science-exam-5th-grade-2/
END:VEVENT
BEGIN:VEVENT
DTSTART;TZID=America/New_York:20260508T140000
DTEND;TZID=America/New_York:20260508T140000
DTSTAMP:20260421T090121
CREATED:20250801T040955Z
LAST-MODIFIED:20260307T050646Z
UID:10002882-1778248800-1778248800@ballettech.org
SUMMARY:Spring Dance
DESCRIPTION:Elementary School: 2pm – 3:45pm\nMiddle School: 4pm – 6pm
URL:https://ballettech.org/event/spring-dance/
END:VEVENT
BEGIN:VEVENT
DTSTART;TZID=America/New_York:20260429T190000
DTEND;TZID=America/New_York:20260501T185959
DTSTAMP:20260421T090121
CREATED:20250903T025956Z
LAST-MODIFIED:20250903T025956Z
UID:10002906-1777489200-1777661999@ballettech.org
SUMMARY:NYS Math Exams (Elementary School)
DESCRIPTION:
URL:https://ballettech.org/event/nys-math-exams-elementary-school/
END:VEVENT
BEGIN:VEVENT
DTSTART;TZID=America/New_York:20260427T190000
DTEND;TZID=America/New_York:20260429T185959
DTSTAMP:20260421T090121
CREATED:20250903T025922Z
LAST-MODIFIED:20250903T025922Z
UID:10002905-1777316400-1777489199@ballettech.org
SUMMARY:NYS Math Exams (6th & 7th Grades)
DESCRIPTION:
URL:https://ballettech.org/event/nys-math-exams-6th-7th-grades-2/
END:VEVENT
BEGIN:VEVENT
DTSTART;TZID=America/New_York:20260423T180000
DTEND;TZID=America/New_York:20260423T193000
DTSTAMP:20260421T090121
CREATED:20250801T041111Z
LAST-MODIFIED:20260307T050705Z
UID:10002883-1776967200-1776972600@ballettech.org
SUMMARY:PTA Meeting - Science Night
DESCRIPTION:
URL:https://ballettech.org/event/pta-meeting-science-night/
END:VEVENT
BEGIN:VEVENT
DTSTART;TZID=America/New_York:20260423T160000
DTEND;TZID=America/New_York:20260423T173000
DTSTAMP:20260421T090121
CREATED:20250918T212525Z
LAST-MODIFIED:20260307T050726Z
UID:10002919-1776960000-1776965400@ballettech.org
SUMMARY:SLT Meeting
DESCRIPTION:
URL:https://ballettech.org/event/slt-meeting-8/
END:VEVENT
BEGIN:VEVENT
DTSTART;TZID=America/New_York:20260415T190000
DTEND;TZID=America/New_York:20260417T185959
DTSTAMP:20260421T090121
CREATED:20250903T025847Z
LAST-MODIFIED:20250903T025847Z
UID:10002904-1776279600-1776452399@ballettech.org
SUMMARY:NYS ELA Exams (Middle School)
DESCRIPTION:
URL:https://ballettech.org/event/nys-ela-exams-middle-school-2/
END:VEVENT
BEGIN:VEVENT
DTSTART;TZID=America/New_York:20260413T190000
DTEND;TZID=America/New_York:20260415T185959
DTSTAMP:20260421T090121
CREATED:20250903T025814Z
LAST-MODIFIED:20250903T025814Z
UID:10002903-1776106800-1776279599@ballettech.org
SUMMARY:NYS ELA Exams (Elementary School)
DESCRIPTION:
URL:https://ballettech.org/event/nys-ela-exams-elementary-school/
END:VEVENT
BEGIN:VEVENT
DTSTART;TZID=America/New_York:20260412T190000
DTEND;TZID=America/New_York:20260413T185959
DTSTAMP:20260421T090121
CREATED:20250721T212317Z
LAST-MODIFIED:20250721T212317Z
UID:10002849-1776020400-1776106799@ballettech.org
SUMMARY:Classes Resume
DESCRIPTION:
URL:https://ballettech.org/event/classes-resume-3/
END:VEVENT
BEGIN:VEVENT
DTSTART;TZID=America/New_York:20260401T190000
DTEND;TZID=America/New_York:20260410T185959
DTSTAMP:20260421T090121
CREATED:20250721T212254Z
LAST-MODIFIED:20250721T212254Z
UID:10002848-1775070000-1775847599@ballettech.org
SUMMARY:Spring Recess - School Closed
DESCRIPTION:
URL:https://ballettech.org/event/spring-recess-school-closed/
END:VEVENT
BEGIN:VEVENT
DTSTART;TZID=America/New_York:20260324T160000
DTEND;TZID=America/New_York:20260324T170000
DTSTAMP:20260421T090121
CREATED:20250915T215852Z
LAST-MODIFIED:20260307T050812Z
UID:10002912-1774368000-1774371600@ballettech.org
SUMMARY:Open Audition: Incoming 4th and 5th Grade
DESCRIPTION:
URL:https://ballettech.org/event/open-audition-incoming-4th-grade-2/
LOCATION:Ballet Tech\, 890 Broadway\, New York\, NY\, 11218\, United States
CATEGORIES:Elementary School Audition
END:VEVENT
BEGIN:VEVENT
DTSTART;VALUE=DATE:20260320
DTEND;VALUE=DATE:20260321
DTSTAMP:20260421T090121
CREATED:20250721T212151Z
LAST-MODIFIED:20260307T050108Z
UID:10002847-1773964800-1774051199@ballettech.org
SUMMARY:Eid al-Fitr - School Closed
DESCRIPTION:
URL:https://ballettech.org/event/eid-al-fitr-school-closed/
END:VEVENT
END:VCALENDAR