BEGIN:VCALENDAR
VERSION:2.0
PRODID:-//Ballet Tech - ECPv6.15.18//NONSGML v1.0//EN
CALSCALE:GREGORIAN
METHOD:PUBLISH
X-WR-CALNAME:Ballet Tech
X-ORIGINAL-URL:https://ballettech.org
X-WR-CALDESC:Events for Ballet Tech
REFRESH-INTERVAL;VALUE=DURATION:PT1H
X-Robots-Tag:noindex
X-PUBLISHED-TTL:PT1H
BEGIN:VTIMEZONE
TZID:America/New_York
BEGIN:DAYLIGHT
TZOFFSETFROM:-0500
TZOFFSETTO:-0400
TZNAME:EDT
DTSTART:20250309T070000
END:DAYLIGHT
BEGIN:STANDARD
TZOFFSETFROM:-0400
TZOFFSETTO:-0500
TZNAME:EST
DTSTART:20251102T060000
END:STANDARD
BEGIN:DAYLIGHT
TZOFFSETFROM:-0500
TZOFFSETTO:-0400
TZNAME:EDT
DTSTART:20260308T070000
END:DAYLIGHT
BEGIN:STANDARD
TZOFFSETFROM:-0400
TZOFFSETTO:-0500
TZNAME:EST
DTSTART:20261101T060000
END:STANDARD
BEGIN:DAYLIGHT
TZOFFSETFROM:-0500
TZOFFSETTO:-0400
TZNAME:EDT
DTSTART:20270314T070000
END:DAYLIGHT
BEGIN:STANDARD
TZOFFSETFROM:-0400
TZOFFSETTO:-0500
TZNAME:EST
DTSTART:20271107T060000
END:STANDARD
END:VTIMEZONE
BEGIN:VEVENT
DTSTART;TZID=America/New_York:20260624T170000
DTEND;TZID=America/New_York:20260624T180000
DTSTAMP:20260421T074740
CREATED:20250721T213010Z
LAST-MODIFIED:20260307T050525Z
UID:10002858-1782320400-1782324000@ballettech.org
SUMMARY:8th Grade Graduation
DESCRIPTION:
URL:https://ballettech.org/event/8th-grade-graduation/
END:VEVENT
BEGIN:VEVENT
DTSTART;TZID=America/New_York:20260625T190000
DTEND;TZID=America/New_York:20260626T185959
DTSTAMP:20260421T074740
CREATED:20250721T213035Z
LAST-MODIFIED:20250721T213035Z
UID:10002859-1782414000-1782500399@ballettech.org
SUMMARY:Last Day of School\, 2025-26
DESCRIPTION:
URL:https://ballettech.org/event/last-day-of-school-2025-26/
END:VEVENT
BEGIN:VEVENT
DTSTART;TZID=America/New_York:20260625T190000
DTEND;TZID=America/New_York:20260626T185959
DTSTAMP:20260421T074740
CREATED:20250903T030552Z
LAST-MODIFIED:20250903T030552Z
UID:10002909-1782414000-1782500399@ballettech.org
SUMMARY:End of Spring Term / Marking Period 3
DESCRIPTION:
URL:https://ballettech.org/event/end-of-spring-term-marking-period-3/
END:VEVENT
END:VCALENDAR