BEGIN:VCALENDAR
VERSION:2.0
PRODID:-//Ballet Tech - ECPv6.15.18//NONSGML v1.0//EN
CALSCALE:GREGORIAN
METHOD:PUBLISH
X-ORIGINAL-URL:https://ballettech.org
X-WR-CALDESC:Events for Ballet Tech
REFRESH-INTERVAL;VALUE=DURATION:PT1H
X-Robots-Tag:noindex
X-PUBLISHED-TTL:PT1H
BEGIN:VTIMEZONE
TZID:America/New_York
BEGIN:DAYLIGHT
TZOFFSETFROM:-0500
TZOFFSETTO:-0400
TZNAME:EDT
DTSTART:20250309T070000
END:DAYLIGHT
BEGIN:STANDARD
TZOFFSETFROM:-0400
TZOFFSETTO:-0500
TZNAME:EST
DTSTART:20251102T060000
END:STANDARD
BEGIN:DAYLIGHT
TZOFFSETFROM:-0500
TZOFFSETTO:-0400
TZNAME:EDT
DTSTART:20260308T070000
END:DAYLIGHT
BEGIN:STANDARD
TZOFFSETFROM:-0400
TZOFFSETTO:-0500
TZNAME:EST
DTSTART:20261101T060000
END:STANDARD
BEGIN:DAYLIGHT
TZOFFSETFROM:-0500
TZOFFSETTO:-0400
TZNAME:EDT
DTSTART:20270314T070000
END:DAYLIGHT
BEGIN:STANDARD
TZOFFSETFROM:-0400
TZOFFSETTO:-0500
TZNAME:EST
DTSTART:20271107T060000
END:STANDARD
END:VTIMEZONE
BEGIN:VEVENT
DTSTART;TZID=America/New_York:20260617T091500
DTEND;TZID=America/New_York:20260617T121500
DTSTAMP:20260421T074847
CREATED:20250721T212823Z
LAST-MODIFIED:20260307T050439Z
UID:10002855-1781687700-1781698500@ballettech.org
SUMMARY:Algebra I Regents Exam (8th Grade)
DESCRIPTION:
URL:https://ballettech.org/event/algebra-i-regents-exam-8th-grade/
END:VEVENT
BEGIN:VEVENT
DTSTART;TZID=America/New_York:20260617T160000
DTEND;TZID=America/New_York:20260617T173000
DTSTAMP:20260421T074847
CREATED:20250918T212621Z
LAST-MODIFIED:20260307T050451Z
UID:10002921-1781712000-1781717400@ballettech.org
SUMMARY:SLT Meeting
DESCRIPTION:
URL:https://ballettech.org/event/slt-meeting-10/
END:VEVENT
BEGIN:VEVENT
DTSTART;TZID=America/New_York:20260617T190000
DTEND;TZID=America/New_York:20260617T200000
DTSTAMP:20260421T074847
CREATED:20250801T041915Z
LAST-MODIFIED:20260307T050502Z
UID:10002887-1781722800-1781726400@ballettech.org
SUMMARY:PTA Meeting (Virtual)
DESCRIPTION:
URL:https://ballettech.org/event/pta-meeting-virtual-5/
END:VEVENT
BEGIN:VEVENT
DTSTART;TZID=America/New_York:20260618T091500
DTEND;TZID=America/New_York:20260618T121500
DTSTAMP:20260421T074847
CREATED:20250721T212906Z
LAST-MODIFIED:20260307T050513Z
UID:10002856-1781774100-1781784900@ballettech.org
SUMMARY:Biology Regents Exam (8th Grade)
DESCRIPTION:
URL:https://ballettech.org/event/biology-regents-exam-8th-grade/
END:VEVENT
BEGIN:VEVENT
DTSTART;TZID=America/New_York:20260618T190000
DTEND;TZID=America/New_York:20260619T185959
DTSTAMP:20260421T074847
CREATED:20250721T212934Z
LAST-MODIFIED:20250721T212934Z
UID:10002857-1781809200-1781895599@ballettech.org
SUMMARY:Juneteenth - School Closed
DESCRIPTION:
URL:https://ballettech.org/event/juneteenth-school-closed/
END:VEVENT
BEGIN:VEVENT
DTSTART;TZID=America/New_York:20260624T170000
DTEND;TZID=America/New_York:20260624T180000
DTSTAMP:20260421T074847
CREATED:20250721T213010Z
LAST-MODIFIED:20260307T050525Z
UID:10002858-1782320400-1782324000@ballettech.org
SUMMARY:8th Grade Graduation
DESCRIPTION:
URL:https://ballettech.org/event/8th-grade-graduation/
END:VEVENT
BEGIN:VEVENT
DTSTART;TZID=America/New_York:20260625T190000
DTEND;TZID=America/New_York:20260626T185959
DTSTAMP:20260421T074847
CREATED:20250721T213035Z
LAST-MODIFIED:20250721T213035Z
UID:10002859-1782414000-1782500399@ballettech.org
SUMMARY:Last Day of School\, 2025-26
DESCRIPTION:
URL:https://ballettech.org/event/last-day-of-school-2025-26/
END:VEVENT
BEGIN:VEVENT
DTSTART;TZID=America/New_York:20260625T190000
DTEND;TZID=America/New_York:20260626T185959
DTSTAMP:20260421T074847
CREATED:20250903T030552Z
LAST-MODIFIED:20250903T030552Z
UID:10002909-1782414000-1782500399@ballettech.org
SUMMARY:End of Spring Term / Marking Period 3
DESCRIPTION:
URL:https://ballettech.org/event/end-of-spring-term-marking-period-3/
END:VEVENT
END:VCALENDAR