BEGIN:VCALENDAR
VERSION:2.0
PRODID:-//Ballet Tech - ECPv6.15.18//NONSGML v1.0//EN
CALSCALE:GREGORIAN
METHOD:PUBLISH
X-WR-CALNAME:Ballet Tech
X-ORIGINAL-URL:https://ballettech.org
X-WR-CALDESC:Events for Ballet Tech
REFRESH-INTERVAL;VALUE=DURATION:PT1H
X-Robots-Tag:noindex
X-PUBLISHED-TTL:PT1H
BEGIN:VTIMEZONE
TZID:America/New_York
BEGIN:DAYLIGHT
TZOFFSETFROM:-0500
TZOFFSETTO:-0400
TZNAME:EDT
DTSTART:20240310T070000
END:DAYLIGHT
BEGIN:STANDARD
TZOFFSETFROM:-0400
TZOFFSETTO:-0500
TZNAME:EST
DTSTART:20241103T060000
END:STANDARD
BEGIN:DAYLIGHT
TZOFFSETFROM:-0500
TZOFFSETTO:-0400
TZNAME:EDT
DTSTART:20250309T070000
END:DAYLIGHT
BEGIN:STANDARD
TZOFFSETFROM:-0400
TZOFFSETTO:-0500
TZNAME:EST
DTSTART:20251102T060000
END:STANDARD
BEGIN:DAYLIGHT
TZOFFSETFROM:-0500
TZOFFSETTO:-0400
TZNAME:EDT
DTSTART:20260308T070000
END:DAYLIGHT
BEGIN:STANDARD
TZOFFSETFROM:-0400
TZOFFSETTO:-0500
TZNAME:EST
DTSTART:20261101T060000
END:STANDARD
END:VTIMEZONE
BEGIN:VEVENT
DTSTART;TZID=America/New_York:20250205T173000
DTEND;TZID=America/New_York:20250205T190000
DTSTAMP:20260423T122048
CREATED:20240829T181501Z
LAST-MODIFIED:20240829T181501Z
UID:10000917-1738776600-1738782000@ballettech.org
SUMMARY:Multicultural Dinner (Elementary School)
DESCRIPTION:
URL:https://ballettech.org/event/multicultural-dinner-elementary-school/
END:VEVENT
BEGIN:VEVENT
DTSTART;TZID=America/New_York:20250206T173000
DTEND;TZID=America/New_York:20250206T190000
DTSTAMP:20260423T122048
CREATED:20240829T181536Z
LAST-MODIFIED:20240829T181536Z
UID:10000918-1738863000-1738868400@ballettech.org
SUMMARY:Multicultural Dinner (Middle School)
DESCRIPTION:
URL:https://ballettech.org/event/multicultural-dinner-middle-school/
END:VEVENT
BEGIN:VEVENT
DTSTART;TZID=America/New_York:20250213T160000
DTEND;TZID=America/New_York:20250213T170000
DTSTAMP:20260423T122048
CREATED:20240910T214734Z
LAST-MODIFIED:20241224T025625Z
UID:10000957-1739462400-1739466000@ballettech.org
SUMMARY:SLT Meeting
DESCRIPTION:
URL:https://ballettech.org/event/slt-meeting-73/
END:VEVENT
BEGIN:VEVENT
DTSTART;TZID=America/New_York:20250213T180000
DTEND;TZID=America/New_York:20250213T193000
DTSTAMP:20260423T122048
CREATED:20240829T181609Z
LAST-MODIFIED:20241224T025313Z
UID:10000919-1739469600-1739475000@ballettech.org
SUMMARY:PTA Meeting
DESCRIPTION:
URL:https://ballettech.org/event/pta-meeting-60/
CATEGORIES:PTA Meeting
END:VEVENT
BEGIN:VEVENT
DTSTART;TZID=America/New_York:20250217T000000
DTEND;TZID=America/New_York:20250221T235959
DTSTAMP:20260423T122048
CREATED:20240815T221454Z
LAST-MODIFIED:20240815T221454Z
UID:10000568-1739750400-1740182399@ballettech.org
SUMMARY:Mid-Winter Recess -- School Closed
DESCRIPTION:
URL:https://ballettech.org/event/mid-winter-recess-school-closed-2/
END:VEVENT
BEGIN:VEVENT
DTSTART;TZID=America/New_York:20250224T000000
DTEND;TZID=America/New_York:20250224T235959
DTSTAMP:20260423T122048
CREATED:20240815T221512Z
LAST-MODIFIED:20240815T221512Z
UID:10000569-1740355200-1740441599@ballettech.org
SUMMARY:Classes Resume
DESCRIPTION:
URL:https://ballettech.org/event/classes-resume-23/
END:VEVENT
BEGIN:VEVENT
DTSTART;TZID=America/New_York:20250225T110000
DTEND;TZID=America/New_York:20250225T120000
DTSTAMP:20260423T122048
CREATED:20241114T231658Z
LAST-MODIFIED:20250204T185654Z
UID:10001963-1740481200-1740484800@ballettech.org
SUMMARY:Open Audition: Incoming 4th Grade
DESCRIPTION:Open Auditions 2024-25 For students currently enrolled in 3rd grade.
URL:https://ballettech.org/event/open-auditions-2024-25/
CATEGORIES:Elementary School Audition
END:VEVENT
END:VCALENDAR