BEGIN:VCALENDAR
VERSION:2.0
PRODID:-//Ballet Tech - ECPv6.15.18//NONSGML v1.0//EN
CALSCALE:GREGORIAN
METHOD:PUBLISH
X-ORIGINAL-URL:https://ballettech.org
X-WR-CALDESC:Events for Ballet Tech
REFRESH-INTERVAL;VALUE=DURATION:PT1H
X-Robots-Tag:noindex
X-PUBLISHED-TTL:PT1H
BEGIN:VTIMEZONE
TZID:America/New_York
BEGIN:DAYLIGHT
TZOFFSETFROM:-0500
TZOFFSETTO:-0400
TZNAME:EDT
DTSTART:20240310T070000
END:DAYLIGHT
BEGIN:STANDARD
TZOFFSETFROM:-0400
TZOFFSETTO:-0500
TZNAME:EST
DTSTART:20241103T060000
END:STANDARD
BEGIN:DAYLIGHT
TZOFFSETFROM:-0500
TZOFFSETTO:-0400
TZNAME:EDT
DTSTART:20250309T070000
END:DAYLIGHT
BEGIN:STANDARD
TZOFFSETFROM:-0400
TZOFFSETTO:-0500
TZNAME:EST
DTSTART:20251102T060000
END:STANDARD
BEGIN:DAYLIGHT
TZOFFSETFROM:-0500
TZOFFSETTO:-0400
TZNAME:EDT
DTSTART:20260308T070000
END:DAYLIGHT
BEGIN:STANDARD
TZOFFSETFROM:-0400
TZOFFSETTO:-0500
TZNAME:EST
DTSTART:20261101T060000
END:STANDARD
END:VTIMEZONE
BEGIN:VEVENT
DTSTART;TZID=America/New_York:20250305T160000
DTEND;TZID=America/New_York:20250305T190000
DTSTAMP:20260423T105319
CREATED:20240815T221756Z
LAST-MODIFIED:20240815T221756Z
UID:10000572-1741190400-1741201200@ballettech.org
SUMMARY:Parent-Teacher Conferences (Evening)
DESCRIPTION:
URL:https://ballettech.org/event/parent-teacher-conferences-evening-3/
END:VEVENT
BEGIN:VEVENT
DTSTART;TZID=America/New_York:20250306T000000
DTEND;TZID=America/New_York:20250306T235959
DTSTAMP:20260423T105319
CREATED:20240815T222012Z
LAST-MODIFIED:20240815T222012Z
UID:10000574-1741219200-1741305599@ballettech.org
SUMMARY:Early Dismissal
DESCRIPTION:Elementary School Dismissal: 11:35am\nMiddle School Dismissal: 11:40am
URL:https://ballettech.org/event/early-dismissal-10/
END:VEVENT
BEGIN:VEVENT
DTSTART;TZID=America/New_York:20250306T130000
DTEND;TZID=America/New_York:20250306T160000
DTSTAMP:20260423T105319
CREATED:20240815T221938Z
LAST-MODIFIED:20240815T221938Z
UID:10000573-1741266000-1741276800@ballettech.org
SUMMARY:Parent-Teacher Conferences (Afternoon)
DESCRIPTION:
URL:https://ballettech.org/event/parent-teacher-conferences-afternoon-3/
END:VEVENT
BEGIN:VEVENT
DTSTART;TZID=America/New_York:20250309T230000
DTEND;TZID=America/New_York:20250314T225959
DTSTAMP:20260423T105319
CREATED:20240829T182451Z
LAST-MODIFIED:20240829T182451Z
UID:10000601-1741561200-1741993199@ballettech.org
SUMMARY:Open Class Week (Dance Classes Only)
DESCRIPTION:
URL:https://ballettech.org/event/open-class-week-dance-classes-only-2/
END:VEVENT
BEGIN:VEVENT
DTSTART;TZID=America/New_York:20250318T230000
DTEND;TZID=America/New_York:20250319T225959
DTSTAMP:20260423T105319
CREATED:20240829T182616Z
LAST-MODIFIED:20240829T182616Z
UID:10000603-1742338800-1742425199@ballettech.org
SUMMARY:Last Day of Winter Introduction to Ballet Program (BT Foundation)
DESCRIPTION:
URL:https://ballettech.org/event/last-day-of-winter-introduction-to-ballet-program-bt-foundation/
END:VEVENT
BEGIN:VEVENT
DTSTART;TZID=America/New_York:20250320T150000
DTEND;TZID=America/New_York:20250320T160000
DTSTAMP:20260423T105319
CREATED:20240910T214823Z
LAST-MODIFIED:20241224T025558Z
UID:10000958-1742482800-1742486400@ballettech.org
SUMMARY:SLT Meeting
DESCRIPTION:
URL:https://ballettech.org/event/slt-meeting-74/
END:VEVENT
BEGIN:VEVENT
DTSTART;TZID=America/New_York:20250320T170000
DTEND;TZID=America/New_York:20250320T183000
DTSTAMP:20260423T105319
CREATED:20240829T182529Z
LAST-MODIFIED:20241224T025155Z
UID:10000602-1742490000-1742495400@ballettech.org
SUMMARY:PTA Meeting
DESCRIPTION:
URL:https://ballettech.org/event/pta-meeting-61/
CATEGORIES:PTA Meeting
END:VEVENT
BEGIN:VEVENT
DTSTART;TZID=America/New_York:20250320T230000
DTEND;TZID=America/New_York:20250321T225959
DTSTAMP:20260423T105319
CREATED:20240815T221632Z
LAST-MODIFIED:20240815T221632Z
UID:10000570-1742511600-1742597999@ballettech.org
SUMMARY:End of Winter Term / Marking Period 2
DESCRIPTION:
URL:https://ballettech.org/event/end-of-winter-term-marking-period-2-2/
END:VEVENT
BEGIN:VEVENT
DTSTART;TZID=America/New_York:20250325T110000
DTEND;TZID=America/New_York:20250325T120000
DTSTAMP:20260423T105319
CREATED:20241114T231749Z
LAST-MODIFIED:20250204T185647Z
UID:10001964-1742900400-1742904000@ballettech.org
SUMMARY:Open Audition: Incoming 4th Grade
DESCRIPTION:Open Auditions 2024-25 for students currently enrolled in 3rd grade.
URL:https://ballettech.org/event/open-auditions-2024-25-2/
CATEGORIES:Elementary School Audition
END:VEVENT
BEGIN:VEVENT
DTSTART;TZID=America/New_York:20250330T230000
DTEND;TZID=America/New_York:20250331T225959
DTSTAMP:20260423T105319
CREATED:20240815T221706Z
LAST-MODIFIED:20240815T221706Z
UID:10000571-1743375600-1743461999@ballettech.org
SUMMARY:Eid al-Fitr -- School Closed
DESCRIPTION:
URL:https://ballettech.org/event/eid-al-fitr-school-closed-3/
END:VEVENT
END:VCALENDAR