BEGIN:VCALENDAR
VERSION:2.0
PRODID:-//Ballet Tech - ECPv6.15.18//NONSGML v1.0//EN
CALSCALE:GREGORIAN
METHOD:PUBLISH
X-ORIGINAL-URL:https://ballettech.org
X-WR-CALDESC:Events for Ballet Tech
REFRESH-INTERVAL;VALUE=DURATION:PT1H
X-Robots-Tag:noindex
X-PUBLISHED-TTL:PT1H
BEGIN:VTIMEZONE
TZID:America/New_York
BEGIN:DAYLIGHT
TZOFFSETFROM:-0500
TZOFFSETTO:-0400
TZNAME:EDT
DTSTART:20240310T070000
END:DAYLIGHT
BEGIN:STANDARD
TZOFFSETFROM:-0400
TZOFFSETTO:-0500
TZNAME:EST
DTSTART:20241103T060000
END:STANDARD
BEGIN:DAYLIGHT
TZOFFSETFROM:-0500
TZOFFSETTO:-0400
TZNAME:EDT
DTSTART:20250309T070000
END:DAYLIGHT
BEGIN:STANDARD
TZOFFSETFROM:-0400
TZOFFSETTO:-0500
TZNAME:EST
DTSTART:20251102T060000
END:STANDARD
BEGIN:DAYLIGHT
TZOFFSETFROM:-0500
TZOFFSETTO:-0400
TZNAME:EDT
DTSTART:20260308T070000
END:DAYLIGHT
BEGIN:STANDARD
TZOFFSETFROM:-0400
TZOFFSETTO:-0500
TZNAME:EST
DTSTART:20261101T060000
END:STANDARD
END:VTIMEZONE
BEGIN:VEVENT
DTSTART;TZID=America/New_York:20250410T130000
DTEND;TZID=America/New_York:20250410T170000
DTSTAMP:20260423T085413
CREATED:20240829T183825Z
LAST-MODIFIED:20250404T201907Z
UID:10000605-1744290000-1744304400@ballettech.org
SUMMARY:Spring Dance
DESCRIPTION:
URL:https://ballettech.org/event/spring-dance-6/
END:VEVENT
BEGIN:VEVENT
DTSTART;TZID=America/New_York:20250413T230000
DTEND;TZID=America/New_York:20250418T225959
DTSTAMP:20260423T085413
CREATED:20240815T222413Z
LAST-MODIFIED:20240815T222413Z
UID:10000575-1744585200-1745017199@ballettech.org
SUMMARY:Spring Recess -- School Closed
DESCRIPTION:
URL:https://ballettech.org/event/spring-recess-school-closed-4/
END:VEVENT
BEGIN:VEVENT
DTSTART;TZID=America/New_York:20250420T230000
DTEND;TZID=America/New_York:20250421T225959
DTSTAMP:20260423T085413
CREATED:20240815T222432Z
LAST-MODIFIED:20240815T222432Z
UID:10000576-1745190000-1745276399@ballettech.org
SUMMARY:Classes Resume
DESCRIPTION:
URL:https://ballettech.org/event/classes-resume-24/
END:VEVENT
BEGIN:VEVENT
DTSTART;TZID=America/New_York:20250424T150000
DTEND;TZID=America/New_York:20250424T160000
DTSTAMP:20260423T085413
CREATED:20240910T214942Z
LAST-MODIFIED:20241224T025504Z
UID:10000959-1745506800-1745510400@ballettech.org
SUMMARY:SLT Meeting
DESCRIPTION:
URL:https://ballettech.org/event/slt-meeting-75/
END:VEVENT
BEGIN:VEVENT
DTSTART;TZID=America/New_York:20250424T170000
DTEND;TZID=America/New_York:20250424T183000
DTSTAMP:20260423T085413
CREATED:20240829T183849Z
LAST-MODIFIED:20250404T202030Z
UID:10000606-1745514000-1745519400@ballettech.org
SUMMARY:PTA Meeting – Family Dance Class
DESCRIPTION:
URL:https://ballettech.org/event/pta-meeting-62/
CATEGORIES:PTA Meeting
END:VEVENT
BEGIN:VEVENT
DTSTART;TZID=America/New_York:20250428T230000
DTEND;TZID=America/New_York:20250430T225959
DTSTAMP:20260423T085413
CREATED:20240909T230957Z
LAST-MODIFIED:20240909T230957Z
UID:10000621-1745881200-1746053999@ballettech.org
SUMMARY:NYS ELA Exams (4th & 5th Grades)
DESCRIPTION:
URL:https://ballettech.org/event/nys-ela-exams-4th-5th-grades/
END:VEVENT
END:VCALENDAR