BEGIN:VCALENDAR
VERSION:2.0
PRODID:-//Ballet Tech - ECPv6.15.18//NONSGML v1.0//EN
CALSCALE:GREGORIAN
METHOD:PUBLISH
X-ORIGINAL-URL:https://ballettech.org
X-WR-CALDESC:Events for Ballet Tech
REFRESH-INTERVAL;VALUE=DURATION:PT1H
X-Robots-Tag:noindex
X-PUBLISHED-TTL:PT1H
BEGIN:VTIMEZONE
TZID:America/New_York
BEGIN:DAYLIGHT
TZOFFSETFROM:-0500
TZOFFSETTO:-0400
TZNAME:EDT
DTSTART:20240310T070000
END:DAYLIGHT
BEGIN:STANDARD
TZOFFSETFROM:-0400
TZOFFSETTO:-0500
TZNAME:EST
DTSTART:20241103T060000
END:STANDARD
BEGIN:DAYLIGHT
TZOFFSETFROM:-0500
TZOFFSETTO:-0400
TZNAME:EDT
DTSTART:20250309T070000
END:DAYLIGHT
BEGIN:STANDARD
TZOFFSETFROM:-0400
TZOFFSETTO:-0500
TZNAME:EST
DTSTART:20251102T060000
END:STANDARD
BEGIN:DAYLIGHT
TZOFFSETFROM:-0500
TZOFFSETTO:-0400
TZNAME:EDT
DTSTART:20260308T070000
END:DAYLIGHT
BEGIN:STANDARD
TZOFFSETFROM:-0400
TZOFFSETTO:-0500
TZNAME:EST
DTSTART:20261101T060000
END:STANDARD
END:VTIMEZONE
BEGIN:VEVENT
DTSTART;TZID=America/New_York:20250903T190000
DTEND;TZID=America/New_York:20250904T185959
DTSTAMP:20260421T111335
CREATED:20250721T210836Z
LAST-MODIFIED:20250721T210836Z
UID:10002833-1756926000-1757012399@ballettech.org
SUMMARY:First Day of School\, 2025-26
DESCRIPTION:
URL:https://ballettech.org/event/first-day-of-school-2025-26/
END:VEVENT
BEGIN:VEVENT
DTSTART;TZID=America/New_York:20250911T123000
DTEND;TZID=America/New_York:20250911T140000
DTSTAMP:20260421T111335
CREATED:20250731T212547Z
LAST-MODIFIED:20250731T212547Z
UID:10002860-1757593800-1757599200@ballettech.org
SUMMARY:Meet the Teachers Night
DESCRIPTION:
URL:https://ballettech.org/event/meet-the-teachers-night/
END:VEVENT
BEGIN:VEVENT
DTSTART;TZID=America/New_York:20250916T120000
DTEND;TZID=America/New_York:20250916T130000
DTSTAMP:20260421T111335
CREATED:20250820T013010Z
LAST-MODIFIED:20250820T013029Z
UID:10002892-1758024000-1758027600@ballettech.org
SUMMARY:Open Audition: Current 4th Graders
DESCRIPTION:
URL:https://ballettech.org/event/open-audition-current-4th-graders/
LOCATION:Ballet Tech\, 890 Broadway\, New York\, NY\, 11218\, United States
CATEGORIES:Auditions,Elementary School Audition
END:VEVENT
BEGIN:VEVENT
DTSTART;TZID=America/New_York:20250917T110000
DTEND;TZID=America/New_York:20250917T120000
DTSTAMP:20260421T111335
CREATED:20250731T212652Z
LAST-MODIFIED:20250731T212652Z
UID:10002861-1758106800-1758110400@ballettech.org
SUMMARY:SLT Meeting
DESCRIPTION:
URL:https://ballettech.org/event/slt-meeting/
END:VEVENT
BEGIN:VEVENT
DTSTART;TZID=America/New_York:20250917T140000
DTEND;TZID=America/New_York:20250917T150000
DTSTAMP:20260421T111335
CREATED:20250731T212730Z
LAST-MODIFIED:20250903T024228Z
UID:10002862-1758117600-1758121200@ballettech.org
SUMMARY:PTA Meeting (Virtual)
DESCRIPTION:
URL:https://ballettech.org/event/pta-meeting-virtual/
END:VEVENT
BEGIN:VEVENT
DTSTART;TZID=America/New_York:20250922T190000
DTEND;TZID=America/New_York:20250924T185959
DTSTAMP:20260421T111335
CREATED:20250721T211011Z
LAST-MODIFIED:20250721T211011Z
UID:10002834-1758567600-1758740399@ballettech.org
SUMMARY:Rosh Hashanah - School Closed
DESCRIPTION:
URL:https://ballettech.org/event/rosh-hashanah-school-closed/
END:VEVENT
BEGIN:VEVENT
DTSTART;TZID=America/New_York:20250925T123000
DTEND;TZID=America/New_York:20250925T140000
DTSTAMP:20260421T111335
CREATED:20250731T212929Z
LAST-MODIFIED:20250731T212929Z
UID:10002863-1758803400-1758808800@ballettech.org
SUMMARY:Harkness Nutrition Workshop for Families (Virtual)
DESCRIPTION:
URL:https://ballettech.org/event/harkness-nutrition-workshop-for-families-virtual/
END:VEVENT
END:VCALENDAR