BEGIN:VCALENDAR
VERSION:2.0
PRODID:-//Ballet Tech - ECPv6.15.18//NONSGML v1.0//EN
CALSCALE:GREGORIAN
METHOD:PUBLISH
X-WR-CALNAME:Ballet Tech
X-ORIGINAL-URL:https://ballettech.org
X-WR-CALDESC:Events for Ballet Tech
REFRESH-INTERVAL;VALUE=DURATION:PT1H
X-Robots-Tag:noindex
X-PUBLISHED-TTL:PT1H
BEGIN:VTIMEZONE
TZID:America/New_York
BEGIN:DAYLIGHT
TZOFFSETFROM:-0500
TZOFFSETTO:-0400
TZNAME:EDT
DTSTART:20230312T070000
END:DAYLIGHT
BEGIN:STANDARD
TZOFFSETFROM:-0400
TZOFFSETTO:-0500
TZNAME:EST
DTSTART:20231105T060000
END:STANDARD
BEGIN:DAYLIGHT
TZOFFSETFROM:-0500
TZOFFSETTO:-0400
TZNAME:EDT
DTSTART:20240310T070000
END:DAYLIGHT
BEGIN:STANDARD
TZOFFSETFROM:-0400
TZOFFSETTO:-0500
TZNAME:EST
DTSTART:20241103T060000
END:STANDARD
BEGIN:DAYLIGHT
TZOFFSETFROM:-0500
TZOFFSETTO:-0400
TZNAME:EDT
DTSTART:20250309T070000
END:DAYLIGHT
BEGIN:STANDARD
TZOFFSETFROM:-0400
TZOFFSETTO:-0500
TZNAME:EST
DTSTART:20251102T060000
END:STANDARD
BEGIN:DAYLIGHT
TZOFFSETFROM:-0500
TZOFFSETTO:-0400
TZNAME:EDT
DTSTART:20260308T070000
END:DAYLIGHT
BEGIN:STANDARD
TZOFFSETFROM:-0400
TZOFFSETTO:-0500
TZNAME:EST
DTSTART:20261101T060000
END:STANDARD
END:VTIMEZONE
BEGIN:VEVENT
DTSTART;TZID=America/New_York:20250617T170000
DTEND;TZID=America/New_York:20250617T183000
DTSTAMP:20260421T144828
CREATED:20240829T190402Z
LAST-MODIFIED:20241126T221346Z
UID:10000936-1750179600-1750185000@ballettech.org
SUMMARY:PTA Meeting
DESCRIPTION:
URL:https://ballettech.org/event/pta-meeting-64/
CATEGORIES:PTA Meeting
END:VEVENT
BEGIN:VEVENT
DTSTART;TZID=America/New_York:20250529T173000
DTEND;TZID=America/New_York:20250529T180000
DTSTAMP:20260421T144828
CREATED:20240829T184708Z
LAST-MODIFIED:20250514T004605Z
UID:10000607-1748539800-1748541600@ballettech.org
SUMMARY:PTA Meeting: Elections for 2025-26
DESCRIPTION:5:30pm – 6:30pm: Workshop for Elementary School Families\n6:30pm – 7:00pm: PTA Meeting for all grade levels\n7:00pm – 8:00pm: Workshop for Middle School Families
URL:https://ballettech.org/event/pta-meeting-63/
CATEGORIES:PTA Meeting
END:VEVENT
BEGIN:VEVENT
DTSTART;TZID=America/New_York:20250424T170000
DTEND;TZID=America/New_York:20250424T183000
DTSTAMP:20260421T144828
CREATED:20240829T183849Z
LAST-MODIFIED:20250404T202030Z
UID:10000606-1745514000-1745519400@ballettech.org
SUMMARY:PTA Meeting – Family Dance Class
DESCRIPTION:
URL:https://ballettech.org/event/pta-meeting-62/
CATEGORIES:PTA Meeting
END:VEVENT
BEGIN:VEVENT
DTSTART;TZID=America/New_York:20250320T170000
DTEND;TZID=America/New_York:20250320T183000
DTSTAMP:20260421T144828
CREATED:20240829T182529Z
LAST-MODIFIED:20241224T025155Z
UID:10000602-1742490000-1742495400@ballettech.org
SUMMARY:PTA Meeting
DESCRIPTION:
URL:https://ballettech.org/event/pta-meeting-61/
CATEGORIES:PTA Meeting
END:VEVENT
BEGIN:VEVENT
DTSTART;TZID=America/New_York:20250213T180000
DTEND;TZID=America/New_York:20250213T193000
DTSTAMP:20260421T144828
CREATED:20240829T181609Z
LAST-MODIFIED:20241224T025313Z
UID:10000919-1739469600-1739475000@ballettech.org
SUMMARY:PTA Meeting
DESCRIPTION:
URL:https://ballettech.org/event/pta-meeting-60/
CATEGORIES:PTA Meeting
END:VEVENT
BEGIN:VEVENT
DTSTART;TZID=America/New_York:20250116T180000
DTEND;TZID=America/New_York:20250116T193000
DTSTAMP:20260421T144828
CREATED:20240829T180829Z
LAST-MODIFIED:20241224T025355Z
UID:10000915-1737050400-1737055800@ballettech.org
SUMMARY:PTA Meeting
DESCRIPTION:
URL:https://ballettech.org/event/pta-meeting-59/
CATEGORIES:PTA Meeting
END:VEVENT
BEGIN:VEVENT
DTSTART;TZID=America/New_York:20241217T084500
DTEND;TZID=America/New_York:20241217T094500
DTSTAMP:20260421T144828
CREATED:20240829T180053Z
LAST-MODIFIED:20241126T182406Z
UID:10000914-1734425100-1734428700@ballettech.org
SUMMARY:PTA Meeting
DESCRIPTION:
URL:https://ballettech.org/event/pta-meeting-58/
CATEGORIES:PTA Meeting
END:VEVENT
BEGIN:VEVENT
DTSTART;TZID=America/New_York:20241119T180000
DTEND;TZID=America/New_York:20241119T193000
DTSTAMP:20260421T144828
CREATED:20240829T174034Z
LAST-MODIFIED:20241126T182412Z
UID:10000589-1732039200-1732044600@ballettech.org
SUMMARY:PTA Meeting
DESCRIPTION:
URL:https://ballettech.org/event/pta-meeting-57/
CATEGORIES:PTA Meeting
END:VEVENT
BEGIN:VEVENT
DTSTART;TZID=America/New_York:20241015T170000
DTEND;TZID=America/New_York:20241015T183000
DTSTAMP:20260421T144828
CREATED:20240829T173007Z
LAST-MODIFIED:20241126T182419Z
UID:10000588-1729011600-1729017000@ballettech.org
SUMMARY:PTA Meeting
DESCRIPTION:
URL:https://ballettech.org/event/pta-meeting-56/
CATEGORIES:PTA Meeting
END:VEVENT
BEGIN:VEVENT
DTSTART;TZID=America/New_York:20240917T170000
DTEND;TZID=America/New_York:20240917T180000
DTSTAMP:20260421T144828
CREATED:20240829T172049Z
LAST-MODIFIED:20241126T182425Z
UID:10000584-1726592400-1726596000@ballettech.org
SUMMARY:PTA Meeting
DESCRIPTION:
URL:https://ballettech.org/event/pta-meeting-55/
CATEGORIES:PTA Meeting
END:VEVENT
END:VCALENDAR