BEGIN:VCALENDAR
VERSION:2.0
PRODID:-//Ballet Tech - ECPv6.15.18//NONSGML v1.0//EN
CALSCALE:GREGORIAN
METHOD:PUBLISH
X-ORIGINAL-URL:https://ballettech.org/es/
X-WR-CALDESC:Eventos para Ballet Tech
REFRESH-INTERVAL;VALUE=DURATION:PT1H
X-Robots-Tag:noindex
X-PUBLISHED-TTL:PT1H
BEGIN:VTIMEZONE
TZID:America/New_York
BEGIN:DAYLIGHT
TZOFFSETFROM:-0500
TZOFFSETTO:-0400
TZNAME:EDT
DTSTART:20240310T070000
END:DAYLIGHT
BEGIN:STANDARD
TZOFFSETFROM:-0400
TZOFFSETTO:-0500
TZNAME:EST
DTSTART:20241103T060000
END:STANDARD
BEGIN:DAYLIGHT
TZOFFSETFROM:-0500
TZOFFSETTO:-0400
TZNAME:EDT
DTSTART:20250309T070000
END:DAYLIGHT
BEGIN:STANDARD
TZOFFSETFROM:-0400
TZOFFSETTO:-0500
TZNAME:EST
DTSTART:20251102T060000
END:STANDARD
BEGIN:DAYLIGHT
TZOFFSETFROM:-0500
TZOFFSETTO:-0400
TZNAME:EDT
DTSTART:20260308T070000
END:DAYLIGHT
BEGIN:STANDARD
TZOFFSETFROM:-0400
TZOFFSETTO:-0500
TZNAME:EST
DTSTART:20261101T060000
END:STANDARD
END:VTIMEZONE
BEGIN:VEVENT
DTSTART;TZID=America/New_York:20250305T160000
DTEND;TZID=America/New_York:20250305T190000
DTSTAMP:20260421T221620
CREATED:20240815T221756Z
LAST-MODIFIED:20241126T083543Z
UID:10002477-1741190400-1741201200@ballettech.org
SUMMARY:Conferencias de Padres y Maestros (Noche)
DESCRIPTION:
URL:https://ballettech.org/es/event/conferencias-de-padres-y-maestros-noche/
END:VEVENT
BEGIN:VEVENT
DTSTART;TZID=America/New_York:20250306T000000
DTEND;TZID=America/New_York:20250306T235959
DTSTAMP:20260421T221620
CREATED:20240815T222012Z
LAST-MODIFIED:20241126T083547Z
UID:10002495-1741219200-1741305599@ballettech.org
SUMMARY:Despido anticipado
DESCRIPTION:Salida de la escuela primaria: 11:35 a.m.\nSalida de la escuela intermedia: 11:40 a.m.
URL:https://ballettech.org/es/event/despido-anticipado-2/
END:VEVENT
BEGIN:VEVENT
DTSTART;TZID=America/New_York:20250306T130000
DTEND;TZID=America/New_York:20250306T160000
DTSTAMP:20260421T221620
CREATED:20240815T221938Z
LAST-MODIFIED:20241126T083546Z
UID:10002488-1741266000-1741276800@ballettech.org
SUMMARY:Conferencias de Padres y Maestros (tarde)
DESCRIPTION:
URL:https://ballettech.org/es/event/conferencias-de-padres-y-maestros-tarde/
END:VEVENT
BEGIN:VEVENT
DTSTART;TZID=America/New_York:20250309T230000
DTEND;TZID=America/New_York:20250314T225959
DTSTAMP:20260421T221620
CREATED:20240829T182451Z
LAST-MODIFIED:20241126T083420Z
UID:10002208-1741561200-1741993199@ballettech.org
SUMMARY:Semana de clases abiertas (solo clases de baile)
DESCRIPTION:
URL:https://ballettech.org/es/event/semana-de-clases-abiertas-solo-clases-de-baile/
END:VEVENT
BEGIN:VEVENT
DTSTART;TZID=America/New_York:20250318T230000
DTEND;TZID=America/New_York:20250319T225959
DTSTAMP:20260421T221620
CREATED:20240829T182616Z
LAST-MODIFIED:20241126T083423Z
UID:10002225-1742338800-1742425199@ballettech.org
SUMMARY:Último día del programa de introducción al ballet de invierno (Fundación BT)
DESCRIPTION:
URL:https://ballettech.org/es/event/ultimo-dia-del-programa-de-introduccion-al-ballet-de-invierno-fundacion-bt/
END:VEVENT
BEGIN:VEVENT
DTSTART;TZID=America/New_York:20250320T150000
DTEND;TZID=America/New_York:20250320T160000
DTSTAMP:20260421T221620
CREATED:20240910T214823Z
LAST-MODIFIED:20241126T083310Z
UID:10002009-1742482800-1742486400@ballettech.org
SUMMARY:Reunión de SLT
DESCRIPTION:
URL:https://ballettech.org/es/event/reunion-de-slt-3/
END:VEVENT
BEGIN:VEVENT
DTSTART;TZID=America/New_York:20250320T170000
DTEND;TZID=America/New_York:20250320T183000
DTSTAMP:20260421T221620
CREATED:20240829T182529Z
LAST-MODIFIED:20241126T083717Z
UID:10002759-1742490000-1742495400@ballettech.org
SUMMARY:Reunión de la PTA
DESCRIPTION:
URL:https://ballettech.org/es/event/reunion-de-la-pta-10/
END:VEVENT
BEGIN:VEVENT
DTSTART;TZID=America/New_York:20250320T230000
DTEND;TZID=America/New_York:20250321T225959
DTSTAMP:20260421T221620
CREATED:20240815T221632Z
LAST-MODIFIED:20241126T083651Z
UID:10002685-1742511600-1742597999@ballettech.org
SUMMARY:Fin del Trimestre de Invierno / Período de Calificación 2
DESCRIPTION:
URL:https://ballettech.org/es/event/fin-del-trimestre-de-invierno-periodo-de-calificacion-2/
END:VEVENT
BEGIN:VEVENT
DTSTART;TZID=America/New_York:20250325T110000
DTEND;TZID=America/New_York:20250325T120000
DTSTAMP:20260421T221620
CREATED:20241114T231749Z
LAST-MODIFIED:20241125T215603Z
UID:10001965-1742900400-1742904000@ballettech.org
SUMMARY:Audiciones abiertas 2024-25
DESCRIPTION:Audiciones abiertas 2024-25 para estudiantes actualmente matriculados en 3er grado.
URL:https://ballettech.org/es/event/audiciones-abiertas-2024-25/
CATEGORIES:Audición para la escuela primaria
END:VEVENT
BEGIN:VEVENT
DTSTART;TZID=America/New_York:20250330T230000
DTEND;TZID=America/New_York:20250331T225959
DTSTAMP:20260421T221620
CREATED:20240815T221706Z
LAST-MODIFIED:20241126T083530Z
UID:10002437-1743375600-1743461999@ballettech.org
SUMMARY:Eid al-Fitr -- Escuela cerrada
DESCRIPTION:
URL:https://ballettech.org/es/event/eid-al-fitr-escuela-cerrada/
END:VEVENT
END:VCALENDAR