BEGIN:VCALENDAR
VERSION:2.0
PRODID:-//Ballet Tech - ECPv6.15.18//NONSGML v1.0//EN
CALSCALE:GREGORIAN
METHOD:PUBLISH
X-WR-CALNAME:Ballet Tech
X-ORIGINAL-URL:https://ballettech.org/es/
X-WR-CALDESC:Eventos para Ballet Tech
REFRESH-INTERVAL;VALUE=DURATION:PT1H
X-Robots-Tag:noindex
X-PUBLISHED-TTL:PT1H
BEGIN:VTIMEZONE
TZID:America/New_York
BEGIN:DAYLIGHT
TZOFFSETFROM:-0500
TZOFFSETTO:-0400
TZNAME:EDT
DTSTART:20240310T070000
END:DAYLIGHT
BEGIN:STANDARD
TZOFFSETFROM:-0400
TZOFFSETTO:-0500
TZNAME:EST
DTSTART:20241103T060000
END:STANDARD
BEGIN:DAYLIGHT
TZOFFSETFROM:-0500
TZOFFSETTO:-0400
TZNAME:EDT
DTSTART:20250309T070000
END:DAYLIGHT
BEGIN:STANDARD
TZOFFSETFROM:-0400
TZOFFSETTO:-0500
TZNAME:EST
DTSTART:20251102T060000
END:STANDARD
BEGIN:DAYLIGHT
TZOFFSETFROM:-0500
TZOFFSETTO:-0400
TZNAME:EDT
DTSTART:20260308T070000
END:DAYLIGHT
BEGIN:STANDARD
TZOFFSETFROM:-0400
TZOFFSETTO:-0500
TZNAME:EST
DTSTART:20261101T060000
END:STANDARD
END:VTIMEZONE
BEGIN:VEVENT
DTSTART;TZID=America/New_York:20250430T230000
DTEND;TZID=America/New_York:20250502T225959
DTSTAMP:20260421T191930
CREATED:20240909T231032Z
LAST-MODIFIED:20241126T083455Z
UID:10002330-1746054000-1746226799@ballettech.org
SUMMARY:Exámenes ELA del Estado de Nueva York (escuela intermedia)
DESCRIPTION:
URL:https://ballettech.org/es/event/examenes-ela-del-estado-de-nueva-york-escuela-intermedia/
END:VEVENT
BEGIN:VEVENT
DTSTART;TZID=America/New_York:20250505T230000
DTEND;TZID=America/New_York:20250507T225959
DTSTAMP:20260421T191930
CREATED:20240909T231059Z
LAST-MODIFIED:20241126T083459Z
UID:10002338-1746486000-1746658799@ballettech.org
SUMMARY:Exámenes de Matemáticas del Estado de Nueva York (4º y 5º grados)
DESCRIPTION:
URL:https://ballettech.org/es/event/examenes-de-matematicas-del-estado-de-nueva-york-4o-y-5o-grados/
END:VEVENT
BEGIN:VEVENT
DTSTART;TZID=America/New_York:20250507T230000
DTEND;TZID=America/New_York:20250508T225959
DTSTAMP:20260421T191930
CREATED:20240909T231130Z
LAST-MODIFIED:20241126T083728Z
UID:10002794-1746658800-1746745199@ballettech.org
SUMMARY:Playscape realiza: Ensayo técnico
DESCRIPTION:
URL:https://ballettech.org/es/event/playscape-realiza-ensayo-tecnico/
END:VEVENT
BEGIN:VEVENT
DTSTART;TZID=America/New_York:20250509T130000
DTEND;TZID=America/New_York:20250509T131500
DTSTAMP:20260421T191930
CREATED:20240909T231221Z
LAST-MODIFIED:20241126T083502Z
UID:10002355-1746795600-1746796500@ballettech.org
SUMMARY:Playscape realiza
DESCRIPTION:
URL:https://ballettech.org/es/event/playscape-realiza/
END:VEVENT
BEGIN:VEVENT
DTSTART;TZID=America/New_York:20250509T140000
DTEND;TZID=America/New_York:20250509T141500
DTSTAMP:20260421T191930
CREATED:20240909T231248Z
LAST-MODIFIED:20241126T083728Z
UID:10002796-1746799200-1746800100@ballettech.org
SUMMARY:Playscape realiza
DESCRIPTION:
URL:https://ballettech.org/es/event/playscape-realiza-4/
END:VEVENT
BEGIN:VEVENT
DTSTART;TZID=America/New_York:20250510T130000
DTEND;TZID=America/New_York:20250510T131500
DTSTAMP:20260421T191930
CREATED:20240909T231316Z
LAST-MODIFIED:20241126T083505Z
UID:10002362-1746882000-1746882900@ballettech.org
SUMMARY:Playscape realiza
DESCRIPTION:
URL:https://ballettech.org/es/event/playscape-realiza-2/
END:VEVENT
BEGIN:VEVENT
DTSTART;TZID=America/New_York:20250510T140000
DTEND;TZID=America/New_York:20250510T141500
DTSTAMP:20260421T191930
CREATED:20240909T231349Z
LAST-MODIFIED:20241126T083507Z
UID:10002370-1746885600-1746886500@ballettech.org
SUMMARY:Playscape realiza
DESCRIPTION:
URL:https://ballettech.org/es/event/playscape-realiza-3/
END:VEVENT
BEGIN:VEVENT
DTSTART;TZID=America/New_York:20250512T230000
DTEND;TZID=America/New_York:20250514T225959
DTSTAMP:20260421T191930
CREATED:20240909T231420Z
LAST-MODIFIED:20241126T083533Z
UID:10002447-1747090800-1747263599@ballettech.org
SUMMARY:Exámenes de Matemáticas del Estado de Nueva York (6º y 7º grados)
DESCRIPTION:
URL:https://ballettech.org/es/event/examenes-de-matematicas-del-estado-de-nueva-york-6o-y-7o-grados/
END:VEVENT
BEGIN:VEVENT
DTSTART;TZID=America/New_York:20250514T230000
DTEND;TZID=America/New_York:20250515T225959
DTSTAMP:20260421T191930
CREATED:20240909T231446Z
LAST-MODIFIED:20241126T083732Z
UID:10002810-1747263600-1747349999@ballettech.org
SUMMARY:Examen de Ciencias del Estado de Nueva York (5º grado)
DESCRIPTION:
URL:https://ballettech.org/es/event/examen-de-ciencias-del-estado-de-nueva-york-5o-grado/
END:VEVENT
BEGIN:VEVENT
DTSTART;TZID=America/New_York:20250522T150000
DTEND;TZID=America/New_York:20250522T160000
DTSTAMP:20260421T191930
CREATED:20240910T215041Z
LAST-MODIFIED:20241126T083316Z
UID:10002027-1747926000-1747929600@ballettech.org
SUMMARY:Reunión de SLT
DESCRIPTION:
URL:https://ballettech.org/es/event/reunion-de-slt-5/
END:VEVENT
BEGIN:VEVENT
DTSTART;TZID=America/New_York:20250522T163000
DTEND;TZID=America/New_York:20250522T183000
DTSTAMP:20260421T191930
CREATED:20240910T215157Z
LAST-MODIFIED:20241126T083321Z
UID:10002045-1747931400-1747938600@ballettech.org
SUMMARY:Noche de las Artes
DESCRIPTION:
URL:https://ballettech.org/es/event/noche-de-las-artes/
END:VEVENT
BEGIN:VEVENT
DTSTART;TZID=America/New_York:20250525T230000
DTEND;TZID=America/New_York:20250526T225959
DTSTAMP:20260421T191930
CREATED:20240815T222515Z
LAST-MODIFIED:20241126T083554Z
UID:10002523-1748214000-1748300399@ballettech.org
SUMMARY:Día de los Caídos -- Escuela cerrada
DESCRIPTION:
URL:https://ballettech.org/es/event/dia-de-los-caidos-escuela-cerrada/
END:VEVENT
BEGIN:VEVENT
DTSTART;TZID=America/New_York:20250529T173000
DTEND;TZID=America/New_York:20250529T180000
DTSTAMP:20260421T191930
CREATED:20240829T184708Z
LAST-MODIFIED:20241126T083432Z
UID:10002248-1748539800-1748541600@ballettech.org
SUMMARY:Reunión de la PTA
DESCRIPTION:
URL:https://ballettech.org/es/event/reunion-de-la-pta-4/
END:VEVENT
END:VCALENDAR