BEGIN:VCALENDAR
VERSION:2.0
PRODID:-//Ballet Tech - ECPv6.15.18//NONSGML v1.0//EN
CALSCALE:GREGORIAN
METHOD:PUBLISH
X-ORIGINAL-URL:https://ballettech.org/fr/
X-WR-CALDESC:Évènements pour Ballet Tech
REFRESH-INTERVAL;VALUE=DURATION:PT1H
X-Robots-Tag:noindex
X-PUBLISHED-TTL:PT1H
BEGIN:VTIMEZONE
TZID:America/New_York
BEGIN:DAYLIGHT
TZOFFSETFROM:-0500
TZOFFSETTO:-0400
TZNAME:EDT
DTSTART:20230312T070000
END:DAYLIGHT
BEGIN:STANDARD
TZOFFSETFROM:-0400
TZOFFSETTO:-0500
TZNAME:EST
DTSTART:20231105T060000
END:STANDARD
BEGIN:DAYLIGHT
TZOFFSETFROM:-0500
TZOFFSETTO:-0400
TZNAME:EDT
DTSTART:20240310T070000
END:DAYLIGHT
BEGIN:STANDARD
TZOFFSETFROM:-0400
TZOFFSETTO:-0500
TZNAME:EST
DTSTART:20241103T060000
END:STANDARD
BEGIN:DAYLIGHT
TZOFFSETFROM:-0500
TZOFFSETTO:-0400
TZNAME:EDT
DTSTART:20250309T070000
END:DAYLIGHT
BEGIN:STANDARD
TZOFFSETFROM:-0400
TZOFFSETTO:-0500
TZNAME:EST
DTSTART:20251102T060000
END:STANDARD
END:VTIMEZONE
BEGIN:VEVENT
DTSTART;TZID=America/New_York:20241102T070000
DTEND;TZID=America/New_York:20241102T083000
DTSTAMP:20260423T122228
CREATED:20241112T200144Z
LAST-MODIFIED:20241126T083325Z
UID:10002063-1730530800-1730536200@ballettech.org
SUMMARY:Ballet avec Alex Brady
DESCRIPTION:
URL:https://ballettech.org/fr/event/ballet-avec-alex-brady/
CATEGORIES:Programme de danse des anciens
END:VEVENT
BEGIN:VEVENT
DTSTART;TZID=America/New_York:20241109T070000
DTEND;TZID=America/New_York:20241109T083000
DTSTAMP:20260423T122228
CREATED:20241112T200426Z
LAST-MODIFIED:20241126T083346Z
UID:10002131-1731135600-1731141000@ballettech.org
SUMMARY:K-Pop avec Asia Yiu
DESCRIPTION:
URL:https://ballettech.org/fr/event/k-pop-avec-asia-yiu/
CATEGORIES:Programme de danse des anciens
END:VEVENT
BEGIN:VEVENT
DTSTART;TZID=America/New_York:20241116T070000
DTEND;TZID=America/New_York:20241116T083000
DTSTAMP:20260423T122228
CREATED:20241112T200544Z
LAST-MODIFIED:20241126T083348Z
UID:10002135-1731740400-1731745800@ballettech.org
SUMMARY:Classe des anciens élèves - Contemporain avec Mary Lyn Graves
DESCRIPTION:
URL:https://ballettech.org/fr/event/classe-des-anciens-eleves-contemporain-avec-mary-lyn-graves/
CATEGORIES:Programme de danse des anciens
END:VEVENT
BEGIN:VEVENT
DTSTART;TZID=America/New_York:20241123T070000
DTEND;TZID=America/New_York:20241123T083000
DTSTAMP:20260423T122228
CREATED:20241112T200702Z
LAST-MODIFIED:20241126T083350Z
UID:10002144-1732345200-1732350600@ballettech.org
SUMMARY:Classe des anciens - Ballet contemporain avec Edgar Peterson
DESCRIPTION:
URL:https://ballettech.org/fr/event/classe-des-anciens-ballet-contemporain-avec-edgar-peterson/
CATEGORIES:Programme de danse des anciens
END:VEVENT
END:VCALENDAR