BEGIN:VCALENDAR
VERSION:2.0
PRODID:-//Ballet Tech - ECPv6.15.18//NONSGML v1.0//EN
CALSCALE:GREGORIAN
METHOD:PUBLISH
X-ORIGINAL-URL:https://ballettech.org/ko/
X-WR-CALDESC:Ballet Tech 이벤트
REFRESH-INTERVAL;VALUE=DURATION:PT1H
X-Robots-Tag:noindex
X-PUBLISHED-TTL:PT1H
BEGIN:VTIMEZONE
TZID:America/New_York
BEGIN:DAYLIGHT
TZOFFSETFROM:-0500
TZOFFSETTO:-0400
TZNAME:EDT
DTSTART:20230312T070000
END:DAYLIGHT
BEGIN:STANDARD
TZOFFSETFROM:-0400
TZOFFSETTO:-0500
TZNAME:EST
DTSTART:20231105T060000
END:STANDARD
BEGIN:DAYLIGHT
TZOFFSETFROM:-0500
TZOFFSETTO:-0400
TZNAME:EDT
DTSTART:20240310T070000
END:DAYLIGHT
BEGIN:STANDARD
TZOFFSETFROM:-0400
TZOFFSETTO:-0500
TZNAME:EST
DTSTART:20241103T060000
END:STANDARD
BEGIN:DAYLIGHT
TZOFFSETFROM:-0500
TZOFFSETTO:-0400
TZNAME:EDT
DTSTART:20250309T070000
END:DAYLIGHT
BEGIN:STANDARD
TZOFFSETFROM:-0400
TZOFFSETTO:-0500
TZNAME:EST
DTSTART:20251102T060000
END:STANDARD
END:VTIMEZONE
BEGIN:VEVENT
DTSTART;TZID=America/New_York:20241116T070000
DTEND;TZID=America/New_York:20241116T083000
DTSTAMP:20260423T170058
CREATED:20241112T200544Z
LAST-MODIFIED:20241126T083346Z
UID:10002128-1731740400-1731745800@ballettech.org
SUMMARY:동문 수업 - Mary Lyn Graves와 함께하는 컨템포러리
DESCRIPTION:
URL:https://ballettech.org/ko/event/%eb%8f%99%eb%ac%b8-%ec%88%98%ec%97%85-mary-lyn-graves%ec%99%80-%ed%95%a8%ea%bb%98%ed%95%98%eb%8a%94-%ec%bb%a8%ed%85%9c%ed%8f%ac%eb%9f%ac%eb%a6%ac/
CATEGORIES:동문 댄스 프로그램
END:VEVENT
END:VCALENDAR