BEGIN:VCALENDAR
VERSION:2.0
PRODID:-//Ballet Tech - ECPv6.15.18//NONSGML v1.0//EN
CALSCALE:GREGORIAN
METHOD:PUBLISH
X-ORIGINAL-URL:https://ballettech.org/ru/
X-WR-CALDESC:Мероприятия для Ballet Tech
REFRESH-INTERVAL;VALUE=DURATION:PT1H
X-Robots-Tag:noindex
X-PUBLISHED-TTL:PT1H
BEGIN:VTIMEZONE
TZID:America/New_York
BEGIN:DAYLIGHT
TZOFFSETFROM:-0500
TZOFFSETTO:-0400
TZNAME:EDT
DTSTART:20240310T070000
END:DAYLIGHT
BEGIN:STANDARD
TZOFFSETFROM:-0400
TZOFFSETTO:-0500
TZNAME:EST
DTSTART:20241103T060000
END:STANDARD
BEGIN:DAYLIGHT
TZOFFSETFROM:-0500
TZOFFSETTO:-0400
TZNAME:EDT
DTSTART:20250309T070000
END:DAYLIGHT
BEGIN:STANDARD
TZOFFSETFROM:-0400
TZOFFSETTO:-0500
TZNAME:EST
DTSTART:20251102T060000
END:STANDARD
BEGIN:DAYLIGHT
TZOFFSETFROM:-0500
TZOFFSETTO:-0400
TZNAME:EDT
DTSTART:20260308T070000
END:DAYLIGHT
BEGIN:STANDARD
TZOFFSETFROM:-0400
TZOFFSETTO:-0500
TZNAME:EST
DTSTART:20261101T060000
END:STANDARD
END:VTIMEZONE
BEGIN:VEVENT
DTSTART;TZID=America/New_York:20250205T173000
DTEND;TZID=America/New_York:20250205T190000
DTSTAMP:20260422T002515
CREATED:20240829T181501Z
LAST-MODIFIED:20241126T083414Z
UID:10002194-1738776600-1738782000@ballettech.org
SUMMARY:Мультикультурный ужин (начальная школа)
DESCRIPTION:
URL:https://ballettech.org/ru/event/%d0%bc%d1%83%d0%bb%d1%8c%d1%82%d0%b8%d0%ba%d1%83%d0%bb%d1%8c%d1%82%d1%83%d1%80%d0%bd%d1%8b%d0%b9-%d1%83%d0%b6%d0%b8%d0%bd-%d0%bd%d0%b0%d1%87%d0%b0%d0%bb%d1%8c%d0%bd%d0%b0%d1%8f-%d1%88%d0%ba%d0%be/
END:VEVENT
BEGIN:VEVENT
DTSTART;TZID=America/New_York:20250206T173000
DTEND;TZID=America/New_York:20250206T190000
DTSTAMP:20260422T002515
CREATED:20240829T181536Z
LAST-MODIFIED:20241126T083337Z
UID:10002103-1738863000-1738868400@ballettech.org
SUMMARY:Мультикультурный ужин (средняя школа)
DESCRIPTION:
URL:https://ballettech.org/ru/event/%d0%bc%d1%83%d0%bb%d1%8c%d1%82%d0%b8%d0%ba%d1%83%d0%bb%d1%8c%d1%82%d1%83%d1%80%d0%bd%d1%8b%d0%b9-%d1%83%d0%b6%d0%b8%d0%bd-%d1%81%d1%80%d0%b5%d0%b4%d0%bd%d1%8f%d1%8f-%d1%88%d0%ba%d0%be%d0%bb%d0%b0/
END:VEVENT
BEGIN:VEVENT
DTSTART;TZID=America/New_York:20250213T160000
DTEND;TZID=America/New_York:20250213T170000
DTSTAMP:20260422T002515
CREATED:20240910T214734Z
LAST-MODIFIED:20241126T083307Z
UID:10002000-1739462400-1739466000@ballettech.org
SUMMARY:Встреча SLT
DESCRIPTION:
URL:https://ballettech.org/ru/event/%d0%b2%d1%81%d1%82%d1%80%d0%b5%d1%87%d0%b0-slt-2/
END:VEVENT
BEGIN:VEVENT
DTSTART;TZID=America/New_York:20250213T180000
DTEND;TZID=America/New_York:20250213T193000
DTSTAMP:20260422T002515
CREATED:20240829T181609Z
LAST-MODIFIED:20241126T083418Z
UID:10002204-1739469600-1739475000@ballettech.org
SUMMARY:Собрание родительского комитета
DESCRIPTION:
URL:https://ballettech.org/ru/event/%d1%81%d0%be%d0%b1%d1%80%d0%b0%d0%bd%d0%b8%d0%b5-%d1%80%d0%be%d0%b4%d0%b8%d1%82%d0%b5%d0%bb%d1%8c%d1%81%d0%ba%d0%be%d0%b3%d0%be-%d0%ba%d0%be%d0%bc%d0%b8%d1%82%d0%b5%d1%82%d0%b0-4/
END:VEVENT
BEGIN:VEVENT
DTSTART;TZID=America/New_York:20250217T000000
DTEND;TZID=America/New_York:20250221T235959
DTSTAMP:20260422T002515
CREATED:20240815T221454Z
LAST-MODIFIED:20241126T083525Z
UID:10002422-1739750400-1740182399@ballettech.org
SUMMARY:Каникулы в середине зимы -- школа закрыта
DESCRIPTION:
URL:https://ballettech.org/ru/event/%d0%ba%d0%b0%d0%bd%d0%b8%d0%ba%d1%83%d0%bb%d1%8b-%d0%b2-%d1%81%d0%b5%d1%80%d0%b5%d0%b4%d0%b8%d0%bd%d0%b5-%d0%b7%d0%b8%d0%bc%d1%8b-%d1%88%d0%ba%d0%be%d0%bb%d0%b0-%d0%b7%d0%b0%d0%ba%d1%80%d1%8b%d1%82/
END:VEVENT
BEGIN:VEVENT
DTSTART;TZID=America/New_York:20250224T000000
DTEND;TZID=America/New_York:20250224T235959
DTSTAMP:20260422T002515
CREATED:20240815T221512Z
LAST-MODIFIED:20241126T083527Z
UID:10002428-1740355200-1740441599@ballettech.org
SUMMARY:Возобновление занятий
DESCRIPTION:
URL:https://ballettech.org/ru/event/%d0%b2%d0%be%d0%b7%d0%be%d0%b1%d0%bd%d0%be%d0%b2%d0%bb%d0%b5%d0%bd%d0%b8%d0%b5-%d0%b7%d0%b0%d0%bd%d1%8f%d1%82%d0%b8%d0%b9-2/
END:VEVENT
BEGIN:VEVENT
DTSTART;TZID=America/New_York:20250225T110000
DTEND;TZID=America/New_York:20250225T120000
DTSTAMP:20260422T002515
CREATED:20241114T231658Z
LAST-MODIFIED:20241126T083351Z
UID:10002149-1740481200-1740484800@ballettech.org
SUMMARY:Открытые прослушивания 2024-25
DESCRIPTION:Открытые прослушивания 2024-25 Для учащихся\, которые в настоящее время учатся в 3-м классе.
URL:https://ballettech.org/ru/event/%d0%be%d1%82%d0%ba%d1%80%d1%8b%d1%82%d1%8b%d0%b5-%d0%bf%d1%80%d0%be%d1%81%d0%bb%d1%83%d1%88%d0%b8%d0%b2%d0%b0%d0%bd%d0%b8%d1%8f-2024-25/
CATEGORIES:Прослушивание в начальной школе
END:VEVENT
END:VCALENDAR