BEGIN:VCALENDAR
VERSION:2.0
PRODID:-//Ballet Tech - ECPv6.15.18//NONSGML v1.0//EN
CALSCALE:GREGORIAN
METHOD:PUBLISH
X-WR-CALNAME:Ballet Tech
X-ORIGINAL-URL:https://ballettech.org/ru/
X-WR-CALDESC:Мероприятия для Ballet Tech
REFRESH-INTERVAL;VALUE=DURATION:PT1H
X-Robots-Tag:noindex
X-PUBLISHED-TTL:PT1H
BEGIN:VTIMEZONE
TZID:America/New_York
BEGIN:DAYLIGHT
TZOFFSETFROM:-0500
TZOFFSETTO:-0400
TZNAME:EDT
DTSTART:20240310T070000
END:DAYLIGHT
BEGIN:STANDARD
TZOFFSETFROM:-0400
TZOFFSETTO:-0500
TZNAME:EST
DTSTART:20241103T060000
END:STANDARD
BEGIN:DAYLIGHT
TZOFFSETFROM:-0500
TZOFFSETTO:-0400
TZNAME:EDT
DTSTART:20250309T070000
END:DAYLIGHT
BEGIN:STANDARD
TZOFFSETFROM:-0400
TZOFFSETTO:-0500
TZNAME:EST
DTSTART:20251102T060000
END:STANDARD
BEGIN:DAYLIGHT
TZOFFSETFROM:-0500
TZOFFSETTO:-0400
TZNAME:EDT
DTSTART:20260308T070000
END:DAYLIGHT
BEGIN:STANDARD
TZOFFSETFROM:-0400
TZOFFSETTO:-0500
TZNAME:EST
DTSTART:20261101T060000
END:STANDARD
END:VTIMEZONE
BEGIN:VEVENT
DTSTART;TZID=America/New_York:20250618T230000
DTEND;TZID=America/New_York:20250619T225959
DTSTAMP:20260421T200238
CREATED:20240815T222649Z
LAST-MODIFIED:20241126T083601Z
UID:10002537-1750287600-1750373999@ballettech.org
SUMMARY:Juneteenth -- Школа закрыта
DESCRIPTION:
URL:https://ballettech.org/ru/event/juneteenth-%d1%88%d0%ba%d0%be%d0%bb%d0%b0-%d0%b7%d0%b0%d0%ba%d1%80%d1%8b%d1%82%d0%b0/
END:VEVENT
BEGIN:VEVENT
DTSTART;TZID=America/New_York:20250624T160000
DTEND;TZID=America/New_York:20250624T173000
DTSTAMP:20260421T200238
CREATED:20240815T222738Z
LAST-MODIFIED:20241126T083658Z
UID:10002707-1750780800-1750786200@ballettech.org
SUMMARY:Окончание 8-го класса
DESCRIPTION:
URL:https://ballettech.org/ru/event/%d0%be%d0%ba%d0%be%d0%bd%d1%87%d0%b0%d0%bd%d0%b8%d0%b5-8-%d0%b3%d0%be-%d0%ba%d0%bb%d0%b0%d1%81%d1%81%d0%b0/
END:VEVENT
BEGIN:VEVENT
DTSTART;TZID=America/New_York:20250624T230000
DTEND;TZID=America/New_York:20250625T225959
DTSTAMP:20260421T200238
CREATED:20240829T190511Z
LAST-MODIFIED:20241126T083723Z
UID:10002781-1750806000-1750892399@ballettech.org
SUMMARY:День поля в средней школе
DESCRIPTION:
URL:https://ballettech.org/ru/event/%d0%b4%d0%b5%d0%bd%d1%8c-%d0%bf%d0%be%d0%bb%d1%8f-%d0%b2-%d1%81%d1%80%d0%b5%d0%b4%d0%bd%d0%b5%d0%b9-%d1%88%d0%ba%d0%be%d0%bb%d0%b5/
END:VEVENT
BEGIN:VEVENT
DTSTART;TZID=America/New_York:20250625T230000
DTEND;TZID=America/New_York:20250626T225959
DTSTAMP:20260421T200238
CREATED:20240815T222809Z
LAST-MODIFIED:20241126T083602Z
UID:10002546-1750892400-1750978799@ballettech.org
SUMMARY:Конец весеннего семестра / Последний день в школе\, 2024-25
DESCRIPTION:
URL:https://ballettech.org/ru/event/%d0%ba%d0%be%d0%bd%d0%b5%d1%86-%d0%b2%d0%b5%d1%81%d0%b5%d0%bd%d0%bd%d0%b5%d0%b3%d0%be-%d1%81%d0%b5%d0%bc%d0%b5%d1%81%d1%82%d1%80%d0%b0-%d0%bf%d0%be%d1%81%d0%bb%d0%b5%d0%b4%d0%bd%d0%b8%d0%b9-%d0%b4/
END:VEVENT
END:VCALENDAR