BEGIN:VCALENDAR
VERSION:2.0
PRODID:-//Ballet Tech - ECPv6.15.18//NONSGML v1.0//EN
CALSCALE:GREGORIAN
METHOD:PUBLISH
X-ORIGINAL-URL:https://ballettech.org/ur/
X-WR-CALDESC:Events for Ballet Tech
REFRESH-INTERVAL;VALUE=DURATION:PT1H
X-Robots-Tag:noindex
X-PUBLISHED-TTL:PT1H
BEGIN:VTIMEZONE
TZID:America/New_York
BEGIN:DAYLIGHT
TZOFFSETFROM:-0500
TZOFFSETTO:-0400
TZNAME:EDT
DTSTART:20230312T070000
END:DAYLIGHT
BEGIN:STANDARD
TZOFFSETFROM:-0400
TZOFFSETTO:-0500
TZNAME:EST
DTSTART:20231105T060000
END:STANDARD
BEGIN:DAYLIGHT
TZOFFSETFROM:-0500
TZOFFSETTO:-0400
TZNAME:EDT
DTSTART:20240310T070000
END:DAYLIGHT
BEGIN:STANDARD
TZOFFSETFROM:-0400
TZOFFSETTO:-0500
TZNAME:EST
DTSTART:20241103T060000
END:STANDARD
BEGIN:DAYLIGHT
TZOFFSETFROM:-0500
TZOFFSETTO:-0400
TZNAME:EDT
DTSTART:20250309T070000
END:DAYLIGHT
BEGIN:STANDARD
TZOFFSETFROM:-0400
TZOFFSETTO:-0500
TZNAME:EST
DTSTART:20251102T060000
END:STANDARD
END:VTIMEZONE
BEGIN:VEVENT
DTSTART;TZID=America/New_York:20241109T070000
DTEND;TZID=America/New_York:20241109T083000
DTSTAMP:20260422T133849
CREATED:20241112T200426Z
LAST-MODIFIED:20241126T083324Z
UID:10002057-1731135600-1731141000@ballettech.org
SUMMARY:کے-پاپ کے ساتھ ایشیا ییو
DESCRIPTION:
URL:https://ballettech.org/ur/event/%da%a9%db%92-%d9%be%d8%a7%d9%be-%da%a9%db%92-%d8%b3%d8%a7%d8%aa%da%be-%d8%a7%db%8c%d8%b4%db%8c%d8%a7-%db%8c%db%8c%d9%88/
CATEGORIES:سابق طالب علموں کا رقص پروگرام
END:VEVENT
END:VCALENDAR