BEGIN:VCALENDAR
VERSION:2.0
PRODID:-//Ballet Tech - ECPv6.15.18//NONSGML v1.0//EN
CALSCALE:GREGORIAN
METHOD:PUBLISH
X-WR-CALNAME:Ballet Tech
X-ORIGINAL-URL:https://ballettech.org/ur/
X-WR-CALDESC:Events for Ballet Tech
REFRESH-INTERVAL;VALUE=DURATION:PT1H
X-Robots-Tag:noindex
X-PUBLISHED-TTL:PT1H
BEGIN:VTIMEZONE
TZID:America/New_York
BEGIN:DAYLIGHT
TZOFFSETFROM:-0500
TZOFFSETTO:-0400
TZNAME:EDT
DTSTART:20240310T070000
END:DAYLIGHT
BEGIN:STANDARD
TZOFFSETFROM:-0400
TZOFFSETTO:-0500
TZNAME:EST
DTSTART:20241103T060000
END:STANDARD
BEGIN:DAYLIGHT
TZOFFSETFROM:-0500
TZOFFSETTO:-0400
TZNAME:EDT
DTSTART:20250309T070000
END:DAYLIGHT
BEGIN:STANDARD
TZOFFSETFROM:-0400
TZOFFSETTO:-0500
TZNAME:EST
DTSTART:20251102T060000
END:STANDARD
BEGIN:DAYLIGHT
TZOFFSETFROM:-0500
TZOFFSETTO:-0400
TZNAME:EDT
DTSTART:20260308T070000
END:DAYLIGHT
BEGIN:STANDARD
TZOFFSETFROM:-0400
TZOFFSETTO:-0500
TZNAME:EST
DTSTART:20261101T060000
END:STANDARD
END:VTIMEZONE
BEGIN:VEVENT
DTSTART;TZID=America/New_York:20250605T230000
DTEND;TZID=America/New_York:20250606T225959
DTSTAMP:20260421T211029
CREATED:20240815T222618Z
LAST-MODIFIED:20241126T083658Z
UID:10002710-1749164400-1749250799@ballettech.org
SUMMARY:کلیریکل ڈے -- کوئی کلاس نہیں
DESCRIPTION:
URL:https://ballettech.org/ur/event/%da%a9%d9%84%db%8c%d8%b1%db%8c%da%a9%d9%84-%da%88%db%92-%da%a9%d9%88%d8%a6%db%8c-%da%a9%d9%84%d8%a7%d8%b3-%d9%86%db%81%db%8c%da%ba/
END:VEVENT
BEGIN:VEVENT
DTSTART;TZID=America/New_York:20250604T230000
DTEND;TZID=America/New_York:20250605T225959
DTSTAMP:20260421T211029
CREATED:20240815T222556Z
LAST-MODIFIED:20241126T083555Z
UID:10002520-1749078000-1749164399@ballettech.org
SUMMARY:عید الاضحی / برسی کے دن - اسکول بند
DESCRIPTION:
URL:https://ballettech.org/ur/event/%d8%b9%db%8c%d8%af-%d8%a7%d9%84%d8%a7%d8%b6%d8%ad%db%8c-%d8%a8%d8%b1%d8%b3%db%8c-%da%a9%db%92-%d8%af%d9%86-%d8%a7%d8%b3%da%a9%d9%88%d9%84-%d8%a8%d9%86%d8%af/
END:VEVENT
BEGIN:VEVENT
DTSTART;TZID=America/New_York:20250529T173000
DTEND;TZID=America/New_York:20250529T180000
DTSTAMP:20260421T211029
CREATED:20240829T184708Z
LAST-MODIFIED:20241126T083432Z
UID:10002247-1748539800-1748541600@ballettech.org
SUMMARY:پی ٹی اے کا اجلاس
DESCRIPTION:
URL:https://ballettech.org/ur/event/%d9%be%db%8c-%d9%b9%db%8c-%d8%a7%db%92-%da%a9%d8%a7-%d8%a7%d8%ac%d9%84%d8%a7%d8%b3-5/
END:VEVENT
BEGIN:VEVENT
DTSTART;TZID=America/New_York:20250525T230000
DTEND;TZID=America/New_York:20250526T225959
DTSTAMP:20260421T211029
CREATED:20240815T222515Z
LAST-MODIFIED:20241126T083554Z
UID:10002522-1748214000-1748300399@ballettech.org
SUMMARY:میموریل ڈے - اسکول بند
DESCRIPTION:
URL:https://ballettech.org/ur/event/%d9%85%db%8c%d9%85%d9%88%d8%b1%db%8c%d9%84-%da%88%db%92-%d8%a7%d8%b3%da%a9%d9%88%d9%84-%d8%a8%d9%86%d8%af/
END:VEVENT
BEGIN:VEVENT
DTSTART;TZID=America/New_York:20250522T163000
DTEND;TZID=America/New_York:20250522T183000
DTSTAMP:20260421T211029
CREATED:20240910T215157Z
LAST-MODIFIED:20241126T083319Z
UID:10002040-1747931400-1747938600@ballettech.org
SUMMARY:فنون لطیفہ کی رات
DESCRIPTION:
URL:https://ballettech.org/ur/event/%d9%81%d9%86%d9%88%d9%86-%d9%84%d8%b7%db%8c%d9%81%db%81-%da%a9%db%8c-%d8%b1%d8%a7%d8%aa/
END:VEVENT
BEGIN:VEVENT
DTSTART;TZID=America/New_York:20250522T150000
DTEND;TZID=America/New_York:20250522T160000
DTSTAMP:20260421T211029
CREATED:20240910T215041Z
LAST-MODIFIED:20241126T083316Z
UID:10002026-1747926000-1747929600@ballettech.org
SUMMARY:ایس ایل ٹی کا اجلاس
DESCRIPTION:
URL:https://ballettech.org/ur/event/%d8%a7%db%8c%d8%b3-%d8%a7%db%8c%d9%84-%d9%b9%db%8c-%da%a9%d8%a7-%d8%a7%d8%ac%d9%84%d8%a7%d8%b3-5/
END:VEVENT
BEGIN:VEVENT
DTSTART;TZID=America/New_York:20250514T230000
DTEND;TZID=America/New_York:20250515T225959
DTSTAMP:20260421T211029
CREATED:20240909T231446Z
LAST-MODIFIED:20241126T083731Z
UID:10002809-1747263600-1747349999@ballettech.org
SUMMARY:نیو یارک سائنس امتحان (پانچویں جماعت)
DESCRIPTION:
URL:https://ballettech.org/ur/event/%d9%86%db%8c%d9%88-%db%8c%d8%a7%d8%b1%da%a9-%d8%b3%d8%a7%d8%a6%d9%86%d8%b3-%d8%a7%d9%85%d8%aa%d8%ad%d8%a7%d9%86-%d9%be%d8%a7%d9%86%da%86%d9%88%db%8c%da%ba-%d8%ac%d9%85%d8%a7%d8%b9%d8%aa/
END:VEVENT
BEGIN:VEVENT
DTSTART;TZID=America/New_York:20250512T230000
DTEND;TZID=America/New_York:20250514T225959
DTSTAMP:20260421T211029
CREATED:20240909T231420Z
LAST-MODIFIED:20241126T083532Z
UID:10002445-1747090800-1747263599@ballettech.org
SUMMARY:این وائی ایس ریاضی کے امتحانات (چھٹی اور ساتویں جماعت)
DESCRIPTION:
URL:https://ballettech.org/ur/event/%d8%a7%db%8c%d9%86-%d9%88%d8%a7%d8%a6%db%8c-%d8%a7%db%8c%d8%b3-%d8%b1%db%8c%d8%a7%d8%b6%db%8c-%da%a9%db%92-%d8%a7%d9%85%d8%aa%d8%ad%d8%a7%d9%86%d8%a7%d8%aa-%da%86%da%be%d9%b9%db%8c-%d8%a7%d9%88%d8%b1/
END:VEVENT
BEGIN:VEVENT
DTSTART;TZID=America/New_York:20250510T140000
DTEND;TZID=America/New_York:20250510T141500
DTSTAMP:20260421T211029
CREATED:20240909T231349Z
LAST-MODIFIED:20241126T083507Z
UID:10002368-1746885600-1746886500@ballettech.org
SUMMARY:پلے اسکیپ پرفارم کرتا ہے
DESCRIPTION:
URL:https://ballettech.org/ur/event/%d9%be%d9%84%db%92-%d8%a7%d8%b3%da%a9%db%8c%d9%be-%d9%be%d8%b1%d9%81%d8%a7%d8%b1%d9%85-%da%a9%d8%b1%d8%aa%d8%a7-%db%81%db%92-4/
END:VEVENT
BEGIN:VEVENT
DTSTART;TZID=America/New_York:20250510T130000
DTEND;TZID=America/New_York:20250510T131500
DTSTAMP:20260421T211029
CREATED:20240909T231316Z
LAST-MODIFIED:20241126T083504Z
UID:10002360-1746882000-1746882900@ballettech.org
SUMMARY:پلے اسکیپ پرفارم کرتا ہے
DESCRIPTION:
URL:https://ballettech.org/ur/event/%d9%be%d9%84%db%92-%d8%a7%d8%b3%da%a9%db%8c%d9%be-%d9%be%d8%b1%d9%81%d8%a7%d8%b1%d9%85-%da%a9%d8%b1%d8%aa%d8%a7-%db%81%db%92-3/
END:VEVENT
BEGIN:VEVENT
DTSTART;TZID=America/New_York:20250509T140000
DTEND;TZID=America/New_York:20250509T141500
DTSTAMP:20260421T211029
CREATED:20240909T231248Z
LAST-MODIFIED:20241126T083301Z
UID:10001977-1746799200-1746800100@ballettech.org
SUMMARY:پلے اسکیپ پرفارم کرتا ہے
DESCRIPTION:
URL:https://ballettech.org/ur/event/%d9%be%d9%84%db%92-%d8%a7%d8%b3%da%a9%db%8c%d9%be-%d9%be%d8%b1%d9%81%d8%a7%d8%b1%d9%85-%da%a9%d8%b1%d8%aa%d8%a7-%db%81%db%92/
END:VEVENT
BEGIN:VEVENT
DTSTART;TZID=America/New_York:20250509T130000
DTEND;TZID=America/New_York:20250509T131500
DTSTAMP:20260421T211029
CREATED:20240909T231221Z
LAST-MODIFIED:20241126T083502Z
UID:10002354-1746795600-1746796500@ballettech.org
SUMMARY:پلے اسکیپ پرفارم کرتا ہے
DESCRIPTION:
URL:https://ballettech.org/ur/event/%d9%be%d9%84%db%92-%d8%a7%d8%b3%da%a9%db%8c%d9%be-%d9%be%d8%b1%d9%81%d8%a7%d8%b1%d9%85-%da%a9%d8%b1%d8%aa%d8%a7-%db%81%db%92-2/
END:VEVENT
BEGIN:VEVENT
DTSTART;TZID=America/New_York:20250507T230000
DTEND;TZID=America/New_York:20250508T225959
DTSTAMP:20260421T211029
CREATED:20240909T231130Z
LAST-MODIFIED:20241126T083727Z
UID:10002793-1746658800-1746745199@ballettech.org
SUMMARY:پلے اسکیپ پرفارم کرتا ہے: ٹیک ریہرسل
DESCRIPTION:
URL:https://ballettech.org/ur/event/%d9%be%d9%84%db%92-%d8%a7%d8%b3%da%a9%db%8c%d9%be-%d9%be%d8%b1%d9%81%d8%a7%d8%b1%d9%85-%da%a9%d8%b1%d8%aa%d8%a7-%db%81%db%92-%d9%b9%db%8c%da%a9-%d8%b1%db%8c%db%81%d8%b1%d8%b3%d9%84/
END:VEVENT
BEGIN:VEVENT
DTSTART;TZID=America/New_York:20250505T230000
DTEND;TZID=America/New_York:20250507T225959
DTSTAMP:20260421T211029
CREATED:20240909T231059Z
LAST-MODIFIED:20241126T083500Z
UID:10002345-1746486000-1746658799@ballettech.org
SUMMARY:این وائی ایس ریاضی کے امتحانات (چوتھی اور پانچویں جماعت)
DESCRIPTION:
URL:https://ballettech.org/ur/event/%d8%a7%db%8c%d9%86-%d9%88%d8%a7%d8%a6%db%8c-%d8%a7%db%8c%d8%b3-%d8%b1%db%8c%d8%a7%d8%b6%db%8c-%da%a9%db%92-%d8%a7%d9%85%d8%aa%d8%ad%d8%a7%d9%86%d8%a7%d8%aa-%da%86%d9%88%d8%aa%da%be%db%8c-%d8%a7%d9%88/
END:VEVENT
BEGIN:VEVENT
DTSTART;TZID=America/New_York:20250430T230000
DTEND;TZID=America/New_York:20250502T225959
DTSTAMP:20260421T211029
CREATED:20240909T231032Z
LAST-MODIFIED:20241126T083455Z
UID:10002328-1746054000-1746226799@ballettech.org
SUMMARY:این وائی ایس ای ایل اے امتحانات (مڈل اسکول)
DESCRIPTION:
URL:https://ballettech.org/ur/event/%d8%a7%db%8c%d9%86-%d9%88%d8%a7%d8%a6%db%8c-%d8%a7%db%8c%d8%b3-%d8%a7%db%8c-%d8%a7%db%8c%d9%84-%d8%a7%db%92-%d8%a7%d9%85%d8%aa%d8%ad%d8%a7%d9%86%d8%a7%d8%aa-%d9%85%da%88%d9%84-%d8%a7%d8%b3%da%a9/
END:VEVENT
BEGIN:VEVENT
DTSTART;TZID=America/New_York:20250428T230000
DTEND;TZID=America/New_York:20250430T225959
DTSTAMP:20260421T211029
CREATED:20240909T230957Z
LAST-MODIFIED:20241126T083726Z
UID:10002792-1745881200-1746053999@ballettech.org
SUMMARY:این وائی ایس ای ایل اے امتحانات (چوتھی اور پانچویں جماعت)
DESCRIPTION:
URL:https://ballettech.org/ur/event/%d8%a7%db%8c%d9%86-%d9%88%d8%a7%d8%a6%db%8c-%d8%a7%db%8c%d8%b3-%d8%a7%db%8c-%d8%a7%db%8c%d9%84-%d8%a7%db%92-%d8%a7%d9%85%d8%aa%d8%ad%d8%a7%d9%86%d8%a7%d8%aa-%da%86%d9%88%d8%aa%da%be%db%8c-%d8%a7/
END:VEVENT
BEGIN:VEVENT
DTSTART;TZID=America/New_York:20250424T170000
DTEND;TZID=America/New_York:20250424T183000
DTSTAMP:20260421T211029
CREATED:20240829T183849Z
LAST-MODIFIED:20241126T083430Z
UID:10002243-1745514000-1745519400@ballettech.org
SUMMARY:پی ٹی اے کا اجلاس
DESCRIPTION:
URL:https://ballettech.org/ur/event/%d9%be%db%8c-%d9%b9%db%8c-%d8%a7%db%92-%da%a9%d8%a7-%d8%a7%d8%ac%d9%84%d8%a7%d8%b3-4/
END:VEVENT
BEGIN:VEVENT
DTSTART;TZID=America/New_York:20250424T150000
DTEND;TZID=America/New_York:20250424T160000
DTSTAMP:20260421T211030
CREATED:20240910T214942Z
LAST-MODIFIED:20241126T083312Z
UID:10002020-1745506800-1745510400@ballettech.org
SUMMARY:ایس ایل ٹی کا اجلاس
DESCRIPTION:
URL:https://ballettech.org/ur/event/%d8%a7%db%8c%d8%b3-%d8%a7%db%8c%d9%84-%d9%b9%db%8c-%da%a9%d8%a7-%d8%a7%d8%ac%d9%84%d8%a7%d8%b3-4/
END:VEVENT
BEGIN:VEVENT
DTSTART;TZID=America/New_York:20250420T230000
DTEND;TZID=America/New_York:20250421T225959
DTSTAMP:20260421T211030
CREATED:20240815T222432Z
LAST-MODIFIED:20241126T083552Z
UID:10002510-1745190000-1745276399@ballettech.org
SUMMARY:کلاسیں دوبارہ شروع
DESCRIPTION:
URL:https://ballettech.org/ur/event/%da%a9%d9%84%d8%a7%d8%b3%db%8c%da%ba-%d8%af%d9%88%d8%a8%d8%a7%d8%b1%db%81-%d8%b4%d8%b1%d9%88%d8%b9-3/
END:VEVENT
BEGIN:VEVENT
DTSTART;TZID=America/New_York:20250413T230000
DTEND;TZID=America/New_York:20250418T225959
DTSTAMP:20260421T211030
CREATED:20240815T222413Z
LAST-MODIFIED:20241126T083549Z
UID:10002498-1744585200-1745017199@ballettech.org
SUMMARY:موسم بہار کی تعطیلات - اسکول بند
DESCRIPTION:
URL:https://ballettech.org/ur/event/%d9%85%d9%88%d8%b3%d9%85-%d8%a8%db%81%d8%a7%d8%b1-%da%a9%db%8c-%d8%aa%d8%b9%d8%b7%db%8c%d9%84%d8%a7%d8%aa-%d8%a7%d8%b3%da%a9%d9%88%d9%84-%d8%a8%d9%86%d8%af/
END:VEVENT
BEGIN:VEVENT
DTSTART;TZID=America/New_York:20250410T130000
DTEND;TZID=America/New_York:20250410T170000
DTSTAMP:20260421T211030
CREATED:20240829T183825Z
LAST-MODIFIED:20241126T083717Z
UID:10002755-1744290000-1744304400@ballettech.org
SUMMARY:موسم بہار کا رقص
DESCRIPTION:
URL:https://ballettech.org/ur/event/%d9%85%d9%88%d8%b3%d9%85-%d8%a8%db%81%d8%a7%d8%b1-%da%a9%d8%a7-%d8%b1%d9%82%d8%b5/
END:VEVENT
BEGIN:VEVENT
DTSTART;TZID=America/New_York:20250330T230000
DTEND;TZID=America/New_York:20250331T225959
DTSTAMP:20260421T211030
CREATED:20240815T221706Z
LAST-MODIFIED:20241126T083532Z
UID:10002446-1743375600-1743461999@ballettech.org
SUMMARY:عید الفطر کے موقع پر اسکول بند
DESCRIPTION:
URL:https://ballettech.org/ur/event/%d8%b9%db%8c%d8%af-%d8%a7%d9%84%d9%81%d8%b7%d8%b1-%da%a9%db%92-%d9%85%d9%88%d9%82%d8%b9-%d9%be%d8%b1-%d8%a7%d8%b3%da%a9%d9%88%d9%84-%d8%a8%d9%86%d8%af/
END:VEVENT
BEGIN:VEVENT
DTSTART;TZID=America/New_York:20250325T110000
DTEND;TZID=America/New_York:20250325T120000
DTSTAMP:20260421T211030
CREATED:20241114T231749Z
LAST-MODIFIED:20241126T083355Z
UID:10002160-1742900400-1742904000@ballettech.org
SUMMARY:اوپن آڈیشنز 2024-25
DESCRIPTION:اس وقت تیسری جماعت میں داخلہ لینے والے طلباء کے لئے اوپن آڈیشن 2024-25۔
URL:https://ballettech.org/ur/event/%d8%a7%d9%88%d9%be%d9%86-%d8%a2%da%88%db%8c%d8%b4%d9%86%d8%b2-2024-25-2/
CATEGORIES:ایلیمنٹری اسکول آڈیشن
END:VEVENT
BEGIN:VEVENT
DTSTART;TZID=America/New_York:20250320T230000
DTEND;TZID=America/New_York:20250321T225959
DTSTAMP:20260421T211030
CREATED:20240815T221632Z
LAST-MODIFIED:20241126T083651Z
UID:10002683-1742511600-1742597999@ballettech.org
SUMMARY:موسم سرما کی مدت کا اختتام / نشان دہی کی مدت 2
DESCRIPTION:
URL:https://ballettech.org/ur/event/%d9%85%d9%88%d8%b3%d9%85-%d8%b3%d8%b1%d9%85%d8%a7-%da%a9%db%8c-%d9%85%d8%af%d8%aa-%da%a9%d8%a7-%d8%a7%d8%ae%d8%aa%d8%aa%d8%a7%d9%85-%d9%86%d8%b4%d8%a7%d9%86-%d8%af%db%81%db%8c-%da%a9%db%8c-%d9%85/
END:VEVENT
BEGIN:VEVENT
DTSTART;TZID=America/New_York:20250320T170000
DTEND;TZID=America/New_York:20250320T183000
DTSTAMP:20260421T211030
CREATED:20240829T182529Z
LAST-MODIFIED:20241126T083339Z
UID:10002107-1742490000-1742495400@ballettech.org
SUMMARY:پی ٹی اے کا اجلاس
DESCRIPTION:
URL:https://ballettech.org/ur/event/%d9%be%db%8c-%d9%b9%db%8c-%d8%a7%db%92-%da%a9%d8%a7-%d8%a7%d8%ac%d9%84%d8%a7%d8%b3/
END:VEVENT
BEGIN:VEVENT
DTSTART;TZID=America/New_York:20250320T150000
DTEND;TZID=America/New_York:20250320T160000
DTSTAMP:20260421T211030
CREATED:20240910T214823Z
LAST-MODIFIED:20241126T083310Z
UID:10002008-1742482800-1742486400@ballettech.org
SUMMARY:ایس ایل ٹی کا اجلاس
DESCRIPTION:
URL:https://ballettech.org/ur/event/%d8%a7%db%8c%d8%b3-%d8%a7%db%8c%d9%84-%d9%b9%db%8c-%da%a9%d8%a7-%d8%a7%d8%ac%d9%84%d8%a7%d8%b3-3/
END:VEVENT
BEGIN:VEVENT
DTSTART;TZID=America/New_York:20250318T230000
DTEND;TZID=America/New_York:20250319T225959
DTSTAMP:20260421T211030
CREATED:20240829T182616Z
LAST-MODIFIED:20241126T083423Z
UID:10002224-1742338800-1742425199@ballettech.org
SUMMARY:موسم سرما کا آخری دن بیلے پروگرام کا تعارف (بی ٹی فاؤنڈیشن)
DESCRIPTION:
URL:https://ballettech.org/ur/event/%d9%85%d9%88%d8%b3%d9%85-%d8%b3%d8%b1%d9%85%d8%a7-%da%a9%d8%a7-%d8%a2%d8%ae%d8%b1%db%8c-%d8%af%d9%86-%d8%a8%db%8c%d9%84%db%92-%d9%be%d8%b1%d9%88%da%af%d8%b1%d8%a7%d9%85-%da%a9%d8%a7-%d8%aa%d8%b9%d8%a7/
END:VEVENT
BEGIN:VEVENT
DTSTART;TZID=America/New_York:20250309T230000
DTEND;TZID=America/New_York:20250314T225959
DTSTAMP:20260421T211030
CREATED:20240829T182451Z
LAST-MODIFIED:20241126T083421Z
UID:10002215-1741561200-1741993199@ballettech.org
SUMMARY:اوپن کلاس ویک (صرف ڈانس کلاسز)
DESCRIPTION:
URL:https://ballettech.org/ur/event/%d8%a7%d9%88%d9%be%d9%86-%da%a9%d9%84%d8%a7%d8%b3-%d9%88%db%8c%da%a9-%d8%b5%d8%b1%d9%81-%da%88%d8%a7%d9%86%d8%b3-%da%a9%d9%84%d8%a7%d8%b3%d8%b2/
END:VEVENT
BEGIN:VEVENT
DTSTART;TZID=America/New_York:20250306T130000
DTEND;TZID=America/New_York:20250306T160000
DTSTAMP:20260421T211030
CREATED:20240815T221938Z
LAST-MODIFIED:20241126T083655Z
UID:10002701-1741266000-1741276800@ballettech.org
SUMMARY:والدین اور اساتذہ کی کانفرنسیں (دوپہر)
DESCRIPTION:
URL:https://ballettech.org/ur/event/%d9%88%d8%a7%d9%84%d8%af%db%8c%d9%86-%d8%a7%d9%88%d8%b1-%d8%a7%d8%b3%d8%a7%d8%aa%d8%b0%db%81-%da%a9%db%8c-%da%a9%d8%a7%d9%86%d9%81%d8%b1%d9%86%d8%b3%db%8c%da%ba-%d8%af%d9%88%d9%be%db%81%d8%b1-2/
END:VEVENT
BEGIN:VEVENT
DTSTART;TZID=America/New_York:20250306T000000
DTEND;TZID=America/New_York:20250306T235959
DTSTAMP:20260421T211030
CREATED:20240815T222012Z
LAST-MODIFIED:20241126T083547Z
UID:10002493-1741219200-1741305599@ballettech.org
SUMMARY:قبل از وقت برطرفی
DESCRIPTION:ابتدائی اسکول کی برخاستگی: صبح 11:35 بجے\nمڈل اسکول برطرفی: صبح 11:40 بجے
URL:https://ballettech.org/ur/event/%d9%82%d8%a8%d9%84-%d8%a7%d8%b2-%d9%88%d9%82%d8%aa-%d8%a8%d8%b1%d8%b7%d8%b1%d9%81%db%8c-2/
END:VEVENT
END:VCALENDAR