BEGIN:VCALENDAR
VERSION:2.0
PRODID:-//Ballet Tech - ECPv6.15.18//NONSGML v1.0//EN
CALSCALE:GREGORIAN
METHOD:PUBLISH
X-ORIGINAL-URL:https://ballettech.org/ur/
X-WR-CALDESC:Events for Ballet Tech
REFRESH-INTERVAL;VALUE=DURATION:PT1H
X-Robots-Tag:noindex
X-PUBLISHED-TTL:PT1H
BEGIN:VTIMEZONE
TZID:America/New_York
BEGIN:DAYLIGHT
TZOFFSETFROM:-0500
TZOFFSETTO:-0400
TZNAME:EDT
DTSTART:20230312T070000
END:DAYLIGHT
BEGIN:STANDARD
TZOFFSETFROM:-0400
TZOFFSETTO:-0500
TZNAME:EST
DTSTART:20231105T060000
END:STANDARD
BEGIN:DAYLIGHT
TZOFFSETFROM:-0500
TZOFFSETTO:-0400
TZNAME:EDT
DTSTART:20240310T070000
END:DAYLIGHT
BEGIN:STANDARD
TZOFFSETFROM:-0400
TZOFFSETTO:-0500
TZNAME:EST
DTSTART:20241103T060000
END:STANDARD
BEGIN:DAYLIGHT
TZOFFSETFROM:-0500
TZOFFSETTO:-0400
TZNAME:EDT
DTSTART:20250309T070000
END:DAYLIGHT
BEGIN:STANDARD
TZOFFSETFROM:-0400
TZOFFSETTO:-0500
TZNAME:EST
DTSTART:20251102T060000
END:STANDARD
BEGIN:DAYLIGHT
TZOFFSETFROM:-0500
TZOFFSETTO:-0400
TZNAME:EDT
DTSTART:20260308T070000
END:DAYLIGHT
BEGIN:STANDARD
TZOFFSETFROM:-0400
TZOFFSETTO:-0500
TZNAME:EST
DTSTART:20261101T060000
END:STANDARD
END:VTIMEZONE
BEGIN:VEVENT
DTSTART;TZID=America/New_York:20241002T230000
DTEND;TZID=America/New_York:20241004T225959
DTSTAMP:20260422T175717
CREATED:20240815T215930Z
LAST-MODIFIED:20241126T083329Z
UID:10002074-1727910000-1728082799@ballettech.org
SUMMARY:روش ہشانہ - اسکول بند
DESCRIPTION:
URL:https://ballettech.org/ur/event/%d8%b1%d9%88%d8%b4-%db%81%d8%b4%d8%a7%d9%86%db%81-%d8%a7%d8%b3%da%a9%d9%88%d9%84-%d8%a8%d9%86%d8%af/
END:VEVENT
BEGIN:VEVENT
DTSTART;TZID=America/New_York:20241013T230000
DTEND;TZID=America/New_York:20241014T225959
DTSTAMP:20260422T175717
CREATED:20240815T220024Z
LAST-MODIFIED:20241126T083358Z
UID:10002170-1728860400-1728946799@ballettech.org
SUMMARY:اطالوی ورثہ / مقامی لوگوں کا دن -- اسکول بند
DESCRIPTION:
URL:https://ballettech.org/ur/event/%d8%a7%d8%b7%d8%a7%d9%84%d9%88%db%8c-%d9%88%d8%b1%d8%ab%db%81-%d9%85%d9%82%d8%a7%d9%85%db%8c-%d9%84%d9%88%da%af%d9%88%da%ba-%da%a9%d8%a7-%d8%af%d9%86-%d8%a7%d8%b3%da%a9%d9%88%d9%84-%d8%a8%d9%86/
CATEGORIES:تعطیلات
END:VEVENT
BEGIN:VEVENT
DTSTART;TZID=America/New_York:20241015T150000
DTEND;TZID=America/New_York:20241015T160000
DTSTAMP:20260422T175717
CREATED:20240910T214409Z
LAST-MODIFIED:20241126T083534Z
UID:10002452-1729004400-1729008000@ballettech.org
SUMMARY:ایس ایل ٹی کا اجلاس
DESCRIPTION:
URL:https://ballettech.org/ur/event/%d8%a7%db%8c%d8%b3-%d8%a7%db%8c%d9%84-%d9%b9%db%8c-%da%a9%d8%a7-%d8%a7%d8%ac%d9%84%d8%a7%d8%b3-7/
END:VEVENT
BEGIN:VEVENT
DTSTART;TZID=America/New_York:20241015T170000
DTEND;TZID=America/New_York:20241015T183000
DTSTAMP:20260422T175717
CREATED:20240829T173007Z
LAST-MODIFIED:20241126T083619Z
UID:10002599-1729011600-1729017000@ballettech.org
SUMMARY:پی ٹی اے کا اجلاس
DESCRIPTION:
URL:https://ballettech.org/ur/event/%d9%be%db%8c-%d9%b9%db%8c-%d8%a7%db%92-%da%a9%d8%a7-%d8%a7%d8%ac%d9%84%d8%a7%d8%b3-8/
END:VEVENT
BEGIN:VEVENT
DTSTART;TZID=America/New_York:20241015T230000
DTEND;TZID=America/New_York:20241016T225959
DTSTAMP:20260422T175717
CREATED:20240829T172857Z
LAST-MODIFIED:20241126T083609Z
UID:10002568-1729033200-1729119599@ballettech.org
SUMMARY:موسم خزاں کا پہلا دن بیلے پروگرام (بی ٹی فاؤنڈیشن) کا تعارف
DESCRIPTION:
URL:https://ballettech.org/ur/event/%d9%85%d9%88%d8%b3%d9%85-%d8%ae%d8%b2%d8%a7%da%ba-%da%a9%d8%a7-%d9%be%db%81%d9%84%d8%a7-%d8%af%d9%86-%d8%a8%db%8c%d9%84%db%92-%d9%be%d8%b1%d9%88%da%af%d8%b1%d8%a7%d9%85-%d8%a8%db%8c-%d9%b9%db%8c/
END:VEVENT
BEGIN:VEVENT
DTSTART;TZID=America/New_York:20241028T230000
DTEND;TZID=America/New_York:20241029T225959
DTSTAMP:20260422T175717
CREATED:20240904T202353Z
LAST-MODIFIED:20241126T083452Z
UID:10002321-1730156400-1730242799@ballettech.org
SUMMARY:تصویر کا دن
DESCRIPTION:
URL:https://ballettech.org/ur/event/%d8%aa%d8%b5%d9%88%db%8c%d8%b1-%da%a9%d8%a7-%d8%af%d9%86/
END:VEVENT
BEGIN:VEVENT
DTSTART;TZID=America/New_York:20241029T230000
DTEND;TZID=America/New_York:20241030T225959
DTSTAMP:20260422T175717
CREATED:20240909T230816Z
LAST-MODIFIED:20241126T083453Z
UID:10002324-1730242800-1730329199@ballettech.org
SUMMARY:ایس ایچ ایس اے ٹی انتظامیہ (آٹھویں جماعت)
DESCRIPTION:
URL:https://ballettech.org/ur/event/%d8%a7%db%8c%d8%b3-%d8%a7%db%8c%da%86-%d8%a7%db%8c%d8%b3-%d8%a7%db%92-%d9%b9%db%8c-%d8%a7%d9%86%d8%aa%d8%b8%d8%a7%d9%85%db%8c%db%81-%d8%a2%d9%b9%da%be%d9%88%db%8c%da%ba-%d8%ac%d9%85%d8%a7%d8%b9%d8%aa/
END:VEVENT
BEGIN:VEVENT
DTSTART;TZID=America/New_York:20241030T230000
DTEND;TZID=America/New_York:20241031T225959
DTSTAMP:20260422T175717
CREATED:20240829T172928Z
LAST-MODIFIED:20241126T083703Z
UID:10002729-1730329200-1730415599@ballettech.org
SUMMARY:ہالووین
DESCRIPTION:
URL:https://ballettech.org/ur/event/%db%81%d8%a7%d9%84%d9%88%d9%88%db%8c%d9%86/
END:VEVENT
BEGIN:VEVENT
DTSTART;TZID=America/New_York:20241031T230000
DTEND;TZID=America/New_York:20241101T225959
DTSTAMP:20260422T175717
CREATED:20240815T220112Z
LAST-MODIFIED:20241126T083358Z
UID:10002172-1730415600-1730501999@ballettech.org
SUMMARY:دیوالی - اسکول بند
DESCRIPTION:
URL:https://ballettech.org/ur/event/%d8%af%db%8c%d9%88%d8%a7%d9%84%db%8c-%d8%a7%d8%b3%da%a9%d9%88%d9%84-%d8%a8%d9%86%d8%af/
END:VEVENT
BEGIN:VEVENT
DTSTART;TZID=America/New_York:20241102T070000
DTEND;TZID=America/New_York:20241102T083000
DTSTAMP:20260422T175717
CREATED:20241112T200144Z
LAST-MODIFIED:20241126T083322Z
UID:10002053-1730530800-1730536200@ballettech.org
SUMMARY:الیکس بریڈی کے ساتھ بیلے
DESCRIPTION:
URL:https://ballettech.org/ur/event/%d8%a7%d9%84%db%8c%da%a9%d8%b3-%d8%a8%d8%b1%db%8c%da%88%db%8c-%da%a9%db%92-%d8%b3%d8%a7%d8%aa%da%be-%d8%a8%db%8c%d9%84%db%92/
CATEGORIES:سابق طالب علموں کا رقص پروگرام
END:VEVENT
BEGIN:VEVENT
DTSTART;TZID=America/New_York:20241105T000000
DTEND;TZID=America/New_York:20241105T235959
DTSTAMP:20260422T175717
CREATED:20240815T220543Z
LAST-MODIFIED:20241126T083641Z
UID:10002645-1730764800-1730851199@ballettech.org
SUMMARY:الیکشن کا دن - کوئی کلاس نہیں
DESCRIPTION:
URL:https://ballettech.org/ur/event/%d8%a7%d9%84%db%8c%da%a9%d8%b4%d9%86-%da%a9%d8%a7-%d8%af%d9%86-%da%a9%d9%88%d8%a6%db%8c-%da%a9%d9%84%d8%a7%d8%b3-%d9%86%db%81%db%8c%da%ba/
END:VEVENT
BEGIN:VEVENT
DTSTART;TZID=America/New_York:20241106T160000
DTEND;TZID=America/New_York:20241106T190000
DTSTAMP:20260422T175717
CREATED:20240815T220713Z
LAST-MODIFIED:20241126T083617Z
UID:10002590-1730908800-1730919600@ballettech.org
SUMMARY:والدین اور اساتذہ کی کانفرنسیں (شام)
DESCRIPTION:
URL:https://ballettech.org/ur/event/%d9%88%d8%a7%d9%84%d8%af%db%8c%d9%86-%d8%a7%d9%88%d8%b1-%d8%a7%d8%b3%d8%a7%d8%aa%d8%b0%db%81-%da%a9%db%8c-%da%a9%d8%a7%d9%86%d9%81%d8%b1%d9%86%d8%b3%db%8c%da%ba-%d8%b4%d8%a7%d9%85-2/
END:VEVENT
BEGIN:VEVENT
DTSTART;TZID=America/New_York:20241107T000000
DTEND;TZID=America/New_York:20241107T235959
DTSTAMP:20260422T175717
CREATED:20240815T220849Z
LAST-MODIFIED:20241126T083513Z
UID:10002384-1730937600-1731023999@ballettech.org
SUMMARY:قبل از وقت برطرفی
DESCRIPTION:ابتدائی اسکول کی برخاستگی: صبح 11:35 بجے \nمڈل اسکول برطرفی: صبح 11:40 بجے
URL:https://ballettech.org/ur/event/%d9%82%d8%a8%d9%84-%d8%a7%d8%b2-%d9%88%d9%82%d8%aa-%d8%a8%d8%b1%d8%b7%d8%b1%d9%81%db%8c/
END:VEVENT
BEGIN:VEVENT
DTSTART;TZID=America/New_York:20241107T130000
DTEND;TZID=America/New_York:20241107T160000
DTSTAMP:20260422T175717
CREATED:20240815T220804Z
LAST-MODIFIED:20241126T083641Z
UID:10002651-1730984400-1730995200@ballettech.org
SUMMARY:والدین اور اساتذہ کی کانفرنسیں (دوپہر)
DESCRIPTION:
URL:https://ballettech.org/ur/event/%d9%88%d8%a7%d9%84%d8%af%db%8c%d9%86-%d8%a7%d9%88%d8%b1-%d8%a7%d8%b3%d8%a7%d8%aa%d8%b0%db%81-%da%a9%db%8c-%da%a9%d8%a7%d9%86%d9%81%d8%b1%d9%86%d8%b3%db%8c%da%ba-%d8%af%d9%88%d9%be%db%81%d8%b1/
END:VEVENT
BEGIN:VEVENT
DTSTART;TZID=America/New_York:20241109T070000
DTEND;TZID=America/New_York:20241109T083000
DTSTAMP:20260422T175717
CREATED:20241112T200426Z
LAST-MODIFIED:20241126T083324Z
UID:10002057-1731135600-1731141000@ballettech.org
SUMMARY:کے-پاپ کے ساتھ ایشیا ییو
DESCRIPTION:
URL:https://ballettech.org/ur/event/%da%a9%db%92-%d9%be%d8%a7%d9%be-%da%a9%db%92-%d8%b3%d8%a7%d8%aa%da%be-%d8%a7%db%8c%d8%b4%db%8c%d8%a7-%db%8c%db%8c%d9%88/
CATEGORIES:سابق طالب علموں کا رقص پروگرام
END:VEVENT
BEGIN:VEVENT
DTSTART;TZID=America/New_York:20241111T000000
DTEND;TZID=America/New_York:20241111T235959
DTSTAMP:20260422T175717
CREATED:20240815T221001Z
LAST-MODIFIED:20241126T083515Z
UID:10002388-1731283200-1731369599@ballettech.org
SUMMARY:ویٹرنز ڈے - اسکول بند
DESCRIPTION:
URL:https://ballettech.org/ur/event/%d9%88%db%8c%d9%b9%d8%b1%d9%86%d8%b2-%da%88%db%92-%d8%a7%d8%b3%da%a9%d9%88%d9%84-%d8%a8%d9%86%d8%af/
END:VEVENT
BEGIN:VEVENT
DTSTART;TZID=America/New_York:20241116T070000
DTEND;TZID=America/New_York:20241116T083000
DTSTAMP:20260422T175717
CREATED:20241112T200544Z
LAST-MODIFIED:20241126T083345Z
UID:10002125-1731740400-1731745800@ballettech.org
SUMMARY:سابق طالب علموں کی کلاس - مریم لین قبروں کے ساتھ معاصر
DESCRIPTION:
URL:https://ballettech.org/ur/event/%d8%b3%d8%a7%d8%a8%d9%82-%d8%b7%d8%a7%d9%84%d8%a8-%d8%b9%d9%84%d9%85%d9%88%da%ba-%da%a9%db%8c-%da%a9%d9%84%d8%a7%d8%b3-%d9%85%d8%b1%db%8c%d9%85-%d9%84%db%8c%d9%86-%d9%82%d8%a8%d8%b1%d9%88%da%ba/
CATEGORIES:سابق طالب علموں کا رقص پروگرام
END:VEVENT
BEGIN:VEVENT
DTSTART;TZID=America/New_York:20241119T160000
DTEND;TZID=America/New_York:20241119T170000
DTSTAMP:20260422T175717
CREATED:20240910T214455Z
LAST-MODIFIED:20241126T083304Z
UID:10001988-1732032000-1732035600@ballettech.org
SUMMARY:ایس ایل ٹی کا اجلاس
DESCRIPTION:
URL:https://ballettech.org/ur/event/%d8%a7%db%8c%d8%b3-%d8%a7%db%8c%d9%84-%d9%b9%db%8c-%da%a9%d8%a7-%d8%a7%d8%ac%d9%84%d8%a7%d8%b3/
END:VEVENT
BEGIN:VEVENT
DTSTART;TZID=America/New_York:20241119T180000
DTEND;TZID=America/New_York:20241119T193000
DTSTAMP:20260422T175717
CREATED:20240829T174034Z
LAST-MODIFIED:20241126T083704Z
UID:10002731-1732039200-1732044600@ballettech.org
SUMMARY:پی ٹی اے کا اجلاس
DESCRIPTION:
URL:https://ballettech.org/ur/event/%d9%be%db%8c-%d9%b9%db%8c-%d8%a7%db%92-%da%a9%d8%a7-%d8%a7%d8%ac%d9%84%d8%a7%d8%b3-10/
END:VEVENT
BEGIN:VEVENT
DTSTART;TZID=America/New_York:20241123T070000
DTEND;TZID=America/New_York:20241123T083000
DTSTAMP:20260422T175717
CREATED:20241112T200702Z
LAST-MODIFIED:20241126T083350Z
UID:10002141-1732345200-1732350600@ballettech.org
SUMMARY:ایلومنی کلاس - ایڈگر پیٹرسن کے ساتھ معاصر بیلے
DESCRIPTION:
URL:https://ballettech.org/ur/event/%d8%a7%db%8c%d9%84%d9%88%d9%85%d9%86%db%8c-%da%a9%d9%84%d8%a7%d8%b3-%d8%a7%db%8c%da%88%da%af%d8%b1-%d9%be%db%8c%d9%b9%d8%b1%d8%b3%d9%86-%da%a9%db%92-%d8%b3%d8%a7%d8%aa%da%be-%d9%85%d8%b9%d8%a7%d8%b5/
CATEGORIES:سابق طالب علموں کا رقص پروگرام
END:VEVENT
BEGIN:VEVENT
DTSTART;TZID=America/New_York:20241128T000000
DTEND;TZID=America/New_York:20241129T235959
DTSTAMP:20260422T175717
CREATED:20240815T221043Z
LAST-MODIFIED:20241126T083646Z
UID:10002663-1732752000-1732924799@ballettech.org
SUMMARY:شکریہ کی تعطیلات -- اسکول بند
DESCRIPTION:
URL:https://ballettech.org/ur/event/%d8%b4%da%a9%d8%b1%db%8c%db%81-%da%a9%db%8c-%d8%aa%d8%b9%d8%b7%db%8c%d9%84%d8%a7%d8%aa-%d8%a7%d8%b3%da%a9%d9%88%d9%84-%d8%a8%d9%86%d8%af/
END:VEVENT
BEGIN:VEVENT
DTSTART;TZID=America/New_York:20241204T000000
DTEND;TZID=America/New_York:20241206T235959
DTSTAMP:20260422T175717
CREATED:20240829T175721Z
LAST-MODIFIED:20241126T083624Z
UID:10002617-1733270400-1733529599@ballettech.org
SUMMARY:تعلیمی کتاب میلہ
DESCRIPTION:
URL:https://ballettech.org/ur/event/%d8%aa%d8%b9%d9%84%db%8c%d9%85%db%8c-%da%a9%d8%aa%d8%a7%d8%a8-%d9%85%db%8c%d9%84%db%81-2/
END:VEVENT
BEGIN:VEVENT
DTSTART;TZID=America/New_York:20241206T000000
DTEND;TZID=America/New_York:20241206T235959
DTSTAMP:20260422T175717
CREATED:20240815T221213Z
LAST-MODIFIED:20241126T083518Z
UID:10002401-1733443200-1733529599@ballettech.org
SUMMARY:خزاں کی مدت کا اختتام / نشان دہی کی مدت 1
DESCRIPTION:
URL:https://ballettech.org/ur/event/%d8%ae%d8%b2%d8%a7%da%ba-%da%a9%db%8c-%d9%85%d8%af%d8%aa-%da%a9%d8%a7-%d8%a7%d8%ae%d8%aa%d8%aa%d8%a7%d9%85-%d9%86%d8%b4%d8%a7%d9%86-%d8%af%db%81%db%8c-%da%a9%db%8c-%d9%85%d8%af%d8%aa-1/
END:VEVENT
BEGIN:VEVENT
DTSTART;TZID=America/New_York:20241206T000000
DTEND;TZID=America/New_York:20241206T235959
DTSTAMP:20260422T175717
CREATED:20240829T175759Z
LAST-MODIFIED:20241126T083625Z
UID:10002626-1733443200-1733529599@ballettech.org
SUMMARY:موسم سرما کارنیوال
DESCRIPTION:
URL:https://ballettech.org/ur/event/%d9%85%d9%88%d8%b3%d9%85-%d8%b3%d8%b1%d9%85%d8%a7-%da%a9%d8%a7%d8%b1%d9%86%db%8c%d9%88%d8%a7%d9%84/
END:VEVENT
BEGIN:VEVENT
DTSTART;TZID=America/New_York:20241209T000000
DTEND;TZID=America/New_York:20241209T235959
DTSTAMP:20260422T175717
CREATED:20240829T175840Z
LAST-MODIFIED:20241126T083704Z
UID:10002726-1733702400-1733788799@ballettech.org
SUMMARY:موسم خزاں کا آخری دن بیلے کلاسز کا تعارف (بی ٹی فاؤنڈیشن)
DESCRIPTION:
URL:https://ballettech.org/ur/event/%d9%85%d9%88%d8%b3%d9%85-%d8%ae%d8%b2%d8%a7%da%ba-%da%a9%d8%a7-%d8%a2%d8%ae%d8%b1%db%8c-%d8%af%d9%86-%d8%a8%db%8c%d9%84%db%92-%da%a9%d9%84%d8%a7%d8%b3%d8%b2-%da%a9%d8%a7-%d8%aa%d8%b9%d8%a7%d8%b1%d9%81/
END:VEVENT
BEGIN:VEVENT
DTSTART;TZID=America/New_York:20241211T000000
DTEND;TZID=America/New_York:20241211T235959
DTSTAMP:20260422T175717
CREATED:20240829T175926Z
LAST-MODIFIED:20241126T083627Z
UID:10002631-1733875200-1733961599@ballettech.org
SUMMARY:اوپن کلاسز اور تعطیلات کا اشتراک (ایلیمنٹری اسکول)
DESCRIPTION:
URL:https://ballettech.org/ur/event/%d8%a7%d9%88%d9%be%d9%86-%da%a9%d9%84%d8%a7%d8%b3%d8%b2-%d8%a7%d9%88%d8%b1-%d8%aa%d8%b9%d8%b7%db%8c%d9%84%d8%a7%d8%aa-%da%a9%d8%a7-%d8%a7%d8%b4%d8%aa%d8%b1%d8%a7%da%a9-%d8%a7%db%8c%d9%84%db%8c%d9%85/
END:VEVENT
BEGIN:VEVENT
DTSTART;TZID=America/New_York:20241211T000000
DTEND;TZID=America/New_York:20241212T235959
DTSTAMP:20260422T175717
CREATED:20240829T175958Z
LAST-MODIFIED:20241126T083336Z
UID:10002098-1733875200-1734047999@ballettech.org
SUMMARY:مڈل اسکول اوپن کلاسز اور تعطیلات کا اشتراک
DESCRIPTION:
URL:https://ballettech.org/ur/event/%d9%85%da%88%d9%84-%d8%a7%d8%b3%da%a9%d9%88%d9%84-%d8%a7%d9%88%d9%be%d9%86-%da%a9%d9%84%d8%a7%d8%b3%d8%b2-%d8%a7%d9%88%d8%b1-%d8%aa%d8%b9%d8%b7%db%8c%d9%84%d8%a7%d8%aa-%da%a9%d8%a7-%d8%a7%d8%b4%d8%aa/
END:VEVENT
BEGIN:VEVENT
DTSTART;TZID=America/New_York:20241217T084500
DTEND;TZID=America/New_York:20241217T094500
DTSTAMP:20260422T175717
CREATED:20240829T180053Z
LAST-MODIFIED:20241126T083631Z
UID:10002642-1734425100-1734428700@ballettech.org
SUMMARY:پی ٹی اے کا اجلاس
DESCRIPTION:
URL:https://ballettech.org/ur/event/%d9%be%db%8c-%d9%b9%db%8c-%d8%a7%db%92-%da%a9%d8%a7-%d8%a7%d8%ac%d9%84%d8%a7%d8%b3-9/
END:VEVENT
BEGIN:VEVENT
DTSTART;TZID=America/New_York:20241217T160000
DTEND;TZID=America/New_York:20241217T170000
DTSTAMP:20260422T175717
CREATED:20240910T214609Z
LAST-MODIFIED:20241126T083537Z
UID:10002463-1734451200-1734454800@ballettech.org
SUMMARY:ایس ایل ٹی کا اجلاس
DESCRIPTION:
URL:https://ballettech.org/ur/event/%d8%a7%db%8c%d8%b3-%d8%a7%db%8c%d9%84-%d9%b9%db%8c-%da%a9%d8%a7-%d8%a7%d8%ac%d9%84%d8%a7%d8%b3-8/
END:VEVENT
BEGIN:VEVENT
DTSTART;TZID=America/New_York:20241223T000000
DTEND;TZID=America/New_York:20250101T235959
DTSTAMP:20260422T175717
CREATED:20240815T221247Z
LAST-MODIFIED:20241126T083519Z
UID:10002400-1734912000-1735775999@ballettech.org
SUMMARY:موسم سرما کی تعطیلات - اسکول بند
DESCRIPTION:
URL:https://ballettech.org/ur/event/%d9%85%d9%88%d8%b3%d9%85-%d8%b3%d8%b1%d9%85%d8%a7-%da%a9%db%8c-%d8%aa%d8%b9%d8%b7%db%8c%d9%84%d8%a7%d8%aa-%d8%a7%d8%b3%da%a9%d9%88%d9%84-%d8%a8%d9%86%d8%af/
END:VEVENT
END:VCALENDAR