BEGIN:VCALENDAR
VERSION:2.0
PRODID:-//Ballet Tech - ECPv6.15.18//NONSGML v1.0//EN
CALSCALE:GREGORIAN
METHOD:PUBLISH
X-ORIGINAL-URL:https://ballettech.org/ur/
X-WR-CALDESC:Events for Ballet Tech
REFRESH-INTERVAL;VALUE=DURATION:PT1H
X-Robots-Tag:noindex
X-PUBLISHED-TTL:PT1H
BEGIN:VTIMEZONE
TZID:America/New_York
BEGIN:DAYLIGHT
TZOFFSETFROM:-0500
TZOFFSETTO:-0400
TZNAME:EDT
DTSTART:20230312T070000
END:DAYLIGHT
BEGIN:STANDARD
TZOFFSETFROM:-0400
TZOFFSETTO:-0500
TZNAME:EST
DTSTART:20231105T060000
END:STANDARD
BEGIN:DAYLIGHT
TZOFFSETFROM:-0500
TZOFFSETTO:-0400
TZNAME:EDT
DTSTART:20240310T070000
END:DAYLIGHT
BEGIN:STANDARD
TZOFFSETFROM:-0400
TZOFFSETTO:-0500
TZNAME:EST
DTSTART:20241103T060000
END:STANDARD
BEGIN:DAYLIGHT
TZOFFSETFROM:-0500
TZOFFSETTO:-0400
TZNAME:EDT
DTSTART:20250309T070000
END:DAYLIGHT
BEGIN:STANDARD
TZOFFSETFROM:-0400
TZOFFSETTO:-0500
TZNAME:EST
DTSTART:20251102T060000
END:STANDARD
BEGIN:DAYLIGHT
TZOFFSETFROM:-0500
TZOFFSETTO:-0400
TZNAME:EDT
DTSTART:20260308T070000
END:DAYLIGHT
BEGIN:STANDARD
TZOFFSETFROM:-0400
TZOFFSETTO:-0500
TZNAME:EST
DTSTART:20261101T060000
END:STANDARD
END:VTIMEZONE
BEGIN:VEVENT
DTSTART;TZID=America/New_York:20241123T070000
DTEND;TZID=America/New_York:20241123T083000
DTSTAMP:20260422T180312
CREATED:20241112T200702Z
LAST-MODIFIED:20241126T083350Z
UID:10002141-1732345200-1732350600@ballettech.org
SUMMARY:ایلومنی کلاس - ایڈگر پیٹرسن کے ساتھ معاصر بیلے
DESCRIPTION:
URL:https://ballettech.org/ur/event/%d8%a7%db%8c%d9%84%d9%88%d9%85%d9%86%db%8c-%da%a9%d9%84%d8%a7%d8%b3-%d8%a7%db%8c%da%88%da%af%d8%b1-%d9%be%db%8c%d9%b9%d8%b1%d8%b3%d9%86-%da%a9%db%92-%d8%b3%d8%a7%d8%aa%da%be-%d9%85%d8%b9%d8%a7%d8%b5/
CATEGORIES:سابق طالب علموں کا رقص پروگرام
END:VEVENT
BEGIN:VEVENT
DTSTART;TZID=America/New_York:20241128T000000
DTEND;TZID=America/New_York:20241129T235959
DTSTAMP:20260422T180312
CREATED:20240815T221043Z
LAST-MODIFIED:20241126T083646Z
UID:10002663-1732752000-1732924799@ballettech.org
SUMMARY:شکریہ کی تعطیلات -- اسکول بند
DESCRIPTION:
URL:https://ballettech.org/ur/event/%d8%b4%da%a9%d8%b1%db%8c%db%81-%da%a9%db%8c-%d8%aa%d8%b9%d8%b7%db%8c%d9%84%d8%a7%d8%aa-%d8%a7%d8%b3%da%a9%d9%88%d9%84-%d8%a8%d9%86%d8%af/
END:VEVENT
BEGIN:VEVENT
DTSTART;TZID=America/New_York:20241204T000000
DTEND;TZID=America/New_York:20241206T235959
DTSTAMP:20260422T180312
CREATED:20240829T175721Z
LAST-MODIFIED:20241126T083624Z
UID:10002617-1733270400-1733529599@ballettech.org
SUMMARY:تعلیمی کتاب میلہ
DESCRIPTION:
URL:https://ballettech.org/ur/event/%d8%aa%d8%b9%d9%84%db%8c%d9%85%db%8c-%da%a9%d8%aa%d8%a7%d8%a8-%d9%85%db%8c%d9%84%db%81-2/
END:VEVENT
BEGIN:VEVENT
DTSTART;TZID=America/New_York:20241206T000000
DTEND;TZID=America/New_York:20241206T235959
DTSTAMP:20260422T180312
CREATED:20240815T221213Z
LAST-MODIFIED:20241126T083518Z
UID:10002401-1733443200-1733529599@ballettech.org
SUMMARY:خزاں کی مدت کا اختتام / نشان دہی کی مدت 1
DESCRIPTION:
URL:https://ballettech.org/ur/event/%d8%ae%d8%b2%d8%a7%da%ba-%da%a9%db%8c-%d9%85%d8%af%d8%aa-%da%a9%d8%a7-%d8%a7%d8%ae%d8%aa%d8%aa%d8%a7%d9%85-%d9%86%d8%b4%d8%a7%d9%86-%d8%af%db%81%db%8c-%da%a9%db%8c-%d9%85%d8%af%d8%aa-1/
END:VEVENT
BEGIN:VEVENT
DTSTART;TZID=America/New_York:20241206T000000
DTEND;TZID=America/New_York:20241206T235959
DTSTAMP:20260422T180312
CREATED:20240829T175759Z
LAST-MODIFIED:20241126T083625Z
UID:10002626-1733443200-1733529599@ballettech.org
SUMMARY:موسم سرما کارنیوال
DESCRIPTION:
URL:https://ballettech.org/ur/event/%d9%85%d9%88%d8%b3%d9%85-%d8%b3%d8%b1%d9%85%d8%a7-%da%a9%d8%a7%d8%b1%d9%86%db%8c%d9%88%d8%a7%d9%84/
END:VEVENT
BEGIN:VEVENT
DTSTART;TZID=America/New_York:20241209T000000
DTEND;TZID=America/New_York:20241209T235959
DTSTAMP:20260422T180312
CREATED:20240829T175840Z
LAST-MODIFIED:20241126T083704Z
UID:10002726-1733702400-1733788799@ballettech.org
SUMMARY:موسم خزاں کا آخری دن بیلے کلاسز کا تعارف (بی ٹی فاؤنڈیشن)
DESCRIPTION:
URL:https://ballettech.org/ur/event/%d9%85%d9%88%d8%b3%d9%85-%d8%ae%d8%b2%d8%a7%da%ba-%da%a9%d8%a7-%d8%a2%d8%ae%d8%b1%db%8c-%d8%af%d9%86-%d8%a8%db%8c%d9%84%db%92-%da%a9%d9%84%d8%a7%d8%b3%d8%b2-%da%a9%d8%a7-%d8%aa%d8%b9%d8%a7%d8%b1%d9%81/
END:VEVENT
BEGIN:VEVENT
DTSTART;TZID=America/New_York:20241211T000000
DTEND;TZID=America/New_York:20241211T235959
DTSTAMP:20260422T180312
CREATED:20240829T175926Z
LAST-MODIFIED:20241126T083627Z
UID:10002631-1733875200-1733961599@ballettech.org
SUMMARY:اوپن کلاسز اور تعطیلات کا اشتراک (ایلیمنٹری اسکول)
DESCRIPTION:
URL:https://ballettech.org/ur/event/%d8%a7%d9%88%d9%be%d9%86-%da%a9%d9%84%d8%a7%d8%b3%d8%b2-%d8%a7%d9%88%d8%b1-%d8%aa%d8%b9%d8%b7%db%8c%d9%84%d8%a7%d8%aa-%da%a9%d8%a7-%d8%a7%d8%b4%d8%aa%d8%b1%d8%a7%da%a9-%d8%a7%db%8c%d9%84%db%8c%d9%85/
END:VEVENT
BEGIN:VEVENT
DTSTART;TZID=America/New_York:20241211T000000
DTEND;TZID=America/New_York:20241212T235959
DTSTAMP:20260422T180312
CREATED:20240829T175958Z
LAST-MODIFIED:20241126T083336Z
UID:10002098-1733875200-1734047999@ballettech.org
SUMMARY:مڈل اسکول اوپن کلاسز اور تعطیلات کا اشتراک
DESCRIPTION:
URL:https://ballettech.org/ur/event/%d9%85%da%88%d9%84-%d8%a7%d8%b3%da%a9%d9%88%d9%84-%d8%a7%d9%88%d9%be%d9%86-%da%a9%d9%84%d8%a7%d8%b3%d8%b2-%d8%a7%d9%88%d8%b1-%d8%aa%d8%b9%d8%b7%db%8c%d9%84%d8%a7%d8%aa-%da%a9%d8%a7-%d8%a7%d8%b4%d8%aa/
END:VEVENT
BEGIN:VEVENT
DTSTART;TZID=America/New_York:20241217T084500
DTEND;TZID=America/New_York:20241217T094500
DTSTAMP:20260422T180312
CREATED:20240829T180053Z
LAST-MODIFIED:20241126T083631Z
UID:10002642-1734425100-1734428700@ballettech.org
SUMMARY:پی ٹی اے کا اجلاس
DESCRIPTION:
URL:https://ballettech.org/ur/event/%d9%be%db%8c-%d9%b9%db%8c-%d8%a7%db%92-%da%a9%d8%a7-%d8%a7%d8%ac%d9%84%d8%a7%d8%b3-9/
END:VEVENT
BEGIN:VEVENT
DTSTART;TZID=America/New_York:20241217T160000
DTEND;TZID=America/New_York:20241217T170000
DTSTAMP:20260422T180312
CREATED:20240910T214609Z
LAST-MODIFIED:20241126T083537Z
UID:10002463-1734451200-1734454800@ballettech.org
SUMMARY:ایس ایل ٹی کا اجلاس
DESCRIPTION:
URL:https://ballettech.org/ur/event/%d8%a7%db%8c%d8%b3-%d8%a7%db%8c%d9%84-%d9%b9%db%8c-%da%a9%d8%a7-%d8%a7%d8%ac%d9%84%d8%a7%d8%b3-8/
END:VEVENT
BEGIN:VEVENT
DTSTART;TZID=America/New_York:20241223T000000
DTEND;TZID=America/New_York:20250101T235959
DTSTAMP:20260422T180312
CREATED:20240815T221247Z
LAST-MODIFIED:20241126T083519Z
UID:10002400-1734912000-1735775999@ballettech.org
SUMMARY:موسم سرما کی تعطیلات - اسکول بند
DESCRIPTION:
URL:https://ballettech.org/ur/event/%d9%85%d9%88%d8%b3%d9%85-%d8%b3%d8%b1%d9%85%d8%a7-%da%a9%db%8c-%d8%aa%d8%b9%d8%b7%db%8c%d9%84%d8%a7%d8%aa-%d8%a7%d8%b3%da%a9%d9%88%d9%84-%d8%a8%d9%86%d8%af/
END:VEVENT
BEGIN:VEVENT
DTSTART;TZID=America/New_York:20250102T000000
DTEND;TZID=America/New_York:20250102T235959
DTSTAMP:20260422T180312
CREATED:20240815T221304Z
LAST-MODIFIED:20241126T083521Z
UID:10002409-1735776000-1735862399@ballettech.org
SUMMARY:کلاسیں دوبارہ شروع
DESCRIPTION:
URL:https://ballettech.org/ur/event/%da%a9%d9%84%d8%a7%d8%b3%db%8c%da%ba-%d8%af%d9%88%d8%a8%d8%a7%d8%b1%db%81-%d8%b4%d8%b1%d9%88%d8%b9-2/
END:VEVENT
BEGIN:VEVENT
DTSTART;TZID=America/New_York:20250114T000000
DTEND;TZID=America/New_York:20250114T235959
DTSTAMP:20260422T180312
CREATED:20240829T183508Z
LAST-MODIFIED:20241126T083426Z
UID:10002228-1736812800-1736899199@ballettech.org
SUMMARY:فوٹو ری ٹیک ڈے / آٹھویں جماعت کی ٹوپی اور گاؤن کی تصاویر
DESCRIPTION:
URL:https://ballettech.org/ur/event/%d9%81%d9%88%d9%b9%d9%88-%d8%b1%db%8c-%d9%b9%db%8c%da%a9-%da%88%db%92-%d8%a2%d9%b9%da%be%d9%88%db%8c%da%ba-%d8%ac%d9%85%d8%a7%d8%b9%d8%aa-%da%a9%db%8c-%d9%b9%d9%88%d9%be%db%8c-%d8%a7%d9%88%d8%b1/
END:VEVENT
BEGIN:VEVENT
DTSTART;TZID=America/New_York:20250116T160000
DTEND;TZID=America/New_York:20250116T170000
DTSTAMP:20260422T180312
CREATED:20240910T214704Z
LAST-MODIFIED:20241126T083539Z
UID:10002473-1737043200-1737046800@ballettech.org
SUMMARY:ایس ایل ٹی کا اجلاس
DESCRIPTION:
URL:https://ballettech.org/ur/event/%d8%a7%db%8c%d8%b3-%d8%a7%db%8c%d9%84-%d9%b9%db%8c-%da%a9%d8%a7-%d8%a7%d8%ac%d9%84%d8%a7%d8%b3-9/
END:VEVENT
BEGIN:VEVENT
DTSTART;TZID=America/New_York:20250116T180000
DTEND;TZID=America/New_York:20250116T193000
DTSTAMP:20260422T180312
CREATED:20240829T180829Z
LAST-MODIFIED:20241126T083412Z
UID:10002179-1737050400-1737055800@ballettech.org
SUMMARY:پی ٹی اے کا اجلاس
DESCRIPTION:
URL:https://ballettech.org/ur/event/%d9%be%db%8c-%d9%b9%db%8c-%d8%a7%db%92-%da%a9%d8%a7-%d8%a7%d8%ac%d9%84%d8%a7%d8%b3-2/
END:VEVENT
BEGIN:VEVENT
DTSTART;TZID=America/New_York:20250120T000000
DTEND;TZID=America/New_York:20250120T235959
DTSTAMP:20260422T180312
CREATED:20240815T221339Z
LAST-MODIFIED:20241126T083522Z
UID:10002412-1737331200-1737417599@ballettech.org
SUMMARY:ڈاکٹر مارٹن لوتھر کنگ جونیئر دن - اسکول بند
DESCRIPTION:
URL:https://ballettech.org/ur/event/%da%88%d8%a7%da%a9%d9%b9%d8%b1-%d9%85%d8%a7%d8%b1%d9%b9%d9%86-%d9%84%d9%88%d8%aa%da%be%d8%b1-%da%a9%d9%86%da%af-%d8%ac%d9%88%d9%86%db%8c%d8%a6%d8%b1-%d8%af%d9%86-%d8%a7%d8%b3%da%a9%d9%88%d9%84/
END:VEVENT
BEGIN:VEVENT
DTSTART;TZID=America/New_York:20250127T000000
DTEND;TZID=America/New_York:20250127T235959
DTSTAMP:20260422T180312
CREATED:20240829T180903Z
LAST-MODIFIED:20241126T083714Z
UID:10002749-1737936000-1738022399@ballettech.org
SUMMARY:موسم سرما کا پہلا دن بیلے پروگرام (بی ٹی فاؤنڈیشن) کا تعارف
DESCRIPTION:
URL:https://ballettech.org/ur/event/%d9%85%d9%88%d8%b3%d9%85-%d8%b3%d8%b1%d9%85%d8%a7-%da%a9%d8%a7-%d9%be%db%81%d9%84%d8%a7-%d8%af%d9%86-%d8%a8%db%8c%d9%84%db%92-%d9%be%d8%b1%d9%88%da%af%d8%b1%d8%a7%d9%85-%d8%a8%db%8c-%d9%b9%db%8c/
END:VEVENT
BEGIN:VEVENT
DTSTART;TZID=America/New_York:20250129T000000
DTEND;TZID=America/New_York:20250129T235959
DTSTAMP:20260422T180312
CREATED:20240815T221406Z
LAST-MODIFIED:20241126T083649Z
UID:10002682-1738108800-1738195199@ballettech.org
SUMMARY:قمری نیا سال - اسکول بند
DESCRIPTION:
URL:https://ballettech.org/ur/event/%d9%82%d9%85%d8%b1%db%8c-%d9%86%db%8c%d8%a7-%d8%b3%d8%a7%d9%84-%d8%a7%d8%b3%da%a9%d9%88%d9%84-%d8%a8%d9%86%d8%af/
END:VEVENT
BEGIN:VEVENT
DTSTART;TZID=America/New_York:20250205T173000
DTEND;TZID=America/New_York:20250205T190000
DTSTAMP:20260422T180312
CREATED:20240829T181501Z
LAST-MODIFIED:20241126T083414Z
UID:10002192-1738776600-1738782000@ballettech.org
SUMMARY:کثیر الثقافتی عشائیہ (ایلیمنٹری اسکول)
DESCRIPTION:
URL:https://ballettech.org/ur/event/%da%a9%d8%ab%db%8c%d8%b1-%d8%a7%d9%84%d8%ab%d9%82%d8%a7%d9%81%d8%aa%db%8c-%d8%b9%d8%b4%d8%a7%d8%a6%db%8c%db%81-%d8%a7%db%8c%d9%84%db%8c%d9%85%d9%86%d9%b9%d8%b1%db%8c-%d8%a7%d8%b3%da%a9%d9%88%d9%84/
END:VEVENT
BEGIN:VEVENT
DTSTART;TZID=America/New_York:20250206T173000
DTEND;TZID=America/New_York:20250206T190000
DTSTAMP:20260422T180312
CREATED:20240829T181536Z
LAST-MODIFIED:20241126T083418Z
UID:10002201-1738863000-1738868400@ballettech.org
SUMMARY:کثیر الثقافتی عشائیہ (مڈل اسکول)
DESCRIPTION:
URL:https://ballettech.org/ur/event/%da%a9%d8%ab%db%8c%d8%b1-%d8%a7%d9%84%d8%ab%d9%82%d8%a7%d9%81%d8%aa%db%8c-%d8%b9%d8%b4%d8%a7%d8%a6%db%8c%db%81-%d9%85%da%88%d9%84-%d8%a7%d8%b3%da%a9%d9%88%d9%84/
END:VEVENT
BEGIN:VEVENT
DTSTART;TZID=America/New_York:20250213T160000
DTEND;TZID=America/New_York:20250213T170000
DTSTAMP:20260422T180312
CREATED:20240910T214734Z
LAST-MODIFIED:20241126T083307Z
UID:10002001-1739462400-1739466000@ballettech.org
SUMMARY:ایس ایل ٹی کا اجلاس
DESCRIPTION:
URL:https://ballettech.org/ur/event/%d8%a7%db%8c%d8%b3-%d8%a7%db%8c%d9%84-%d9%b9%db%8c-%da%a9%d8%a7-%d8%a7%d8%ac%d9%84%d8%a7%d8%b3-2/
END:VEVENT
BEGIN:VEVENT
DTSTART;TZID=America/New_York:20250213T180000
DTEND;TZID=America/New_York:20250213T193000
DTSTAMP:20260422T180312
CREATED:20240829T181609Z
LAST-MODIFIED:20241126T083417Z
UID:10002200-1739469600-1739475000@ballettech.org
SUMMARY:پی ٹی اے کا اجلاس
DESCRIPTION:
URL:https://ballettech.org/ur/event/%d9%be%db%8c-%d9%b9%db%8c-%d8%a7%db%92-%da%a9%d8%a7-%d8%a7%d8%ac%d9%84%d8%a7%d8%b3-3/
END:VEVENT
BEGIN:VEVENT
DTSTART;TZID=America/New_York:20250217T000000
DTEND;TZID=America/New_York:20250221T235959
DTSTAMP:20260422T180312
CREATED:20240815T221454Z
LAST-MODIFIED:20241126T083524Z
UID:10002418-1739750400-1740182399@ballettech.org
SUMMARY:موسم سرما کے وسط میں اسکول بند
DESCRIPTION:
URL:https://ballettech.org/ur/event/%d9%85%d9%88%d8%b3%d9%85-%d8%b3%d8%b1%d9%85%d8%a7-%da%a9%db%92-%d9%88%d8%b3%d8%b7-%d9%85%db%8c%da%ba-%d8%a7%d8%b3%da%a9%d9%88%d9%84-%d8%a8%d9%86%d8%af/
END:VEVENT
BEGIN:VEVENT
DTSTART;TZID=America/New_York:20250224T000000
DTEND;TZID=America/New_York:20250224T235959
DTSTAMP:20260422T180312
CREATED:20240815T221512Z
LAST-MODIFIED:20241126T083358Z
UID:10002167-1740355200-1740441599@ballettech.org
SUMMARY:کلاسیں دوبارہ شروع
DESCRIPTION:
URL:https://ballettech.org/ur/event/%da%a9%d9%84%d8%a7%d8%b3%db%8c%da%ba-%d8%af%d9%88%d8%a8%d8%a7%d8%b1%db%81-%d8%b4%d8%b1%d9%88%d8%b9/
END:VEVENT
BEGIN:VEVENT
DTSTART;TZID=America/New_York:20250225T110000
DTEND;TZID=America/New_York:20250225T120000
DTSTAMP:20260422T180312
CREATED:20241114T231658Z
LAST-MODIFIED:20241126T083352Z
UID:10002148-1740481200-1740484800@ballettech.org
SUMMARY:اوپن آڈیشنز 2024-25
DESCRIPTION:اوپن آڈیشن 2024-25 اس وقت تیسری جماعت میں داخلہ لینے والے طلباء کے لئے.
URL:https://ballettech.org/ur/event/%d8%a7%d9%88%d9%be%d9%86-%d8%a2%da%88%db%8c%d8%b4%d9%86%d8%b2-2024-25/
CATEGORIES:ایلیمنٹری اسکول آڈیشن
END:VEVENT
BEGIN:VEVENT
DTSTART;TZID=America/New_York:20250305T160000
DTEND;TZID=America/New_York:20250305T190000
DTSTAMP:20260422T180312
CREATED:20240815T221756Z
LAST-MODIFIED:20241126T083544Z
UID:10002486-1741190400-1741201200@ballettech.org
SUMMARY:والدین اور اساتذہ کی کانفرنسیں (شام)
DESCRIPTION:
URL:https://ballettech.org/ur/event/%d9%88%d8%a7%d9%84%d8%af%db%8c%d9%86-%d8%a7%d9%88%d8%b1-%d8%a7%d8%b3%d8%a7%d8%aa%d8%b0%db%81-%da%a9%db%8c-%da%a9%d8%a7%d9%86%d9%81%d8%b1%d9%86%d8%b3%db%8c%da%ba-%d8%b4%d8%a7%d9%85/
END:VEVENT
BEGIN:VEVENT
DTSTART;TZID=America/New_York:20250306T000000
DTEND;TZID=America/New_York:20250306T235959
DTSTAMP:20260422T180312
CREATED:20240815T222012Z
LAST-MODIFIED:20241126T083547Z
UID:10002493-1741219200-1741305599@ballettech.org
SUMMARY:قبل از وقت برطرفی
DESCRIPTION:ابتدائی اسکول کی برخاستگی: صبح 11:35 بجے\nمڈل اسکول برطرفی: صبح 11:40 بجے
URL:https://ballettech.org/ur/event/%d9%82%d8%a8%d9%84-%d8%a7%d8%b2-%d9%88%d9%82%d8%aa-%d8%a8%d8%b1%d8%b7%d8%b1%d9%81%db%8c-2/
END:VEVENT
BEGIN:VEVENT
DTSTART;TZID=America/New_York:20250306T130000
DTEND;TZID=America/New_York:20250306T160000
DTSTAMP:20260422T180312
CREATED:20240815T221938Z
LAST-MODIFIED:20241126T083655Z
UID:10002701-1741266000-1741276800@ballettech.org
SUMMARY:والدین اور اساتذہ کی کانفرنسیں (دوپہر)
DESCRIPTION:
URL:https://ballettech.org/ur/event/%d9%88%d8%a7%d9%84%d8%af%db%8c%d9%86-%d8%a7%d9%88%d8%b1-%d8%a7%d8%b3%d8%a7%d8%aa%d8%b0%db%81-%da%a9%db%8c-%da%a9%d8%a7%d9%86%d9%81%d8%b1%d9%86%d8%b3%db%8c%da%ba-%d8%af%d9%88%d9%be%db%81%d8%b1-2/
END:VEVENT
BEGIN:VEVENT
DTSTART;TZID=America/New_York:20250309T230000
DTEND;TZID=America/New_York:20250314T225959
DTSTAMP:20260422T180312
CREATED:20240829T182451Z
LAST-MODIFIED:20241126T083421Z
UID:10002215-1741561200-1741993199@ballettech.org
SUMMARY:اوپن کلاس ویک (صرف ڈانس کلاسز)
DESCRIPTION:
URL:https://ballettech.org/ur/event/%d8%a7%d9%88%d9%be%d9%86-%da%a9%d9%84%d8%a7%d8%b3-%d9%88%db%8c%da%a9-%d8%b5%d8%b1%d9%81-%da%88%d8%a7%d9%86%d8%b3-%da%a9%d9%84%d8%a7%d8%b3%d8%b2/
END:VEVENT
BEGIN:VEVENT
DTSTART;TZID=America/New_York:20250318T230000
DTEND;TZID=America/New_York:20250319T225959
DTSTAMP:20260422T180312
CREATED:20240829T182616Z
LAST-MODIFIED:20241126T083423Z
UID:10002224-1742338800-1742425199@ballettech.org
SUMMARY:موسم سرما کا آخری دن بیلے پروگرام کا تعارف (بی ٹی فاؤنڈیشن)
DESCRIPTION:
URL:https://ballettech.org/ur/event/%d9%85%d9%88%d8%b3%d9%85-%d8%b3%d8%b1%d9%85%d8%a7-%da%a9%d8%a7-%d8%a2%d8%ae%d8%b1%db%8c-%d8%af%d9%86-%d8%a8%db%8c%d9%84%db%92-%d9%be%d8%b1%d9%88%da%af%d8%b1%d8%a7%d9%85-%da%a9%d8%a7-%d8%aa%d8%b9%d8%a7/
END:VEVENT
END:VCALENDAR